BEGIN:VCALENDAR
VERSION:2.0
PRODID:-//Arts Council for Monterey County - ECPv6.15.14//NONSGML v1.0//EN
CALSCALE:GREGORIAN
METHOD:PUBLISH
X-ORIGINAL-URL:https://arts4mc.org
X-WR-CALDESC:Events for Arts Council for Monterey County
REFRESH-INTERVAL;VALUE=DURATION:PT1H
X-Robots-Tag:noindex
X-PUBLISHED-TTL:PT1H
BEGIN:VTIMEZONE
TZID:America/Los_Angeles
BEGIN:DAYLIGHT
TZOFFSETFROM:-0800
TZOFFSETTO:-0700
TZNAME:PDT
DTSTART:20230312T100000
END:DAYLIGHT
BEGIN:STANDARD
TZOFFSETFROM:-0700
TZOFFSETTO:-0800
TZNAME:PST
DTSTART:20231105T090000
END:STANDARD
BEGIN:DAYLIGHT
TZOFFSETFROM:-0800
TZOFFSETTO:-0700
TZNAME:PDT
DTSTART:20240310T100000
END:DAYLIGHT
BEGIN:STANDARD
TZOFFSETFROM:-0700
TZOFFSETTO:-0800
TZNAME:PST
DTSTART:20241103T090000
END:STANDARD
BEGIN:DAYLIGHT
TZOFFSETFROM:-0800
TZOFFSETTO:-0700
TZNAME:PDT
DTSTART:20250309T100000
END:DAYLIGHT
BEGIN:STANDARD
TZOFFSETFROM:-0700
TZOFFSETTO:-0800
TZNAME:PST
DTSTART:20251102T090000
END:STANDARD
END:VTIMEZONE
BEGIN:VEVENT
DTSTART;TZID=America/Los_Angeles:20241114T183000
DTEND;TZID=America/Los_Angeles:20241114T203000
DTSTAMP:20260423T094625
CREATED:20240828T210542Z
LAST-MODIFIED:20240828T210542Z
UID:10000484-1731609000-1731616200@arts4mc.org
SUMMARY:Baroque & Unknown: Night Four (Featuring The Monterey County Symphony)
DESCRIPTION:NIGHT FOUR: From Baroque to Now. \n\nFeatured Composers: Elisabeth Claude Jacquet de la Guerre\, Belle Von Zuyllen\, and all prior featured composers in series.\n\nPresident & CEO of the Monterey County Symphony\, Nicola Reilly\, joins us as the featured Guest Speaker for the fourth and final night of Baroque & Unknown series\, with Special Guest Composer (TBA). Together the two will chat about their own musical heritage and what it means to move forward as a music organization post-2020.  \n\nSelect members of the Monterey County Symphony will present a brief program of Instrumental works highlighting composers in the series\, while the event will welcome you into the world of Elisabeth-Claude Jacquet de la Guerre and Belle von Zuyllen. Paired food and beverage tastings supplied by local small businesses and seating is especially limited for the series finale. \n\nDate: Thursday\, November 14th\, 2024\nLocation: Wendi Kirby Music\, 550 Hartnell Street\nTime: 6:30PM -8:30PM\nGuest Speaker: Nicola Shangrow Reilly\, President & CEO\, Monterey County Symphony\nArtists: Select members of Monterey County Symphony\nPairings By: Uncle Nearest\, Chic Charcuterique & More!
URL:https://arts4mc.org/event/baroque-unknown-night-four-featuring-the-monterey-county-symphony/
LOCATION:Wendi Kirby Music\, 550 Hartnell Street\, Monterey\, 93940
ATTACH;FMTTYPE=image/jpeg:https://arts4mc.org/wp-content/uploads/2024/08/Baroque-Unknown-Logo-4.jpg
ORGANIZER;CN="The Creative Voice":MAILTO:hello@thecreativevoice.co
END:VEVENT
BEGIN:VEVENT
DTSTART;TZID=America/Los_Angeles:20241101T183000
DTEND;TZID=America/Los_Angeles:20241101T203000
DTSTAMP:20260423T094625
CREATED:20240828T210527Z
LAST-MODIFIED:20240828T210527Z
UID:10000483-1730485800-1730493000@arts4mc.org
SUMMARY:Baroque & Unknown: Night Three (Featuring Stephanie Valadez and The Mecate Ensemble)
DESCRIPTION:NIGHT THREE: Where Are Our Local Composers?\n\nFeatured Composers: Sor Juana Inez De La Cruz\, Isabella Leonarda\, Lady Mary Dering\, and Stephanie Valadez\n\nHow did Baroque music vary by region? Where are our local composers now? Come celebrate Dia De Los Muertos and third night of the Baroque & Unknown series\, as we travel from Italy to England to Mexico to Monterey\, highlighting Isabella Leonarda (1620-1704)\, Lady Mary Dering (1629-1704)\,  Sor La Juana Inez De La Cruz (1651-1695)\, and local living composer\, Stephanie Valadez. \n\nStephanie Valadez\, Executive Director of Xicameri Productions\, will also be our featured Guest Speaker\, sharing insights into both Sor Juan’s life and compositions while finding ties to the Central Coast. We’ll highlight the sole-surviving works of two featured composers and feature a new work from Stephanie’s ensemble\, Mecate. This is going to be a one-night only experience. Paired food and beverage tastings available and seating is limited. \n\nDate: Friday\, November 1\, 2024 \nLocation: Wendi Kirby Music\, 550 Hartnell Street\nTime: 6:30PM – 8:30PM\nGuest Speaker: Stephanie Valadez\nFeatured Artists: Stephanie Valadez & The Mecate Ensemble\nPairings By: Uncle Nearest\, Chic Charcuterique\, and More!
URL:https://arts4mc.org/event/baroque-unknown-night-three-featuring-stephanie-valadez-and-the-mecate-ensemble/
LOCATION:Wendi Kirby Music\, 550 Hartnell Street\, Monterey\, 93940
ATTACH;FMTTYPE=image/jpeg:https://arts4mc.org/wp-content/uploads/2024/08/Baroque-Unknown-Logo-3.jpg
ORGANIZER;CN="The Creative Voice":MAILTO:hello@thecreativevoice.co
END:VEVENT
BEGIN:VEVENT
DTSTART;TZID=America/Los_Angeles:20241017T183000
DTEND;TZID=America/Los_Angeles:20241017T203000
DTSTAMP:20260423T094625
CREATED:20240828T210508Z
LAST-MODIFIED:20240828T210508Z
UID:10000482-1729189800-1729197000@arts4mc.org
SUMMARY:Baroque & Unknown: Night Two (Featuring Musicologist\, Charissa Noble)
DESCRIPTION:NIGHT TWO: Where Are Our Creative Social Circles?\n\nFeatured Composers: Barbara Strozzi and Leonara Duarte\n\nWhere do creative people gather? What local social creative experiences are unknown here in Monterey? Join us for the second night of the Baroque & Unknown series on Thursday\, October 17th\, where Musicologist\, Charissa Noble\, will help us explore the fascinating question: What happens when we decentralize the composer and recognize the inherently social nature of music?\n\nThe evening will take you into the world of a Courtesan and a Converso as we explore the lives and works of Barbara Strozzi (1619-1677) and Leonora Duarte (1610-ca. 1678). Strozzi\, a Venetian composer who studied under Cavalli\, and Duarte\, a composer from a Jewish Portuguese family in Antwerp\, will be spotlighted in this immersive event. Women of The Creative Voice and Wendi Kirby Music\, along with other Surprise Guests will highlight a brief program of Strozzi’s Cantatas\, as we engage in a salon-style conversation on social creativity. Food and beverage tastings provided and seating is limited.\n\nDate: Thursday\, October 17th\, 2024\nLocation: Wendi Kirby Music\, 550 Hartnell Street\nTime: 6:30PM – 8:30PM\nGuest Speaker: Charissa Noble\nFeatured Artists: Women of The Creative Voice & Wendi Kirby Music + Surprise Guests!\nPairings By: Chic Charcuterique and Uncle Nearest and more!
URL:https://arts4mc.org/event/baroque-unknown-night-two-featuring-musicologist-charissa-noble/
LOCATION:Wendi Kirby Music\, 550 Hartnell Street\, Monterey\, 93940
ATTACH;FMTTYPE=image/jpeg:https://arts4mc.org/wp-content/uploads/2024/08/Baroque-Unknown-Logo-2.jpg
ORGANIZER;CN="The Creative Voice":MAILTO:hello@thecreativevoice.co
END:VEVENT
BEGIN:VEVENT
DTSTART;TZID=America/Los_Angeles:20241003T183000
DTEND;TZID=America/Los_Angeles:20241003T203000
DTSTAMP:20260423T094625
CREATED:20240828T210424Z
LAST-MODIFIED:20240828T210424Z
UID:10000481-1727980200-1727987400@arts4mc.org
SUMMARY:Baroque & Unknown: Night One (Featuring The Boulanger Initiative)
DESCRIPTION:NIGHT ONE: \nWhere Are The Women?\n\nFeatured Composers: Raffaella Aleotti & Francesca Caccini\n\nWhere are the women composers in classical music? How can we find\, celebrate\, and uplift them? Join us on Thursday\, October 3rd\, for the kick-off of the Baroque & Unknown series\, featuring Kathryn Radakovich\, Learning and Development Director of The Boulanger Initiative\, as we explore these crucial questions. \n\nOur evening experience will transport you to 15th Century Italy\, highlighting the music and lives of two remarkable composers: Vittoria Raffaella Aleotti (1575-1620) and Francesca Caccini (1587-1640). You’ll learn about Aleotti’s life as a renowned nun and conductor\, and Caccini’s pioneering career at the Medici court as the first Italian woman to compose an opera. Five Women of The Central Coast Chamber Choir will perform these composers’ works in an intimate\, salon-style setting. Plus\, enjoy paired food and beverage tastings from Uncle Nearest and Chic Charcuterique as we immerse ourselves in the unknown. *Seating is limited.\n\nDate: Thursday\, October 3rd\, 2024\nLocation: Wendi Kirby Music\, 550 Hartnell Street\nTime: 6:30PM – 8:30PM\nGuest Speaker: Kathryn Radakovich\, The Boulanger Initiative\nFeatured Artists: Central Coast Chamber Choir\nPairings By: Chic Charcuterique & Uncle Nearest and more!
URL:https://arts4mc.org/event/baroque-unknown-night-one-featuring-the-boulanger-initiative/
LOCATION:Wendi Kirby Music\, 550 Hartnell Street\, Monterey\, 93940
ATTACH;FMTTYPE=image/jpeg:https://arts4mc.org/wp-content/uploads/2024/08/Baroque-Unknown-Logo-1.jpg
ORGANIZER;CN="The Creative Voice":MAILTO:hello@thecreativevoice.co
END:VEVENT
BEGIN:VEVENT
DTSTART;TZID=America/Los_Angeles:20240820T080000
DTEND;TZID=America/Los_Angeles:20240820T170000
DTSTAMP:20260423T094625
CREATED:20240828T210356Z
LAST-MODIFIED:20240828T210356Z
UID:10000480-1724140800-1724173200@arts4mc.org
SUMMARY:Baroque & Unknown: The Pre-Series Book Club
DESCRIPTION:Pre-Series: \nBaroque & Unknown Book Circle\n\nReady to dig into the history of unknown composers in advance of the Baroque & Unknown series events? \n\nRead in tandem with other local music lovers by exploring excerpts from Anna Beer’s book Sounds and Sweet Airs. Sounds and Sweet Airs details the lives of composers Francesca Caccini\, Barbara Strozzi\, Élisabeth Jacquet de la Guerre as well as Marianna Martines\, Fanny Hensel (née Mendelssohn)\, Clara Schumann\, Lili Boulanger and Elizabeth Maconchy. We’ll read the book and meet to discuss before the event series kick-off. \n\nDate: Thursday\, September 26th\, 2024\nLocation: Wendi Kirby Music\, 550 Hartnell Street\nTime: 7:00PM
URL:https://arts4mc.org/event/baroque-unknown-the-pre-series-book-club/
LOCATION:Wendi Kirby Music\, 550 Hartnell Street\, Monterey\, 93940
ATTACH;FMTTYPE=image/jpeg:https://arts4mc.org/wp-content/uploads/2024/08/Baroque-Unknown-Logo.jpg
ORGANIZER;CN="The Creative Voice":MAILTO:hello@thecreativevoice.co
END:VEVENT
END:VCALENDAR