BEGIN:VCALENDAR
VERSION:2.0
PRODID:-//Arts Council for Monterey County - ECPv6.15.14//NONSGML v1.0//EN
CALSCALE:GREGORIAN
METHOD:PUBLISH
X-ORIGINAL-URL:https://arts4mc.org
X-WR-CALDESC:Events for Arts Council for Monterey County
REFRESH-INTERVAL;VALUE=DURATION:PT1H
X-Robots-Tag:noindex
X-PUBLISHED-TTL:PT1H
BEGIN:VTIMEZONE
TZID:America/Los_Angeles
BEGIN:DAYLIGHT
TZOFFSETFROM:-0800
TZOFFSETTO:-0700
TZNAME:PDT
DTSTART:20220313T100000
END:DAYLIGHT
BEGIN:STANDARD
TZOFFSETFROM:-0700
TZOFFSETTO:-0800
TZNAME:PST
DTSTART:20221106T090000
END:STANDARD
BEGIN:DAYLIGHT
TZOFFSETFROM:-0800
TZOFFSETTO:-0700
TZNAME:PDT
DTSTART:20230312T100000
END:DAYLIGHT
BEGIN:STANDARD
TZOFFSETFROM:-0700
TZOFFSETTO:-0800
TZNAME:PST
DTSTART:20231105T090000
END:STANDARD
BEGIN:DAYLIGHT
TZOFFSETFROM:-0800
TZOFFSETTO:-0700
TZNAME:PDT
DTSTART:20240310T100000
END:DAYLIGHT
BEGIN:STANDARD
TZOFFSETFROM:-0700
TZOFFSETTO:-0800
TZNAME:PST
DTSTART:20241103T090000
END:STANDARD
END:VTIMEZONE
BEGIN:VEVENT
DTSTART;TZID=America/Los_Angeles:20231007T193000
DTEND;TZID=America/Los_Angeles:20231007T213000
DTSTAMP:20260425T174134
CREATED:20230701T054928Z
LAST-MODIFIED:20230701T054928Z
UID:10000157-1696707000-1696714200@arts4mc.org
SUMMARY:Monterey Symphony VENTANA Concert
DESCRIPTION:Jayce Ogren\, Music Director and Conductor\nJoshua Roman\, cello \n*********TICKETS ON SALE AUGUST 1\, 2023********* \nTICKETS: $45-$88\nSTUDENTS\, TEACHERS\, ACTIVE DUTY MILITARY: $12 \nPROGRAM:\nGLINKA Overture to Russlan and Ludmilla [Running Time 5′] \nPercy GRAINGER Colonial Song [6′] \nMason BATES Cello Concerto [25′]\nJoshua Roman\, cello \n—intermission [20′]— \nCOPLAND Variations on a Shaker Melody [5′] \nBARTÓK Concerto for Orchestra [30′]
URL:https://arts4mc.org/event/monterey-symphony-ventana-concert/2023-10-07/
LOCATION:Sunset Center\, San Carlos St at Ninth Ave\, Carmel by the Sea\, CA\, 93921
ATTACH;FMTTYPE=image/jpeg:https://arts4mc.org/wp-content/uploads/2023/06/MSO-2023_24-SEASON-800X800-OCT.jpg
ORGANIZER;CN="Monterey Symphony":MAILTO:info@montereysymphony.org
GEO:36.5513147;-121.9218091
X-APPLE-STRUCTURED-LOCATION;VALUE=URI;X-ADDRESS=Sunset Center San Carlos St at Ninth Ave Carmel by the Sea CA 93921;X-APPLE-RADIUS=500;X-TITLE=San Carlos St at Ninth Ave:geo:-121.9218091,36.5513147
END:VEVENT
BEGIN:VEVENT
DTSTART;TZID=America/Los_Angeles:20230629T080000
DTEND;TZID=America/Los_Angeles:20230629T170000
DTSTAMP:20260425T174134
CREATED:20230701T055000Z
LAST-MODIFIED:20230701T055000Z
UID:10000171-1688025600-1688058000@arts4mc.org
SUMMARY:Monterey Symphony PINNACLES Concert
DESCRIPTION:Jayce Ogren\, Music Director and Conductor \n*********TICKETS ON SALE AUGUST 1\, 2023********* \nTICKETS: $45-$88\nSTUDENTS\, TEACHERS\, ACTIVE DUTY MILITARY: $12 \nPROGRAM: \nMAHLER Symphony No. 5 [Running Time 65′]
URL:https://arts4mc.org/event/monterey-symphony-pinnacles-concert/2023-06-29/
LOCATION:Sunset Center\, San Carlos St at Ninth Ave\, Carmel by the Sea\, CA\, 93921
ATTACH;FMTTYPE=image/jpeg:https://arts4mc.org/wp-content/uploads/2023/06/MSO-2023_24-SEASON-800X800-MAY.jpg
ORGANIZER;CN="Monterey Symphony":MAILTO:info@montereysymphony.org
GEO:36.5513147;-121.9218091
X-APPLE-STRUCTURED-LOCATION;VALUE=URI;X-ADDRESS=Sunset Center San Carlos St at Ninth Ave Carmel by the Sea CA 93921;X-APPLE-RADIUS=500;X-TITLE=San Carlos St at Ninth Ave:geo:-121.9218091,36.5513147
END:VEVENT
BEGIN:VEVENT
DTSTART;TZID=America/Los_Angeles:20230629T080000
DTEND;TZID=America/Los_Angeles:20230629T170000
DTSTAMP:20260425T174134
CREATED:20230701T054946Z
LAST-MODIFIED:20230701T054946Z
UID:10000168-1688025600-1688058000@arts4mc.org
SUMMARY:Monterey Symphony LOMA PRIETA Concert
DESCRIPTION:Jayce Ogren\, Music Director and Conductor \nSean Panikkar\, tenor\nDan Nebel\, horn \n*********TICKETS ON SALE AUGUST 1\, 2023********* \nTICKETS: $45-$88\nSTUDENTS\, TEACHERS\, ACTIVE DUTY MILITARY: $12 \nPROGRAM:\nAdolphus HAILSTORK Epitaph to a Man Who Dreamed [Running Time 7′] \nBRITTEN Serenade for Tenor\, Horn and Strings [25′]\nSean Panikkar\, tenor\nDan Nebel\, horn \n—intermission [20′]— \nArvo PÄRT Cantus in Memory of Benjamin Britten [6′] \nVAUGHAN WILLIAMS Symphony No. 3\, Pastoral [34′]
URL:https://arts4mc.org/event/monterey-symphony-loma-prieta-concert/2023-06-29/
LOCATION:Sunset Center\, San Carlos St at Ninth Ave\, Carmel by the Sea\, CA\, 93921
ATTACH;FMTTYPE=image/jpeg:https://arts4mc.org/wp-content/uploads/2023/06/MSO-2023_24-SEASON-800X800-APR.jpg
ORGANIZER;CN="Monterey Symphony":MAILTO:info@montereysymphony.org
GEO:36.5513147;-121.9218091
X-APPLE-STRUCTURED-LOCATION;VALUE=URI;X-ADDRESS=Sunset Center San Carlos St at Ninth Ave Carmel by the Sea CA 93921;X-APPLE-RADIUS=500;X-TITLE=San Carlos St at Ninth Ave:geo:-121.9218091,36.5513147
END:VEVENT
BEGIN:VEVENT
DTSTART;TZID=America/Los_Angeles:20230629T080000
DTEND;TZID=America/Los_Angeles:20230629T170000
DTSTAMP:20260425T174134
CREATED:20230701T054935Z
LAST-MODIFIED:20230701T054935Z
UID:10000162-1688025600-1688058000@arts4mc.org
SUMMARY:Monterey Symphony PALO CORONA Concert
DESCRIPTION:Jayce Ogren\, Music Director and Conductor\nLara Downes\, piano \n*********TICKETS ON SALE AUGUST 1\, 2023********* \nTICKETS: $45-$88\nSTUDENTS\, TEACHERS\, ACTIVE DUTY MILITARY: $12 \nPROGRAM:\nWEBER Overture to Der Freischutz [Running Time 9′] \nJohn WINEGLASS Concerto for Piano and Orchestra [20′]\nLara Downes\, piano \n—intermission [20′]— \nJennifer HIGDON Blue Cathedral [12′] \nBEETHOVEN Symphony No. 7 [30′]
URL:https://arts4mc.org/event/monterey-symphony-palo-corona-concert/2023-06-29/
LOCATION:Sunset Center\, San Carlos St at Ninth Ave\, Carmel by the Sea\, CA\, 93921
ATTACH;FMTTYPE=image/jpeg:https://arts4mc.org/wp-content/uploads/2023/06/MSO-2023_24-SEASON-800X800-FEB.jpg
ORGANIZER;CN="Monterey Symphony":MAILTO:info@montereysymphony.org
GEO:36.5513147;-121.9218091
X-APPLE-STRUCTURED-LOCATION;VALUE=URI;X-ADDRESS=Sunset Center San Carlos St at Ninth Ave Carmel by the Sea CA 93921;X-APPLE-RADIUS=500;X-TITLE=San Carlos St at Ninth Ave:geo:-121.9218091,36.5513147
END:VEVENT
BEGIN:VEVENT
DTSTART;TZID=America/Los_Angeles:20230629T080000
DTEND;TZID=America/Los_Angeles:20230629T170000
DTSTAMP:20260425T174134
CREATED:20230701T054932Z
LAST-MODIFIED:20230701T054932Z
UID:10000165-1688025600-1688058000@arts4mc.org
SUMMARY:Monterey Symphony SANTA LUCIA Concert
DESCRIPTION:Jayce Ogren\, Music Director and Conductor\nOrli Shaham\, piano \n*********TICKETS ON SALE AUGUST 1\, 2023********* \nTICKETS: $45-$88\nSTUDENTS\, TEACHERS\, ACTIVE DUTY MILITARY: $12 \nPROGRAM:\nMOZART Overture to Don Giovanni [Running Time 7′] \nDavid ROBERTSON Light Forming (West Coast premiere) [21′]\nOrli Shaham\, piano \n—intermission— \nGeorge WALKER Lyric for Strings [6′] \nMOZART Piano Concerto No. 20 in D minor\, K. 466 [30′]\nOrli Shaham\, piano
URL:https://arts4mc.org/event/monterey-symphony-santa-lucia-concert/2023-06-29/
LOCATION:Sunset Center\, San Carlos St at Ninth Ave\, Carmel by the Sea\, CA\, 93921
ATTACH;FMTTYPE=image/jpeg:https://arts4mc.org/wp-content/uploads/2023/06/MSO-2023_24-SEASON-800X800-MAR.jpg
ORGANIZER;CN="Monterey Symphony":MAILTO:info@montereysymphony.org
GEO:36.5513147;-121.9218091
X-APPLE-STRUCTURED-LOCATION;VALUE=URI;X-ADDRESS=Sunset Center San Carlos St at Ninth Ave Carmel by the Sea CA 93921;X-APPLE-RADIUS=500;X-TITLE=San Carlos St at Ninth Ave:geo:-121.9218091,36.5513147
END:VEVENT
BEGIN:VEVENT
DTSTART;TZID=America/Los_Angeles:20230629T080000
DTEND;TZID=America/Los_Angeles:20230629T170000
DTSTAMP:20260425T174134
CREATED:20230701T054927Z
LAST-MODIFIED:20230701T054927Z
UID:10000159-1688025600-1688058000@arts4mc.org
SUMMARY:Monterey Symphony PFEIFFER Concert
DESCRIPTION:Andrew Grams\, Guest Conductor\nChristina Mok\, violin \n*********TICKETS ON SALE AUGUST 1\, 2023********* \nTICKETS: $45-$88\nSTUDENTS\, TEACHERS\, ACTIVE DUTY MILITARY: $12 \nPROGRAM:\nAnna CLYNE Pivot [Running Time 6′] \nLISZT Les Preludes [16′] \n—intermission [20′] — \nBRAHMS Violin Concerto [38′]\nChristina Mok\, violin
URL:https://arts4mc.org/event/monterey-symphony-pfeiffer-concert/2023-06-29/
LOCATION:Sunset Center\, San Carlos St at Ninth Ave\, Carmel by the Sea\, CA\, 93921
ATTACH;FMTTYPE=image/jpeg:https://arts4mc.org/wp-content/uploads/2023/06/MSO-2023_24-SEASON-800X800-NOV.jpg
ORGANIZER;CN="Monterey Symphony":MAILTO:info@montereysymphony.org
GEO:36.5513147;-121.9218091
X-APPLE-STRUCTURED-LOCATION;VALUE=URI;X-ADDRESS=Sunset Center San Carlos St at Ninth Ave Carmel by the Sea CA 93921;X-APPLE-RADIUS=500;X-TITLE=San Carlos St at Ninth Ave:geo:-121.9218091,36.5513147
END:VEVENT
BEGIN:VEVENT
DTSTART;TZID=America/Los_Angeles:20230520T203000
DTEND;TZID=America/Los_Angeles:20230520T213000
DTSTAMP:20260425T174134
CREATED:20230404T190131Z
LAST-MODIFIED:20230404T190131Z
UID:10000046-1684614600-1684618200@arts4mc.org
SUMMARY:Monterey Symphony Elemental Concerts
DESCRIPTION:Concert Program:\nJohn WINEGLASS Concerto for Violin and Orchestra [Running Time 18’] – Edwin Huizinga\, violin \n—intermission [20’]— \nRAVEL Daphnis and Chloé [50’]
URL:https://arts4mc.org/event/monterey-symphony-elemental-concerts/2023-05-20/
LOCATION:Sunset Center\, San Carlos St at Ninth Ave\, Carmel by the Sea\, CA\, 93921
ATTACH;FMTTYPE=image/jpeg:https://arts4mc.org/wp-content/uploads/2023/04/MSO_22_23-Season-Art_800x800-MAY.jpg
ORGANIZER;CN="Monterey Symphony":MAILTO:info@montereysymphony.org
GEO:36.5513147;-121.9218091
X-APPLE-STRUCTURED-LOCATION;VALUE=URI;X-ADDRESS=Sunset Center San Carlos St at Ninth Ave Carmel by the Sea CA 93921;X-APPLE-RADIUS=500;X-TITLE=San Carlos St at Ninth Ave:geo:-121.9218091,36.5513147
END:VEVENT
BEGIN:VEVENT
DTSTART;TZID=America/Los_Angeles:20230423T150000
DTEND;TZID=America/Los_Angeles:20230423T170000
DTSTAMP:20260425T174134
CREATED:20230404T190131Z
LAST-MODIFIED:20230404T190131Z
UID:10000045-1682262000-1682269200@arts4mc.org
SUMMARY:Monterey Symphony Elemental Concerts
DESCRIPTION:Concert Program:\nJohn WINEGLASS Concerto for Violin and Orchestra [Running Time 18’] – Edwin Huizinga\, violin \n—intermission [20’]— \nRAVEL Daphnis and Chloé [50’]
URL:https://arts4mc.org/event/monterey-symphony-elemental-concerts/2023-04-23/
LOCATION:Sunset Center\, San Carlos St at Ninth Ave\, Carmel by the Sea\, CA\, 93921
ATTACH;FMTTYPE=image/jpeg:https://arts4mc.org/wp-content/uploads/2023/04/MSO_22_23-Season-Art_800x800-MAY.jpg
ORGANIZER;CN="Monterey Symphony":MAILTO:info@montereysymphony.org
GEO:36.5513147;-121.9218091
X-APPLE-STRUCTURED-LOCATION;VALUE=URI;X-ADDRESS=Sunset Center San Carlos St at Ninth Ave Carmel by the Sea CA 93921;X-APPLE-RADIUS=500;X-TITLE=San Carlos St at Ninth Ave:geo:-121.9218091,36.5513147
END:VEVENT
BEGIN:VEVENT
DTSTART;TZID=America/Los_Angeles:20230423T150000
DTEND;TZID=America/Los_Angeles:20230423T170000
DTSTAMP:20260425T174134
CREATED:20230404T190126Z
LAST-MODIFIED:20230404T190126Z
UID:10000043-1682262000-1682269200@arts4mc.org
SUMMARY:Monterey Symphony Ethereal Concerts
DESCRIPTION:Concert Program:\nSIBELIUS Violin Concerto [Running Time 31’] – Tessa Lark\, violin \n—intermission [20’]— \nSIBELIUS Symphony No. 2 [43’]
URL:https://arts4mc.org/event/monterey-symphony-ethereal-concerts/2023-04-23/
LOCATION:Sunset Center\, San Carlos St at Ninth Ave\, Carmel by the Sea\, CA\, 93921
ATTACH;FMTTYPE=image/jpeg:https://arts4mc.org/wp-content/uploads/2023/04/MSO_22_23-Season-Art_800x800-APR.jpg
ORGANIZER;CN="Monterey Symphony":MAILTO:info@montereysymphony.org
GEO:36.5513147;-121.9218091
X-APPLE-STRUCTURED-LOCATION;VALUE=URI;X-ADDRESS=Sunset Center San Carlos St at Ninth Ave Carmel by the Sea CA 93921;X-APPLE-RADIUS=500;X-TITLE=San Carlos St at Ninth Ave:geo:-121.9218091,36.5513147
END:VEVENT
BEGIN:VEVENT
DTSTART;TZID=America/Los_Angeles:20230422T203000
DTEND;TZID=America/Los_Angeles:20230422T213000
DTSTAMP:20260425T174134
CREATED:20230404T190126Z
LAST-MODIFIED:20230404T190126Z
UID:10000042-1682195400-1682199000@arts4mc.org
SUMMARY:Monterey Symphony Ethereal Concerts
DESCRIPTION:Concert Program:\nSIBELIUS Violin Concerto [Running Time 31’] – Tessa Lark\, violin \n—intermission [20’]— \nSIBELIUS Symphony No. 2 [43’]
URL:https://arts4mc.org/event/monterey-symphony-ethereal-concerts/2023-04-22/2/
LOCATION:Sunset Center\, San Carlos St at Ninth Ave\, Carmel by the Sea\, CA\, 93921
ATTACH;FMTTYPE=image/jpeg:https://arts4mc.org/wp-content/uploads/2023/04/MSO_22_23-Season-Art_800x800-APR.jpg
ORGANIZER;CN="Monterey Symphony":MAILTO:info@montereysymphony.org
GEO:36.5513147;-121.9218091
X-APPLE-STRUCTURED-LOCATION;VALUE=URI;X-ADDRESS=Sunset Center San Carlos St at Ninth Ave Carmel by the Sea CA 93921;X-APPLE-RADIUS=500;X-TITLE=San Carlos St at Ninth Ave:geo:-121.9218091,36.5513147
END:VEVENT
BEGIN:VEVENT
DTSTART;TZID=America/Los_Angeles:20230422T193000
DTEND;TZID=America/Los_Angeles:20230422T213000
DTSTAMP:20260425T174134
CREATED:20230404T190126Z
LAST-MODIFIED:20230404T190126Z
UID:10000041-1682191800-1682199000@arts4mc.org
SUMMARY:Monterey Symphony Ethereal Concerts
DESCRIPTION:Concert Program:\nSIBELIUS Violin Concerto [Running Time 31’] – Tessa Lark\, violin \n—intermission [20’]— \nSIBELIUS Symphony No. 2 [43’]
URL:https://arts4mc.org/event/monterey-symphony-ethereal-concerts/2023-04-22/1/
LOCATION:Sunset Center\, San Carlos St at Ninth Ave\, Carmel by the Sea\, CA\, 93921
ATTACH;FMTTYPE=image/jpeg:https://arts4mc.org/wp-content/uploads/2023/04/MSO_22_23-Season-Art_800x800-APR.jpg
ORGANIZER;CN="Monterey Symphony":MAILTO:info@montereysymphony.org
GEO:36.5513147;-121.9218091
X-APPLE-STRUCTURED-LOCATION;VALUE=URI;X-ADDRESS=Sunset Center San Carlos St at Ninth Ave Carmel by the Sea CA 93921;X-APPLE-RADIUS=500;X-TITLE=San Carlos St at Ninth Ave:geo:-121.9218091,36.5513147
END:VEVENT
BEGIN:VEVENT
DTSTART;TZID=America/Los_Angeles:20230404T080000
DTEND;TZID=America/Los_Angeles:20230404T170000
DTSTAMP:20260425T174134
CREATED:20230404T190131Z
LAST-MODIFIED:20230404T190131Z
UID:10000044-1680595200-1680627600@arts4mc.org
SUMMARY:Monterey Symphony Elemental Concerts
DESCRIPTION:Concert Program:\nJohn WINEGLASS Concerto for Violin and Orchestra [Running Time 18’] – Edwin Huizinga\, violin \n—intermission [20’]— \nRAVEL Daphnis and Chloé [50’]
URL:https://arts4mc.org/event/monterey-symphony-elemental-concerts/2023-04-04/
LOCATION:Sunset Center\, San Carlos St at Ninth Ave\, Carmel by the Sea\, CA\, 93921
ATTACH;FMTTYPE=image/jpeg:https://arts4mc.org/wp-content/uploads/2023/04/MSO_22_23-Season-Art_800x800-MAY.jpg
ORGANIZER;CN="Monterey Symphony":MAILTO:info@montereysymphony.org
GEO:36.5513147;-121.9218091
X-APPLE-STRUCTURED-LOCATION;VALUE=URI;X-ADDRESS=Sunset Center San Carlos St at Ninth Ave Carmel by the Sea CA 93921;X-APPLE-RADIUS=500;X-TITLE=San Carlos St at Ninth Ave:geo:-121.9218091,36.5513147
END:VEVENT
END:VCALENDAR