BEGIN:VCALENDAR
VERSION:2.0
PRODID:-//Arts Council for Monterey County - ECPv6.15.14//NONSGML v1.0//EN
CALSCALE:GREGORIAN
METHOD:PUBLISH
X-WR-CALNAME:Arts Council for Monterey County
X-ORIGINAL-URL:https://arts4mc.org
X-WR-CALDESC:Events for Arts Council for Monterey County
REFRESH-INTERVAL;VALUE=DURATION:PT1H
X-Robots-Tag:noindex
X-PUBLISHED-TTL:PT1H
BEGIN:VTIMEZONE
TZID:America/Los_Angeles
BEGIN:DAYLIGHT
TZOFFSETFROM:-0800
TZOFFSETTO:-0700
TZNAME:PDT
DTSTART:20230312T100000
END:DAYLIGHT
BEGIN:STANDARD
TZOFFSETFROM:-0700
TZOFFSETTO:-0800
TZNAME:PST
DTSTART:20231105T090000
END:STANDARD
BEGIN:DAYLIGHT
TZOFFSETFROM:-0800
TZOFFSETTO:-0700
TZNAME:PDT
DTSTART:20240310T100000
END:DAYLIGHT
BEGIN:STANDARD
TZOFFSETFROM:-0700
TZOFFSETTO:-0800
TZNAME:PST
DTSTART:20241103T090000
END:STANDARD
BEGIN:DAYLIGHT
TZOFFSETFROM:-0800
TZOFFSETTO:-0700
TZNAME:PDT
DTSTART:20250309T100000
END:DAYLIGHT
BEGIN:STANDARD
TZOFFSETFROM:-0700
TZOFFSETTO:-0800
TZNAME:PST
DTSTART:20251102T090000
END:STANDARD
END:VTIMEZONE
BEGIN:VEVENT
DTSTART;TZID=America/Los_Angeles:20240728T090000
DTEND;TZID=America/Los_Angeles:20240728T110000
DTSTAMP:20260423T135232
CREATED:20240627T164302Z
LAST-MODIFIED:20240627T164302Z
UID:10000452-1722157200-1722164400@arts4mc.org
SUMMARY:Sketching Birds in the Field
DESCRIPTION:Join artist and naturalist Morgan Lewis of Ripple in the Wild/Monterey Bay Field Sketch Club for a morning of sketching shorebirds in Moss Landing. Birds provide a unique and often challenging subject\, they rarely sit still for very long! This two hour workshop will cover all the basics to get you started sketching birds in the field and in your nature journal.\n\nField sketching improves your memory recall\, your attention to detail\, and your bird ID skills.\n\nInstruction will be geared towards beginner field sketchers\, but still great for all skill levels. Binoculars will be available to borrow. Warm drinks and baked goods will also be provided at the beginning of the class\, please bring a reusable cup if you would like a beverage.\n\nAges 16 and up.\n\nPre-registration is required and will remain open until filled or until July 26th at 11:30pm.\n\nPlease bring your own materials\, sketching materials will not be provided (see event page for what to bring).
URL:https://arts4mc.org/event/sketching-birds-in-the-field/
LOCATION:Jetty Road\, Moss Landing
ATTACH;FMTTYPE=image/jpeg:https://arts4mc.org/wp-content/uploads/2024/06/IMG_2058.jpg
ORGANIZER;CN="Ripple in the Wild":MAILTO:rippleinthewild@gmail.com
END:VEVENT
END:VCALENDAR