BEGIN:VCALENDAR
VERSION:2.0
PRODID:-//Arts Council for Monterey County - ECPv6.15.14//NONSGML v1.0//EN
CALSCALE:GREGORIAN
METHOD:PUBLISH
X-ORIGINAL-URL:https://arts4mc.org
X-WR-CALDESC:Events for Arts Council for Monterey County
REFRESH-INTERVAL;VALUE=DURATION:PT1H
X-Robots-Tag:noindex
X-PUBLISHED-TTL:PT1H
BEGIN:VTIMEZONE
TZID:America/Los_Angeles
BEGIN:DAYLIGHT
TZOFFSETFROM:-0800
TZOFFSETTO:-0700
TZNAME:PDT
DTSTART:20220313T100000
END:DAYLIGHT
BEGIN:STANDARD
TZOFFSETFROM:-0700
TZOFFSETTO:-0800
TZNAME:PST
DTSTART:20221106T090000
END:STANDARD
BEGIN:DAYLIGHT
TZOFFSETFROM:-0800
TZOFFSETTO:-0700
TZNAME:PDT
DTSTART:20230312T100000
END:DAYLIGHT
BEGIN:STANDARD
TZOFFSETFROM:-0700
TZOFFSETTO:-0800
TZNAME:PST
DTSTART:20231105T090000
END:STANDARD
BEGIN:DAYLIGHT
TZOFFSETFROM:-0800
TZOFFSETTO:-0700
TZNAME:PDT
DTSTART:20240310T100000
END:DAYLIGHT
BEGIN:STANDARD
TZOFFSETFROM:-0700
TZOFFSETTO:-0800
TZNAME:PST
DTSTART:20241103T090000
END:STANDARD
BEGIN:DAYLIGHT
TZOFFSETFROM:-0800
TZOFFSETTO:-0700
TZNAME:PDT
DTSTART:20250309T100000
END:DAYLIGHT
BEGIN:STANDARD
TZOFFSETFROM:-0700
TZOFFSETTO:-0800
TZNAME:PST
DTSTART:20251102T090000
END:STANDARD
BEGIN:DAYLIGHT
TZOFFSETFROM:-0800
TZOFFSETTO:-0700
TZNAME:PDT
DTSTART:20260308T100000
END:DAYLIGHT
BEGIN:STANDARD
TZOFFSETFROM:-0700
TZOFFSETTO:-0800
TZNAME:PST
DTSTART:20261101T090000
END:STANDARD
END:VTIMEZONE
BEGIN:VEVENT
DTSTART;TZID=America/Los_Angeles:20251107T190000
DTEND;TZID=America/Los_Angeles:20251107T210000
DTSTAMP:20260419T181550
CREATED:20251014T165051Z
LAST-MODIFIED:20251014T165051Z
UID:10002962-1762542000-1762549200@arts4mc.org
SUMMARY:Controlled Chaos Improv at the Indoor Forest Theatre
DESCRIPTION:Looking for a night of laughs and surprises? Come check out Controlled Chaos Improv at the Indoor Forest Theatre! Watch our improvisers create hilarious scenes on the spot based entirely on your suggestions. Don’t miss the chance to experience the magic of improv–every show is different and the laughter is guaranteed.
URL:https://arts4mc.org/event/controlled-chaos-improv-at-the-indoor-forest-theatre/
LOCATION:Indoor Forest Theatre\, Carmel
ATTACH;FMTTYPE=image/jpeg:https://arts4mc.org/wp-content/uploads/2025/10/Starfish-Controlled-Chaos--scaled.jpeg
ORGANIZER;CN="Comedy Variety Showcase":MAILTO:comedyvarietyshowcase@gmail.com
END:VEVENT
BEGIN:VEVENT
DTSTART;TZID=America/Los_Angeles:20230413T173000
DTEND;TZID=America/Los_Angeles:20230416T193000
DTSTAMP:20260419T181550
CREATED:20230313T170320Z
LAST-MODIFIED:20230313T170320Z
UID:10000025-1681407000-1681673400@arts4mc.org
SUMMARY:What the Constitution Means to Me
DESCRIPTION:A Hilarious\, Hopeful and Achingly Human New Play… \n\n\n\nBook by Heidi SchreckDirected by Stephen Moorer \n\n\n\nMar 16 – Apr 16\, 2023 7:30PM Thurs-Sat and 5:00PM Sunday MatineesIndoor Forest Theatre\, Carmel \n\n\n\nPlaywright Heidi Schreck’s boundary-breaking play breathes new life into our Constitution and imagines how it will shape the next generation of Americans. Heidi earned her college tuition by winning Constitutional debate competitions across the United States. \n\n\n\nIn this play\, she resurrects her 15 year old teenage self in order to trace the profound relationship between four generations of women and the founding document that shaped their lives. \n\n\n\nWinner! 2019 Obie Award\, Best New American PlayWinner! 2019 New York Drama Critics’ Circle Award\, Best American PlayWinner! 2019 Off-Broadway Alliance Award\, Best New Play
URL:https://arts4mc.org/event/what-the-constitution-means-to-me-8/
LOCATION:Indoor Forest Theatre\, Carmel
ATTACH;FMTTYPE=image/jpeg:https://arts4mc.org/wp-content/uploads/2023/03/WhatTheConstitutionMeansToMe.jpg
ORGANIZER;CN="PacRep Theatre":MAILTO:contact@pacrep.org
END:VEVENT
BEGIN:VEVENT
DTSTART;TZID=America/Los_Angeles:20230406T173000
DTEND;TZID=America/Los_Angeles:20230409T193000
DTSTAMP:20260419T181550
CREATED:20230313T170208Z
LAST-MODIFIED:20230313T170208Z
UID:10000024-1680802200-1681068600@arts4mc.org
SUMMARY:What the Constitution Means to Me
DESCRIPTION:A Hilarious\, Hopeful and Achingly Human New Play… \n\n\n\nBook by Heidi SchreckDirected by Stephen Moorer \n\n\n\nMar 16 – Apr 16\, 2023 7:30PM Thurs-Sat and 5:00PM Sunday MatineesIndoor Forest Theatre\, Carmel \n\n\n\nPlaywright Heidi Schreck’s boundary-breaking play breathes new life into our Constitution and imagines how it will shape the next generation of Americans. Heidi earned her college tuition by winning Constitutional debate competitions across the United States. \n\n\n\nIn this play\, she resurrects her 15 year old teenage self in order to trace the profound relationship between four generations of women and the founding document that shaped their lives. \n\n\n\nWinner! 2019 Obie Award\, Best New American PlayWinner! 2019 New York Drama Critics’ Circle Award\, Best American PlayWinner! 2019 Off-Broadway Alliance Award\, Best New Play
URL:https://arts4mc.org/event/what-the-constitution-means-to-me-7/
LOCATION:Indoor Forest Theatre\, Carmel
ATTACH;FMTTYPE=image/jpeg:https://arts4mc.org/wp-content/uploads/2023/03/WhatTheConstitutionMeansToMe.jpg
ORGANIZER;CN="PacRep Theatre":MAILTO:contact@pacrep.org
END:VEVENT
BEGIN:VEVENT
DTSTART;TZID=America/Los_Angeles:20230330T173000
DTEND;TZID=America/Los_Angeles:20230402T193000
DTSTAMP:20260419T181550
CREATED:20230313T170114Z
LAST-MODIFIED:20230313T170114Z
UID:10000023-1680197400-1680463800@arts4mc.org
SUMMARY:What the Constitution Means to Me
DESCRIPTION:A Hilarious\, Hopeful and Achingly Human New Play… \n\n\n\nBook by Heidi SchreckDirected by Stephen Moorer \n\n\n\nMar 16 – Apr 16\, 2023 7:30PM Thurs-Sat and 5:00PM Sunday MatineesIndoor Forest Theatre\, Carmel \n\n\n\nPlaywright Heidi Schreck’s boundary-breaking play breathes new life into our Constitution and imagines how it will shape the next generation of Americans. Heidi earned her college tuition by winning Constitutional debate competitions across the United States. \n\n\n\nIn this play\, she resurrects her 15 year old teenage self in order to trace the profound relationship between four generations of women and the founding document that shaped their lives. \n\n\n\nWinner! 2019 Obie Award\, Best New American PlayWinner! 2019 New York Drama Critics’ Circle Award\, Best American PlayWinner! 2019 Off-Broadway Alliance Award\, Best New Play
URL:https://arts4mc.org/event/what-the-constitution-means-to-me-6/
LOCATION:Indoor Forest Theatre\, Carmel
ATTACH;FMTTYPE=image/jpeg:https://arts4mc.org/wp-content/uploads/2023/03/WhatTheConstitutionMeansToMe.jpg
ORGANIZER;CN="PacRep Theatre":MAILTO:contact@pacrep.org
END:VEVENT
BEGIN:VEVENT
DTSTART;TZID=America/Los_Angeles:20230323T173000
DTEND;TZID=America/Los_Angeles:20230326T193000
DTSTAMP:20260419T181550
CREATED:20230313T165758Z
LAST-MODIFIED:20230313T165758Z
UID:10000022-1679592600-1679859000@arts4mc.org
SUMMARY:What the Constitution Means to Me
DESCRIPTION:A Hilarious\, Hopeful and Achingly Human New Play… \n\n\n\nBook by Heidi SchreckDirected by Stephen Moorer \n\n\n\nMar 16 – Apr 16\, 2023 7:30PM Thurs-Sat and 5:00PM Sunday MatineesIndoor Forest Theatre\, Carmel \n\n\n\nPlaywright Heidi Schreck’s boundary-breaking play breathes new life into our Constitution and imagines how it will shape the next generation of Americans. Heidi earned her college tuition by winning Constitutional debate competitions across the United States. \n\n\n\nIn this play\, she resurrects her 15 year old teenage self in order to trace the profound relationship between four generations of women and the founding document that shaped their lives. \n\n\n\nWinner! 2019 Obie Award\, Best New American PlayWinner! 2019 New York Drama Critics’ Circle Award\, Best American PlayWinner! 2019 Off-Broadway Alliance Award\, Best New Play
URL:https://arts4mc.org/event/what-the-constitution-means-to-me-5/
LOCATION:Indoor Forest Theatre\, Carmel
ATTACH;FMTTYPE=image/jpeg:https://arts4mc.org/wp-content/uploads/2023/03/WhatTheConstitutionMeansToMe.jpg
ORGANIZER;CN="PacRep Theatre":MAILTO:contact@pacrep.org
END:VEVENT
BEGIN:VEVENT
DTSTART;TZID=America/Los_Angeles:20230316T173000
DTEND;TZID=America/Los_Angeles:20230319T193000
DTSTAMP:20260419T181550
CREATED:20230313T164023Z
LAST-MODIFIED:20230313T164023Z
UID:10000021-1678987800-1679254200@arts4mc.org
SUMMARY:What the Constitution Means to Me
DESCRIPTION:A Hilarious\, Hopeful and Achingly Human New Play… \n\n\n\nBook by Heidi SchreckDirected by Stephen Moorer \n\n\n\nMar 16 – Apr 16\, 2023 7:30PM Thurs-Sat and 5:00PM Sunday MatineesIndoor Forest Theatre\, Carmel \n\n\n\nPlaywright Heidi Schreck’s boundary-breaking play breathes new life into our Constitution and imagines how it will shape the next generation of Americans. Heidi earned her college tuition by winning Constitutional debate competitions across the United States. \n\n\n\nIn this play\, she resurrects her 15 year old teenage self in order to trace the profound relationship between four generations of women and the founding document that shaped their lives. \n\n\n\nWinner! 2019 Obie Award\, Best New American PlayWinner! 2019 New York Drama Critics’ Circle Award\, Best American PlayWinner! 2019 Off-Broadway Alliance Award\, Best New Play
URL:https://arts4mc.org/event/what-the-constitution-means-to-me/
LOCATION:Indoor Forest Theatre\, Carmel
ATTACH;FMTTYPE=image/jpeg:https://arts4mc.org/wp-content/uploads/2023/03/WhatTheConstitutionMeansToMe.jpg
ORGANIZER;CN="PacRep Theatre":MAILTO:contact@pacrep.org
END:VEVENT
END:VCALENDAR