BEGIN:VCALENDAR
VERSION:2.0
PRODID:-//Arts Council for Monterey County - ECPv6.15.14//NONSGML v1.0//EN
CALSCALE:GREGORIAN
METHOD:PUBLISH
X-WR-CALNAME:Arts Council for Monterey County
X-ORIGINAL-URL:https://arts4mc.org
X-WR-CALDESC:Events for Arts Council for Monterey County
REFRESH-INTERVAL;VALUE=DURATION:PT1H
X-Robots-Tag:noindex
X-PUBLISHED-TTL:PT1H
BEGIN:VTIMEZONE
TZID:America/Los_Angeles
BEGIN:DAYLIGHT
TZOFFSETFROM:-0800
TZOFFSETTO:-0700
TZNAME:PDT
DTSTART:20250309T100000
END:DAYLIGHT
BEGIN:STANDARD
TZOFFSETFROM:-0700
TZOFFSETTO:-0800
TZNAME:PST
DTSTART:20251102T090000
END:STANDARD
BEGIN:DAYLIGHT
TZOFFSETFROM:-0800
TZOFFSETTO:-0700
TZNAME:PDT
DTSTART:20260308T100000
END:DAYLIGHT
BEGIN:STANDARD
TZOFFSETFROM:-0700
TZOFFSETTO:-0800
TZNAME:PST
DTSTART:20261101T090000
END:STANDARD
BEGIN:DAYLIGHT
TZOFFSETFROM:-0800
TZOFFSETTO:-0700
TZNAME:PDT
DTSTART:20270314T100000
END:DAYLIGHT
BEGIN:STANDARD
TZOFFSETFROM:-0700
TZOFFSETTO:-0800
TZNAME:PST
DTSTART:20271107T090000
END:STANDARD
END:VTIMEZONE
BEGIN:VEVENT
DTSTART;TZID=America/Los_Angeles:20260131T130000
DTEND;TZID=America/Los_Angeles:20260131T143000
DTSTAMP:20260425T104847
CREATED:20260116T194553Z
LAST-MODIFIED:20260116T194553Z
UID:10003192-1769864400-1769869800@arts4mc.org
SUMMARY:2026 Poetry Out Loud Competition
DESCRIPTION:Join us for the 2026 Poetry Out Loud Monterey County Competition\, where talented high school students from across the county bring powerful poetry to life through performance and public speaking. Cheer on the next Monterey County Champion as they compete for a chance to advance to the California State Finals and beyond. \nParticipating schools include Alisal High School\, Monterey High School\, Pacific Grove High School\, Palma School\, Rancho San Juan High School\, and Trinity Christian High School. Hosted by the Arts Council for Monterey County in partnership with the California Arts Council and the National Endowment for the Arts\, this inspiring event celebrates youth voices and the enduring impact of poetry. \nSaturday\, January 31\, 20261:00 – 2:30 PM\nBlack Box Theater\, Monterey County Office of Education\n901 Blanco Circle\, Salinas \nRSVP encouraged: bit.ly/polrsvp2026\nQuestions? Email info@arts4mc.org
URL:https://arts4mc.org/event/2026-poetry-out-loud-competition/
LOCATION:Black Box Theater\, 901 Blanco Circle\, Salinas\, CA
ATTACH;FMTTYPE=image/png:https://arts4mc.org/wp-content/uploads/2026/01/POL-2026-Invitation-ENG.png
ORGANIZER;CN="Arts Council for Monterey County":MAILTO:info@arts4mc.org
GEO:36.6527159;-121.6400749
X-APPLE-STRUCTURED-LOCATION;VALUE=URI;X-ADDRESS=Black Box Theater 901 Blanco Circle Salinas CA;X-APPLE-RADIUS=500;X-TITLE=901 Blanco Circle:geo:-121.6400749,36.6527159
END:VEVENT
END:VCALENDAR