BEGIN:VCALENDAR
VERSION:2.0
PRODID:-//Arts Council for Monterey County - ECPv6.15.14//NONSGML v1.0//EN
CALSCALE:GREGORIAN
METHOD:PUBLISH
X-ORIGINAL-URL:https://arts4mc.org
X-WR-CALDESC:Events for Arts Council for Monterey County
REFRESH-INTERVAL;VALUE=DURATION:PT1H
X-Robots-Tag:noindex
X-PUBLISHED-TTL:PT1H
BEGIN:VTIMEZONE
TZID:America/Los_Angeles
BEGIN:DAYLIGHT
TZOFFSETFROM:-0800
TZOFFSETTO:-0700
TZNAME:PDT
DTSTART:20220313T100000
END:DAYLIGHT
BEGIN:STANDARD
TZOFFSETFROM:-0700
TZOFFSETTO:-0800
TZNAME:PST
DTSTART:20221106T090000
END:STANDARD
BEGIN:DAYLIGHT
TZOFFSETFROM:-0800
TZOFFSETTO:-0700
TZNAME:PDT
DTSTART:20230312T100000
END:DAYLIGHT
BEGIN:STANDARD
TZOFFSETFROM:-0700
TZOFFSETTO:-0800
TZNAME:PST
DTSTART:20231105T090000
END:STANDARD
BEGIN:DAYLIGHT
TZOFFSETFROM:-0800
TZOFFSETTO:-0700
TZNAME:PDT
DTSTART:20240310T100000
END:DAYLIGHT
BEGIN:STANDARD
TZOFFSETFROM:-0700
TZOFFSETTO:-0800
TZNAME:PST
DTSTART:20241103T090000
END:STANDARD
END:VTIMEZONE
BEGIN:VEVENT
DTSTART;TZID=America/Los_Angeles:20231027T180000
DTEND;TZID=America/Los_Angeles:20231027T210000
DTSTAMP:20260422T145913
CREATED:20231002T150416Z
LAST-MODIFIED:20231002T150416Z
UID:10000308-1698429600-1698440400@arts4mc.org
SUMMARY:The La Mirada Halloween Bash
DESCRIPTION:Join us for a Halloween celebration at La Mirada\, Monterey Museum of Art’s most mysterious location\, and prepare for an evening of eerie elegance\, historical haunts\, and bewitching beats. \nSpeakeasy Cash Bar: Step back in time and quench your thirst in our prohibition-era bar. \nChandelier Drawing Room Dance Floor: Let the music take you away as a live DJ spins tracks in the grandeur of our drawing room\, brought to life by shimmering chandeliers overhead. \nSpooky Vibes: Immerse yourself in the mansion’s eerie ambiance and partake in its legendary lore. \nThis event is for those aged 21 and over. Proper ID required for entry.\nElegant Halloween attire is encouraged but not mandatory.\nTickets $25
URL:https://arts4mc.org/event/the-la-mirada-halloween-bash/
LOCATION:720\, Monterey Museum of Art - La Mirada 720 Via Mirada\, Monterey\, CA\, 93940\, United States
ATTACH;FMTTYPE=image/jpeg:https://arts4mc.org/wp-content/uploads/2023/10/La-Mirada-Halloween-Bash.jpg
ORGANIZER;CN="Monterey Museum of Art":MAILTO:info@montereyart.org
GEO:36.59433;-121.8883743
X-APPLE-STRUCTURED-LOCATION;VALUE=URI;X-ADDRESS=720 Monterey Museum of Art - La Mirada 720 Via Mirada Monterey CA 93940 United States;X-APPLE-RADIUS=500;X-TITLE=Monterey Museum of Art - La Mirada 720 Via Mirada:geo:-121.8883743,36.59433
END:VEVENT
END:VCALENDAR