BEGIN:VCALENDAR
VERSION:2.0
PRODID:-//Arts Council for Monterey County - ECPv6.15.14//NONSGML v1.0//EN
CALSCALE:GREGORIAN
METHOD:PUBLISH
X-ORIGINAL-URL:https://arts4mc.org
X-WR-CALDESC:Events for Arts Council for Monterey County
REFRESH-INTERVAL;VALUE=DURATION:PT1H
X-Robots-Tag:noindex
X-PUBLISHED-TTL:PT1H
BEGIN:VTIMEZONE
TZID:America/Los_Angeles
BEGIN:DAYLIGHT
TZOFFSETFROM:-0800
TZOFFSETTO:-0700
TZNAME:PDT
DTSTART:20230312T100000
END:DAYLIGHT
BEGIN:STANDARD
TZOFFSETFROM:-0700
TZOFFSETTO:-0800
TZNAME:PST
DTSTART:20231105T090000
END:STANDARD
BEGIN:DAYLIGHT
TZOFFSETFROM:-0800
TZOFFSETTO:-0700
TZNAME:PDT
DTSTART:20240310T100000
END:DAYLIGHT
BEGIN:STANDARD
TZOFFSETFROM:-0700
TZOFFSETTO:-0800
TZNAME:PST
DTSTART:20241103T090000
END:STANDARD
BEGIN:DAYLIGHT
TZOFFSETFROM:-0800
TZOFFSETTO:-0700
TZNAME:PDT
DTSTART:20250309T100000
END:DAYLIGHT
BEGIN:STANDARD
TZOFFSETFROM:-0700
TZOFFSETTO:-0800
TZNAME:PST
DTSTART:20251102T090000
END:STANDARD
END:VTIMEZONE
BEGIN:VEVENT
DTSTART;TZID=America/Los_Angeles:20241215T110000
DTEND;TZID=America/Los_Angeles:20241215T140000
DTSTAMP:20260422T161439
CREATED:20241212T234148Z
LAST-MODIFIED:20241212T234148Z
UID:10000519-1734260400-1734271200@arts4mc.org
SUMMARY:Just Jazz Sunday Brunch
DESCRIPTION:Join us for our popular Just Jazz Sunday Brunch at Shearwater Tavern at the Carmel Mission Inn\, featuring the Leon Joyce Jr Quartet.
URL:https://arts4mc.org/event/just-jazz-sunday-brunch/
LOCATION:carmel mission inn\, Rio Road\, Carmel
ATTACH;FMTTYPE=image/jpeg:https://arts4mc.org/wp-content/uploads/2024/12/JUST-JAZZ-MONTEREY-CARMEL.jpeg
ORGANIZER;CN="Just Jazz Foundation":MAILTO:justjazzfoundation@gmail.com
END:VEVENT
BEGIN:VEVENT
DTSTART;TZID=America/Los_Angeles:20241011T193000
DTEND;TZID=America/Los_Angeles:20241011T220000
DTSTAMP:20260422T161439
CREATED:20241007T190715Z
LAST-MODIFIED:20241007T190715Z
UID:10000496-1728675000-1728684000@arts4mc.org
SUMMARY:Just Jazz Presents Marta Sánchez Trio @ Wave Street Studios
DESCRIPTION:Join us on Friday\, October 11th as World Class Live Jazz Music continues in Monterey as Just Jazz Presents: The Marta Sanchez Trio at Wave Street Studios. Joining Marta on the bandstand are Chris Tordini on bass & Eliza Salem on drums. Doors open at 6p. Music starts at 8p.
URL:https://arts4mc.org/event/just-jazz-presents-marta-sanchez-trio-wave-street-studios/
LOCATION:Wave Street Studios\, 774 Wave Street\, Monterey\, 93940
ATTACH;FMTTYPE=image/jpeg:https://arts4mc.org/wp-content/uploads/2024/10/marta_sanchez_wave_street.jpg
ORGANIZER;CN="Just Jazz Foundation":MAILTO:justjazzfoundation@gmail.com
END:VEVENT
END:VCALENDAR