BEGIN:VCALENDAR
VERSION:2.0
PRODID:-//Arts Council for Monterey County - ECPv6.15.14//NONSGML v1.0//EN
CALSCALE:GREGORIAN
METHOD:PUBLISH
X-ORIGINAL-URL:https://arts4mc.org
X-WR-CALDESC:Events for Arts Council for Monterey County
REFRESH-INTERVAL;VALUE=DURATION:PT1H
X-Robots-Tag:noindex
X-PUBLISHED-TTL:PT1H
BEGIN:VTIMEZONE
TZID:America/Los_Angeles
BEGIN:DAYLIGHT
TZOFFSETFROM:-0800
TZOFFSETTO:-0700
TZNAME:PDT
DTSTART:20220313T100000
END:DAYLIGHT
BEGIN:STANDARD
TZOFFSETFROM:-0700
TZOFFSETTO:-0800
TZNAME:PST
DTSTART:20221106T090000
END:STANDARD
BEGIN:DAYLIGHT
TZOFFSETFROM:-0800
TZOFFSETTO:-0700
TZNAME:PDT
DTSTART:20230312T100000
END:DAYLIGHT
BEGIN:STANDARD
TZOFFSETFROM:-0700
TZOFFSETTO:-0800
TZNAME:PST
DTSTART:20231105T090000
END:STANDARD
BEGIN:DAYLIGHT
TZOFFSETFROM:-0800
TZOFFSETTO:-0700
TZNAME:PDT
DTSTART:20240310T100000
END:DAYLIGHT
BEGIN:STANDARD
TZOFFSETFROM:-0700
TZOFFSETTO:-0800
TZNAME:PST
DTSTART:20241103T090000
END:STANDARD
END:VTIMEZONE
BEGIN:VEVENT
DTSTART;TZID=America/Los_Angeles:20230913T200000
DTEND;TZID=America/Los_Angeles:20230913T230000
DTSTAMP:20260421T205755
CREATED:20230901T200158Z
LAST-MODIFIED:20230901T200158Z
UID:10000294-1694635200-1694646000@arts4mc.org
SUMMARY:Disney Themed Karaoke Night
DESCRIPTION:Have you ever dreamed of stepping into the spotlight and singing your heart out to your favorite Disney tunes? Well\, now’s your chance to make that dream come true at our magical Disney Themed Karaoke Night!    \nJoin us for a night of musical enchantment\, where you can belt out your beloved Disney classics to be entered for a chance to win raffle prizes.  \nIndulge in scrumptious snacks that will make your taste buds dance with joy and don’t forget our $5.00 beers to fuel your vocal cords.   \nBring your inner child\, your singing voice\, and your love for all things Disney! Whether you’re a mermaid at heart or a daring adventurer\, our Disney Themed Karaoke Night is the place to be.  \nSee you in the kingdom of melodies and dreams!
URL:https://arts4mc.org/event/disney-themed-karaoke-night/
LOCATION:Paper Wing Theatre 711 Cannery Row Suite I Monterey\, Ca. 93940\, 711 Canner Row Suite I\, Monterey\, CA\, 93940\, United States
ATTACH;FMTTYPE=image/jpeg:https://arts4mc.org/wp-content/uploads/2023/09/Disney-karaoke301024_1.jpg
GEO:36.6160924;-121.900684
X-APPLE-STRUCTURED-LOCATION;VALUE=URI;X-ADDRESS=Paper Wing Theatre 711 Cannery Row Suite I Monterey Ca. 93940 711 Canner Row Suite I Monterey CA 93940 United States;X-APPLE-RADIUS=500;X-TITLE=711 Canner Row Suite I:geo:-121.900684,36.6160924
END:VEVENT
BEGIN:VEVENT
DTSTART;TZID=America/Los_Angeles:20230916T000000
DTEND;TZID=America/Los_Angeles:20230917T235959
DTSTAMP:20260421T205755
CREATED:20230710T162332Z
LAST-MODIFIED:20230710T162332Z
UID:10000176-1694822400-1694995199@arts4mc.org
SUMMARY:16th Annual Seaside Artist Tour
DESCRIPTION:The Seaside Artists Association holds a yearly Artist Tour\, during which the public can tour the studios\, garages or backyards of working artists\, learn about their processes\, and have the ability to purchase artwork directly from them. They are all in Seaside\, so you can easily see all the artists in an afternoon! It will be held September 16-17 this year.  2023’s tour map will be printed by the end of August. You can pick up one at the Sand City West End Festival\, Seaside City Hall\, Oldemeyer Center\, or print one out from the Seaside Artists Association Facebook page. Hope to see you!
URL:https://arts4mc.org/event/16th-annual-seaside-artist-tour/
LOCATION:United States
ATTACH;FMTTYPE=image/jpeg:https://arts4mc.org/wp-content/uploads/2023/07/IMG_5544.jpeg
END:VEVENT
END:VCALENDAR