BEGIN:VCALENDAR
VERSION:2.0
PRODID:-//Arts Council for Monterey County - ECPv6.15.14//NONSGML v1.0//EN
CALSCALE:GREGORIAN
METHOD:PUBLISH
X-ORIGINAL-URL:https://arts4mc.org
X-WR-CALDESC:Events for Arts Council for Monterey County
REFRESH-INTERVAL;VALUE=DURATION:PT1H
X-Robots-Tag:noindex
X-PUBLISHED-TTL:PT1H
BEGIN:VTIMEZONE
TZID:America/Los_Angeles
BEGIN:DAYLIGHT
TZOFFSETFROM:-0800
TZOFFSETTO:-0700
TZNAME:PDT
DTSTART:20220313T100000
END:DAYLIGHT
BEGIN:STANDARD
TZOFFSETFROM:-0700
TZOFFSETTO:-0800
TZNAME:PST
DTSTART:20221106T090000
END:STANDARD
BEGIN:DAYLIGHT
TZOFFSETFROM:-0800
TZOFFSETTO:-0700
TZNAME:PDT
DTSTART:20230312T100000
END:DAYLIGHT
BEGIN:STANDARD
TZOFFSETFROM:-0700
TZOFFSETTO:-0800
TZNAME:PST
DTSTART:20231105T090000
END:STANDARD
BEGIN:DAYLIGHT
TZOFFSETFROM:-0800
TZOFFSETTO:-0700
TZNAME:PDT
DTSTART:20240310T100000
END:DAYLIGHT
BEGIN:STANDARD
TZOFFSETFROM:-0700
TZOFFSETTO:-0800
TZNAME:PST
DTSTART:20241103T090000
END:STANDARD
END:VTIMEZONE
BEGIN:VEVENT
DTSTART;TZID=America/Los_Angeles:20230905T183000
DTEND;TZID=America/Los_Angeles:20230905T213000
DTSTAMP:20260424T195745
CREATED:20230701T043056Z
LAST-MODIFIED:20230701T043056Z
UID:10000154-1693938600-1693949400@arts4mc.org
SUMMARY:Monterey Symphony Love Letter to Hollywood\, Vol. 1
DESCRIPTION:Brad Hogarth\, Associate Conductor \nCOSTUMES ENCOURAGED! \nGeneral Admission Seating \nTICKETS: $57\nSTUDENTS\, TEACHERS\, & ACTIVE DUTY MILITARY: $12 \nPROGRAM:\nThe Magnificent Seven Symphonic Suite\nElmer Bernstein\nEdited by Patrick Russ \nThe Adventures of Robin Hood\nErich Wolfgang Korngold \nMission Impossible\nLalo Schifrin \nMoon River\nHenri Mancini \nPink Panther\nHenri Mancini \nCinema Paradiso for Solo Violin and Orchestra\nChristina Mok\, violin\nEnnio Morricone\, Andrea Morricone\nArranged by Angela Morley \n“Married Life” from Disney and Pixar’s Up for Chamber Orchestra\nMichael Giacchino \nBlack Panther Suite\nLudwig Göransson \n–intermission— \nOverture to Beauty and the Beast\nAlan Menken\nArranged by Michael Kosarin\nOrchestrated by Doug Besterman \nCoco Orchestral Suite for Orchestra\nMichael Giacchino \nHarry Potter: Hedwig’s Theme\nJohn Williams \nStar Wars Suite for Orchestra plus Mandalorian\nJohn Williams \nSPONSORED BY:\nTaylor Farms\nCarmel Cares\nMonterey Private Wealth\nKRML\nArts Council for Monterey County
URL:https://arts4mc.org/event/monterey-symphony-love-letter-to-hollywood-vol-1/2023-09-05/
LOCATION:Outdoor Forest Theater\, Mountain View and Santa Rita\, Carmel-by-the-Sea\, CA\, 93922\, United States
ATTACH;FMTTYPE=image/jpeg:https://arts4mc.org/wp-content/uploads/2023/06/MSO-2023_24-SEASON-800X800-LL2hollywood.jpg
ORGANIZER;CN="Monterey Symphony":MAILTO:info@montereysymphony.org
GEO:36.553094;-121.9173516
X-APPLE-STRUCTURED-LOCATION;VALUE=URI;X-ADDRESS=Outdoor Forest Theater Mountain View and Santa Rita Carmel-by-the-Sea CA 93922 United States;X-APPLE-RADIUS=500;X-TITLE=Mountain View and Santa Rita:geo:-121.9173516,36.553094
END:VEVENT
BEGIN:VEVENT
DTSTART;TZID=America/Los_Angeles:20230906T113000
DTEND;TZID=America/Los_Angeles:20230906T123000
DTSTAMP:20260424T195745
CREATED:20230803T214440Z
LAST-MODIFIED:20230803T214440Z
UID:10000194-1693999800-1694003400@arts4mc.org
SUMMARY:Toddler Butterfly Squish Art
DESCRIPTION:Join our instructor and Artist Nica White in this fun craft that involves using observation to create wonderful and unique butterfly-themed pieces of art!  \nChildren will get to see images of real butterflies for inspiration and will be able to explore color\, symmetry\, and design as they create their own butterflies.   \nThis class is for toddlers\, the registration fee is only $10!
URL:https://arts4mc.org/event/toddler-butterfly-squish-art/
LOCATION:Sol Treasures\, 519 Broadway Street\, King City\, CA\, 93930\, United States
ATTACH;FMTTYPE=image/jpeg:https://arts4mc.org/wp-content/uploads/2023/08/EN-Butterfly-Squirt-Art.jpg
ORGANIZER;CN="Sol Treasures":MAILTO:celebrate@soltreasures.com
GEO:36.2108245;-121.1296099
X-APPLE-STRUCTURED-LOCATION;VALUE=URI;X-ADDRESS=Sol Treasures 519 Broadway Street King City CA 93930 United States;X-APPLE-RADIUS=500;X-TITLE=519 Broadway Street:geo:-121.1296099,36.2108245
END:VEVENT
BEGIN:VEVENT
DTSTART;TZID=America/Los_Angeles:20230906T183000
DTEND;TZID=America/Los_Angeles:20230906T213000
DTSTAMP:20260424T195745
CREATED:20230701T043056Z
LAST-MODIFIED:20230701T043056Z
UID:10000155-1694025000-1694035800@arts4mc.org
SUMMARY:Monterey Symphony Love Letter to Hollywood\, Vol. 1
DESCRIPTION:Brad Hogarth\, Associate Conductor \nCOSTUMES ENCOURAGED! \nGeneral Admission Seating \nTICKETS: $57\nSTUDENTS\, TEACHERS\, & ACTIVE DUTY MILITARY: $12 \nPROGRAM:\nThe Magnificent Seven Symphonic Suite\nElmer Bernstein\nEdited by Patrick Russ \nThe Adventures of Robin Hood\nErich Wolfgang Korngold \nMission Impossible\nLalo Schifrin \nMoon River\nHenri Mancini \nPink Panther\nHenri Mancini \nCinema Paradiso for Solo Violin and Orchestra\nChristina Mok\, violin\nEnnio Morricone\, Andrea Morricone\nArranged by Angela Morley \n“Married Life” from Disney and Pixar’s Up for Chamber Orchestra\nMichael Giacchino \nBlack Panther Suite\nLudwig Göransson \n–intermission— \nOverture to Beauty and the Beast\nAlan Menken\nArranged by Michael Kosarin\nOrchestrated by Doug Besterman \nCoco Orchestral Suite for Orchestra\nMichael Giacchino \nHarry Potter: Hedwig’s Theme\nJohn Williams \nStar Wars Suite for Orchestra plus Mandalorian\nJohn Williams \nSPONSORED BY:\nTaylor Farms\nCarmel Cares\nMonterey Private Wealth\nKRML\nArts Council for Monterey County
URL:https://arts4mc.org/event/monterey-symphony-love-letter-to-hollywood-vol-1/2023-09-06/
LOCATION:Outdoor Forest Theater\, Mountain View and Santa Rita\, Carmel-by-the-Sea\, CA\, 93922\, United States
ATTACH;FMTTYPE=image/jpeg:https://arts4mc.org/wp-content/uploads/2023/06/MSO-2023_24-SEASON-800X800-LL2hollywood.jpg
ORGANIZER;CN="Monterey Symphony":MAILTO:info@montereysymphony.org
GEO:36.553094;-121.9173516
X-APPLE-STRUCTURED-LOCATION;VALUE=URI;X-ADDRESS=Outdoor Forest Theater Mountain View and Santa Rita Carmel-by-the-Sea CA 93922 United States;X-APPLE-RADIUS=500;X-TITLE=Mountain View and Santa Rita:geo:-121.9173516,36.553094
END:VEVENT
BEGIN:VEVENT
DTSTART;TZID=America/Los_Angeles:20230907T190000
DTEND;TZID=America/Los_Angeles:20230907T210000
DTSTAMP:20260424T195745
CREATED:20230701T043611Z
LAST-MODIFIED:20230701T043611Z
UID:10000156-1694113200-1694120400@arts4mc.org
SUMMARY:Monterey Symphony Love Letter to Hollywood\, Vol. 1
DESCRIPTION:Brad Hogarth\, Associate Conductor \nCOSTUMES ENCOURAGED! \nGeneral Admission Seating \nTICKETS: $25\nSTUDENTS\, TEACHERS\, & ACTIVE DUTY MILITARY: $12 \n18 AND UNDER FREE WITH PAYING ADULT \nPROGRAM:\nThe Magnificent Seven Symphonic Suite\nElmer Bernstein\nEdited by Patrick Russ \nThe Adventures of Robin Hood\nErich Wolfgang Korngold \nMission Impossible\nLalo Schifrin \nMoon River\nHenri Mancini \nPink Panther\nHenri Mancini \nCinema Paradiso for Solo Violin and Orchestra\nChristina Mok\, violin\nEnnio Morricone\, Andrea Morricone\nArranged by Angela Morley \n“Married Life” from Disney and Pixar’s Up for Chamber Orchestra\nMichael Giacchino \nBlack Panther Suite\nLudwig Göransson \n–intermission— \nOverture to Beauty and the Beast\nAlan Menken\nArranged by Michael Kosarin\nOrchestrated by Doug Besterman \nCoco Orchestral Suite for Orchestra\nMichael Giacchino \nHarry Potter: Hedwig’s Theme\nJohn Williams \nStar Wars Suite for Orchestra plus Mandalorian\nJohn Williams \nSPONSORED BY:\nTaylor Farms\nCarmel Cares\nMonterey Private Wealth\nKRML\nArts Council for Monterey County
URL:https://arts4mc.org/event/monterey-symphony-love-letter-to-hollywood-vol-1-2/2023-09-07/
LOCATION:Sherwood Hall\, Salinas\, 940 N. Main St.\, Salinas\, 93906
ATTACH;FMTTYPE=image/jpeg:https://arts4mc.org/wp-content/uploads/2023/06/MSO-2023_24-SEASON-800X800-LL2hollywood-1.jpg
ORGANIZER;CN="Monterey Symphony":MAILTO:info@montereysymphony.org
GEO:36.6915929;-121.6513043
X-APPLE-STRUCTURED-LOCATION;VALUE=URI;X-ADDRESS=Sherwood Hall Salinas 940 N. Main St. Salinas 93906;X-APPLE-RADIUS=500;X-TITLE=940 N. Main St.:geo:-121.6513043,36.6915929
END:VEVENT
BEGIN:VEVENT
DTSTART;TZID=America/Los_Angeles:20230908T190000
DTEND;TZID=America/Los_Angeles:20230908T210000
DTSTAMP:20260424T195745
CREATED:20230323T185143Z
LAST-MODIFIED:20230323T185143Z
UID:10000031-1694199600-1694206800@arts4mc.org
SUMMARY:Jazz at Rancho Cielo
DESCRIPTION:Jazz at Rancho Cielo
URL:https://arts4mc.org/event/jazz-at-rancho-cielo/
LOCATION:Rancho Cielo\, 710 Old Stage Road\, Salinas\, 993908
GEO:36.7343482;-121.5859189
X-APPLE-STRUCTURED-LOCATION;VALUE=URI;X-ADDRESS=Rancho Cielo 710 Old Stage Road Salinas 993908;X-APPLE-RADIUS=500;X-TITLE=710 Old Stage Road:geo:-121.5859189,36.7343482
END:VEVENT
BEGIN:VEVENT
DTSTART;TZID=America/Los_Angeles:20230909T150000
DTEND;TZID=America/Los_Angeles:20230909T170000
DTSTAMP:20260424T195745
CREATED:20230710T162324Z
LAST-MODIFIED:20230710T162324Z
UID:10000174-1694271600-1694278800@arts4mc.org
SUMMARY:Art Worlds: Tsherin Sherpa
DESCRIPTION:Join us for an afternoon celebrating the remarkable contemporary California artist Tsherin Sherpa. The artist\, who splits his time between Nepal and California\, captivates and inspires audiences worldwide\, bridging cultural divides and igniting conversations about tradition\, spirituality\, and contemporary artistic practice. \nA screening of Above and Below\, 35-minute documentary\nA conversation with the artist Tsherin Sherpa\, film director Sheri Brenner\, and Executive Director Corey Madden\nTsherin Sherpa: Spirits book signing\nSaturday\, September 9\n3:00 – 5:00 pm\nMiddlebury Institute for International Studies\nIrvine Auditorium in the McCone Building\n499 Pierce Street\, Monterey
URL:https://arts4mc.org/event/art-worlds-tsherin-sherpa/
LOCATION:Middlebury Institute for International Studies\, 499 Pierce Street\, Monterey\, Monterey\, CA\, 93940\, United States
ATTACH;FMTTYPE=image/jpeg:https://arts4mc.org/wp-content/uploads/2023/07/Artworlds-Tsherin-Sherpa-1.jpg
ORGANIZER;CN="Monterey Museum of Art":MAILTO:info@montereyart.org
GEO:36.5987604;-121.8966508
X-APPLE-STRUCTURED-LOCATION;VALUE=URI;X-ADDRESS=Middlebury Institute for International Studies 499 Pierce Street Monterey Monterey CA 93940 United States;X-APPLE-RADIUS=500;X-TITLE=499 Pierce Street\, Monterey:geo:-121.8966508,36.5987604
END:VEVENT
BEGIN:VEVENT
DTSTART;TZID=America/Los_Angeles:20230909T173000
DTEND;TZID=America/Los_Angeles:20230909T190000
DTSTAMP:20260424T195745
CREATED:20230823T024540Z
LAST-MODIFIED:20230823T024540Z
UID:10000288-1694280600-1694286000@arts4mc.org
SUMMARY:Monterey Museum of Art’s VIP FALL FUNDRAISER
DESCRIPTION:An unforgettable evening of art and philanthropy\, celebrating contemporary California artist Tsherin Sherpa.\nValet Parking | Champagne and Hors d’oeuvres Reception | Signed Catalogue\nPrivate viewing of the Museum’s Fall Exhibitions\nMeet and Greet with the artist\, Tsherin Sherpa!
URL:https://arts4mc.org/event/monterey-museum-of-arts-vip-fall-fundraiser/
LOCATION:559 Pacific St\, Monterey\, CA\, United States\, California
ORGANIZER;CN="Monterey Museum of Art":MAILTO:info@montereyart.org
END:VEVENT
END:VCALENDAR