BEGIN:VCALENDAR
VERSION:2.0
PRODID:-//Arts Council for Monterey County - ECPv6.15.14//NONSGML v1.0//EN
CALSCALE:GREGORIAN
METHOD:PUBLISH
X-WR-CALNAME:Arts Council for Monterey County
X-ORIGINAL-URL:https://arts4mc.org
X-WR-CALDESC:Events for Arts Council for Monterey County
REFRESH-INTERVAL;VALUE=DURATION:PT1H
X-Robots-Tag:noindex
X-PUBLISHED-TTL:PT1H
BEGIN:VTIMEZONE
TZID:America/Los_Angeles
BEGIN:DAYLIGHT
TZOFFSETFROM:-0800
TZOFFSETTO:-0700
TZNAME:PDT
DTSTART:20220313T100000
END:DAYLIGHT
BEGIN:STANDARD
TZOFFSETFROM:-0700
TZOFFSETTO:-0800
TZNAME:PST
DTSTART:20221106T090000
END:STANDARD
BEGIN:DAYLIGHT
TZOFFSETFROM:-0800
TZOFFSETTO:-0700
TZNAME:PDT
DTSTART:20230312T100000
END:DAYLIGHT
BEGIN:STANDARD
TZOFFSETFROM:-0700
TZOFFSETTO:-0800
TZNAME:PST
DTSTART:20231105T090000
END:STANDARD
BEGIN:DAYLIGHT
TZOFFSETFROM:-0800
TZOFFSETTO:-0700
TZNAME:PDT
DTSTART:20240310T100000
END:DAYLIGHT
BEGIN:STANDARD
TZOFFSETFROM:-0700
TZOFFSETTO:-0800
TZNAME:PST
DTSTART:20241103T090000
END:STANDARD
END:VTIMEZONE
BEGIN:VEVENT
DTSTART;TZID=America/Los_Angeles:20230809T200000
DTEND;TZID=America/Los_Angeles:20230809T230000
DTSTAMP:20260423T104101
CREATED:20230801T214309Z
LAST-MODIFIED:20230801T214309Z
UID:10000190-1691611200-1691622000@arts4mc.org
SUMMARY:80’s Karaoke Night
DESCRIPTION:Hop in your DeLorean and head down to Paper Wing Theatre on Cannery Row for a night of 80s fun! We are serving up food\, like our signature $2 street tacos and drink specials ($5 beers anyone?). Sing a song from the 1980s and get entered for raffle prizes or tempt your fate on our 80’s roulette wheel to win instantly! Gather your friends\, we can’t wait to see you there!!
URL:https://arts4mc.org/event/80s-karaoke-night/
LOCATION:Paper Wing Theatre 711 Cannery Row Suite I Monterey\, Ca. 93940\, 711 Canner Row Suite I\, Monterey\, CA\, 93940\, United States
ATTACH;FMTTYPE=image/jpeg:https://arts4mc.org/wp-content/uploads/2023/08/80s-Karaoke-1.jpg
GEO:36.6160924;-121.900684
X-APPLE-STRUCTURED-LOCATION;VALUE=URI;X-ADDRESS=Paper Wing Theatre 711 Cannery Row Suite I Monterey Ca. 93940 711 Canner Row Suite I Monterey CA 93940 United States;X-APPLE-RADIUS=500;X-TITLE=711 Canner Row Suite I:geo:-121.900684,36.6160924
END:VEVENT
BEGIN:VEVENT
DTSTART;TZID=America/Los_Angeles:20230810T150000
DTEND;TZID=America/Los_Angeles:20230810T170000
DTSTAMP:20260423T104101
CREATED:20230803T214424Z
LAST-MODIFIED:20230803T214424Z
UID:10000191-1691679600-1691686800@arts4mc.org
SUMMARY:Sol Performing Strings
DESCRIPTION:Join our instructor Aya Ettinger and learn or expand on your violin skills!  \nThis class is for beginners and intermediate learners!  \nClass begins Thursday\, August 10th from 3:15- 5:15 pm. \nThe registration cost is $35 for returning students\, $45 for new students\, and $25 violin rental fee\, now that’s a deal!  \nFor questions or more information please email us at celebrate@soltreasures.com or call us at 831-386-1381.
URL:https://arts4mc.org/event/sol-performing-strings/
LOCATION:Sol Treasures\, 519 Broadway Street\, King City\, CA\, 93930\, United States
ATTACH;FMTTYPE=image/jpeg:https://arts4mc.org/wp-content/uploads/2023/08/SPS-Eng.jpg
ORGANIZER;CN="Sol Treasures":MAILTO:celebrate@soltreasures.com
GEO:36.2108245;-121.1296099
X-APPLE-STRUCTURED-LOCATION;VALUE=URI;X-ADDRESS=Sol Treasures 519 Broadway Street King City CA 93930 United States;X-APPLE-RADIUS=500;X-TITLE=519 Broadway Street:geo:-121.1296099,36.2108245
END:VEVENT
BEGIN:VEVENT
DTSTART;TZID=America/Los_Angeles:20230811T080000
DTEND;TZID=America/Los_Angeles:20230811T080000
DTSTAMP:20260423T104101
CREATED:20230227T233618Z
LAST-MODIFIED:20230227T233618Z
UID:10000001-1691740800-1691740800@arts4mc.org
SUMMARY:Champions of the Arts™ Awards Breakfast
DESCRIPTION:Awards Breakfast to honor “Champions” in the arts sector \nMonterey Marriott Ferrante Room
URL:https://arts4mc.org/event/champions-of-the-arts/
ATTACH;FMTTYPE=image/png:https://arts4mc.org/wp-content/uploads/2023/02/Arts4MC-Logo-2023-Vertical.png
END:VEVENT
BEGIN:VEVENT
DTSTART;TZID=America/Los_Angeles:20230811T160000
DTEND;TZID=America/Los_Angeles:20230811T180000
DTSTAMP:20260423T104101
CREATED:20230803T214439Z
LAST-MODIFIED:20230803T214439Z
UID:10000192-1691769600-1691776800@arts4mc.org
SUMMARY:Children's Gallery Exhibit
DESCRIPTION:Meet our little artists!\nOur current gallery exhibit is an extension of our Maya exhibit that showcases the art our students at Chispa sites and this summer’s recreation center program created! Children will get to show their family\, friends\, and community members their work!  \nWe will also have a fun runway show where students get to model the outfits/dresses they created this summer out of recycled material.  \nPlease come show some support for our young artists! This is a free community event and all ages are welcome!
URL:https://arts4mc.org/event/childrens-gallery-exhibit/
LOCATION:Sol Treasures\, 519 Broadway Street\, King City\, CA\, 93930\, United States
ATTACH;FMTTYPE=image/jpeg:https://arts4mc.org/wp-content/uploads/2023/08/Meet-the-Artist-Flyer-Eng.jpg
ORGANIZER;CN="Sol Treasures":MAILTO:celebrate@soltreasures.com
GEO:36.2108245;-121.1296099
X-APPLE-STRUCTURED-LOCATION;VALUE=URI;X-ADDRESS=Sol Treasures 519 Broadway Street King City CA 93930 United States;X-APPLE-RADIUS=500;X-TITLE=519 Broadway Street:geo:-121.1296099,36.2108245
END:VEVENT
BEGIN:VEVENT
DTSTART;TZID=America/Los_Angeles:20230812T130000
DTEND;TZID=America/Los_Angeles:20230812T143000
DTSTAMP:20260423T104101
CREATED:20230726T184655Z
LAST-MODIFIED:20230726T184655Z
UID:10000186-1691845200-1691850600@arts4mc.org
SUMMARY:Hear from the Photographers: Weston Scholarship Panel
DESCRIPTION:Join Zach Weston\, Executive Director of the Weston Collective\, for an insightful panel discussion featuring talented student photographers from the 2023 Weston Scholarship Exhibition at the Monterey Museum of Art. \nDuring this engaging session\, you will have the opportunity to hear from the next generation of photographers as they share their creative processes and vision for the future of photography in our community. \n(Free with MMA Membership!)
URL:https://arts4mc.org/event/hear-from-the-photographers-weston-scholarship-panel/
LOCATION:Monterey Museum of Art\, 559 Pacific Street\, Monterey\, CA 93940\, 559 Pacific Street\, Monterey\, 93940
ATTACH;FMTTYPE=image/jpeg:https://arts4mc.org/wp-content/uploads/2023/07/Screenshot-2023-Weston-Scholarship-Exhibition.jpg
ORGANIZER;CN="Monterey Museum of Art":MAILTO:info@montereyart.org
GEO:36.5974996;-121.8966197
X-APPLE-STRUCTURED-LOCATION;VALUE=URI;X-ADDRESS=Monterey Museum of Art 559 Pacific Street Monterey CA 93940 559 Pacific Street Monterey 93940;X-APPLE-RADIUS=500;X-TITLE=559 Pacific Street:geo:-121.8966197,36.5974996
END:VEVENT
END:VCALENDAR