BEGIN:VCALENDAR
VERSION:2.0
PRODID:-//Arts Council for Monterey County - ECPv6.15.14//NONSGML v1.0//EN
CALSCALE:GREGORIAN
METHOD:PUBLISH
X-ORIGINAL-URL:https://arts4mc.org
X-WR-CALDESC:Events for Arts Council for Monterey County
REFRESH-INTERVAL;VALUE=DURATION:PT1H
X-Robots-Tag:noindex
X-PUBLISHED-TTL:PT1H
BEGIN:VTIMEZONE
TZID:America/Los_Angeles
BEGIN:DAYLIGHT
TZOFFSETFROM:-0800
TZOFFSETTO:-0700
TZNAME:PDT
DTSTART:20220313T100000
END:DAYLIGHT
BEGIN:STANDARD
TZOFFSETFROM:-0700
TZOFFSETTO:-0800
TZNAME:PST
DTSTART:20221106T090000
END:STANDARD
BEGIN:DAYLIGHT
TZOFFSETFROM:-0800
TZOFFSETTO:-0700
TZNAME:PDT
DTSTART:20230312T100000
END:DAYLIGHT
BEGIN:STANDARD
TZOFFSETFROM:-0700
TZOFFSETTO:-0800
TZNAME:PST
DTSTART:20231105T090000
END:STANDARD
BEGIN:DAYLIGHT
TZOFFSETFROM:-0800
TZOFFSETTO:-0700
TZNAME:PDT
DTSTART:20240310T100000
END:DAYLIGHT
BEGIN:STANDARD
TZOFFSETFROM:-0700
TZOFFSETTO:-0800
TZNAME:PST
DTSTART:20241103T090000
END:STANDARD
END:VTIMEZONE
BEGIN:VEVENT
DTSTART;TZID=America/Los_Angeles:20230731T180000
DTEND;TZID=America/Los_Angeles:20230731T200000
DTSTAMP:20260422T225159
CREATED:20230526T222619Z
LAST-MODIFIED:20230526T222619Z
UID:10000143-1690826400-1690833600@arts4mc.org
SUMMARY:2023/2024 Theater Auditions
DESCRIPTION:The 2023/24 Theater Season focuses on the connections we all share\, the human experience that we all have in common\, and the ways that all types of love can move people to unbelievable kindness. Both shows this season are testaments to how love can conquer\, and how family can support one another through hardships and successes. The junior show in the Fall is for children ages 8yrs old through 17yrs old or 18yr old High School seniors. The Spring production will be a community production that includes individuals ages 10yrs and up and adults. All adults are welcome to join us at auditions and come be a part of the historic and beautiful telling of the Fiddler on the Roof! \n*Auditions are for the whole season \n*Program fee $125 (includes t-shirt) \n*Scholarships available
URL:https://arts4mc.org/event/2023-2024-theater-auditions/2023-07-31/
LOCATION:Robert Stanton Theater\, King City CA\, 720 Broadway St.\, King City\, CA\, 93930\, United States
ATTACH;FMTTYPE=image/jpeg:https://arts4mc.org/wp-content/uploads/2023/05/Auditions-Flyer-Eng.jpg
ORGANIZER;CN="Sol Treasures":MAILTO:celebrate@soltreasures.com
GEO:36.209556;-121.1340756
X-APPLE-STRUCTURED-LOCATION;VALUE=URI;X-ADDRESS=Robert Stanton Theater King City CA 720 Broadway St. King City CA 93930 United States;X-APPLE-RADIUS=500;X-TITLE=720 Broadway St.:geo:-121.1340756,36.209556
END:VEVENT
BEGIN:VEVENT
DTSTART;TZID=America/Los_Angeles:20230802T113000
DTEND;TZID=America/Los_Angeles:20230802T123000
DTSTAMP:20260422T225159
CREATED:20230727T052304Z
LAST-MODIFIED:20230727T052304Z
UID:10000188-1690975800-1690979400@arts4mc.org
SUMMARY:Toddler Squirt Gun Painting
DESCRIPTION:Join our instructor and artist Nica White in this fun squirt gun painting class! Your toddler will enjoy creating a masterpiece made with lots of fun in the sun! \nYou are also welcome to bring them in a white shirt that can get painted along during this activity! \nWednesday\, August 2nd from 11:30 am- 12:30 pm.  \nThe registration fee is only $10. \nFor more information or questions please contact us by email at celebrate@soltreasures.com or call us at 831-386-1381.
URL:https://arts4mc.org/event/toddler-squirt-gun-painting/
LOCATION:Sol Treasures\, 519 Broadway Street\, King City\, CA\, 93930\, United States
ATTACH;FMTTYPE=image/jpeg:https://arts4mc.org/wp-content/uploads/2023/07/EN-Squirt-Gun-Painting-1.jpg
ORGANIZER;CN="Sol Treasures":MAILTO:celebrate@soltreasures.com
GEO:36.2108245;-121.1296099
X-APPLE-STRUCTURED-LOCATION;VALUE=URI;X-ADDRESS=Sol Treasures 519 Broadway Street King City CA 93930 United States;X-APPLE-RADIUS=500;X-TITLE=519 Broadway Street:geo:-121.1296099,36.2108245
END:VEVENT
BEGIN:VEVENT
DTSTART;TZID=America/Los_Angeles:20230804T170000
DTEND;TZID=America/Los_Angeles:20230804T190000
DTSTAMP:20260422T225159
CREATED:20230517T200915Z
LAST-MODIFIED:20230517T200915Z
UID:10000053-1691168400-1691175600@arts4mc.org
SUMMARY:First Friday Monterey Museum of Art
DESCRIPTION:FREE after-hours access to the Museum on the First Friday of the month. Join us for an evening of art\, music\, and community gathering!
URL:https://arts4mc.org/event/first-friday-monterey-museum-of-art/2023-08-04/
LOCATION:Monterey Museum of Art\, 559 Pacific Street\, Monterey\, CA 93940\, 559 Pacific Street\, Monterey\, 93940
ATTACH;FMTTYPE=image/png:https://arts4mc.org/wp-content/uploads/2023/05/First-Friday-MMA-1.png
ORGANIZER;CN="Monterey Museum of Art":MAILTO:info@montereyart.org
GEO:36.5974996;-121.8966197
X-APPLE-STRUCTURED-LOCATION;VALUE=URI;X-ADDRESS=Monterey Museum of Art 559 Pacific Street Monterey CA 93940 559 Pacific Street Monterey 93940;X-APPLE-RADIUS=500;X-TITLE=559 Pacific Street:geo:-121.8966197,36.5974996
END:VEVENT
BEGIN:VEVENT
DTSTART;TZID=America/Los_Angeles:20230805T110000
DTEND;TZID=America/Los_Angeles:20230805T150000
DTSTAMP:20260422T225159
CREATED:20230726T184443Z
LAST-MODIFIED:20230726T184443Z
UID:10000185-1691233200-1691247600@arts4mc.org
SUMMARY:Free Family Fun Day – Abstract Dreams
DESCRIPTION:Drop by the Museum for a fun-filled afternoon exploring materials and abstraction in art\, inspired by the exhibition The Bruton Sisters: Modernism in the Making. Featured art activities: abstract mosaics\, modernist collage\, and painting decorative flowerpots.
URL:https://arts4mc.org/event/free-family-fun-day-abstract-dreams/
LOCATION:Monterey Museum of Art\, 559 Pacific Street\, Monterey\, CA 93940\, 559 Pacific Street\, Monterey\, 93940
ATTACH;FMTTYPE=image/jpeg:https://arts4mc.org/wp-content/uploads/2023/07/Screenshot-2023-07-26-105446.jpg
ORGANIZER;CN="Monterey Museum of Art":MAILTO:info@montereyart.org
GEO:36.5974996;-121.8966197
X-APPLE-STRUCTURED-LOCATION;VALUE=URI;X-ADDRESS=Monterey Museum of Art 559 Pacific Street Monterey CA 93940 559 Pacific Street Monterey 93940;X-APPLE-RADIUS=500;X-TITLE=559 Pacific Street:geo:-121.8966197,36.5974996
END:VEVENT
END:VCALENDAR