BEGIN:VCALENDAR
VERSION:2.0
PRODID:-//Arts Council for Monterey County - ECPv6.15.14//NONSGML v1.0//EN
CALSCALE:GREGORIAN
METHOD:PUBLISH
X-ORIGINAL-URL:https://arts4mc.org
X-WR-CALDESC:Events for Arts Council for Monterey County
REFRESH-INTERVAL;VALUE=DURATION:PT1H
X-Robots-Tag:noindex
X-PUBLISHED-TTL:PT1H
BEGIN:VTIMEZONE
TZID:America/Los_Angeles
BEGIN:DAYLIGHT
TZOFFSETFROM:-0800
TZOFFSETTO:-0700
TZNAME:PDT
DTSTART:20220313T100000
END:DAYLIGHT
BEGIN:STANDARD
TZOFFSETFROM:-0700
TZOFFSETTO:-0800
TZNAME:PST
DTSTART:20221106T090000
END:STANDARD
BEGIN:DAYLIGHT
TZOFFSETFROM:-0800
TZOFFSETTO:-0700
TZNAME:PDT
DTSTART:20230312T100000
END:DAYLIGHT
BEGIN:STANDARD
TZOFFSETFROM:-0700
TZOFFSETTO:-0800
TZNAME:PST
DTSTART:20231105T090000
END:STANDARD
BEGIN:DAYLIGHT
TZOFFSETFROM:-0800
TZOFFSETTO:-0700
TZNAME:PDT
DTSTART:20240310T100000
END:DAYLIGHT
BEGIN:STANDARD
TZOFFSETFROM:-0700
TZOFFSETTO:-0800
TZNAME:PST
DTSTART:20241103T090000
END:STANDARD
END:VTIMEZONE
BEGIN:VEVENT
DTSTART;TZID=America/Los_Angeles:20230724T180000
DTEND;TZID=America/Los_Angeles:20230724T200000
DTSTAMP:20260423T104317
CREATED:20230526T222619Z
LAST-MODIFIED:20230526T222619Z
UID:10000142-1690221600-1690228800@arts4mc.org
SUMMARY:2023/2024 Theater Auditions
DESCRIPTION:The 2023/24 Theater Season focuses on the connections we all share\, the human experience that we all have in common\, and the ways that all types of love can move people to unbelievable kindness. Both shows this season are testaments to how love can conquer\, and how family can support one another through hardships and successes. The junior show in the Fall is for children ages 8yrs old through 17yrs old or 18yr old High School seniors. The Spring production will be a community production that includes individuals ages 10yrs and up and adults. All adults are welcome to join us at auditions and come be a part of the historic and beautiful telling of the Fiddler on the Roof! \n*Auditions are for the whole season \n*Program fee $125 (includes t-shirt) \n*Scholarships available
URL:https://arts4mc.org/event/2023-2024-theater-auditions/2023-07-24/
LOCATION:Robert Stanton Theater\, King City CA\, 720 Broadway St.\, King City\, CA\, 93930\, United States
ATTACH;FMTTYPE=image/jpeg:https://arts4mc.org/wp-content/uploads/2023/05/Auditions-Flyer-Eng.jpg
ORGANIZER;CN="Sol Treasures":MAILTO:celebrate@soltreasures.com
GEO:36.209556;-121.1340756
X-APPLE-STRUCTURED-LOCATION;VALUE=URI;X-ADDRESS=Robert Stanton Theater King City CA 720 Broadway St. King City CA 93930 United States;X-APPLE-RADIUS=500;X-TITLE=720 Broadway St.:geo:-121.1340756,36.209556
END:VEVENT
BEGIN:VEVENT
DTSTART;TZID=America/Los_Angeles:20230729T183000
DTEND;TZID=America/Los_Angeles:20230729T213000
DTSTAMP:20260423T104317
CREATED:20230724T161804Z
LAST-MODIFIED:20230724T161804Z
UID:10000184-1690655400-1690666200@arts4mc.org
SUMMARY:SpongeBob the Musical! Only 1 week left
DESCRIPTION:Step into a World of Imagination with SpongeBob The Musical!   Get ready for an adventure like no other as the beloved SpongeBob SquarePants takes the stage in an extraordinary musical extravaganza! Join us for a once-in-a-lifetime experience that will leave you with a smile from ear to ear. You absolutely can not miss SpongeBob The Musical at Paper Wing Theatre!  Book Your Tickets Now: Secure your seats for the must-see musical event of the year! With demand at an all-time high\, make sure you don’t miss out on the chance to witness the undersea magic unfold before your eyes. Don’t wait any longer—join SpongeBob and his friends on an unforgettable journey that will leave you feeling invigorated\, inspired\, and filled with pure happiness. Get ready to dive into the world of SpongeBob The Musical\, where the power of friendship\, imagination\, and laughter will reign supreme. Book your tickets today!
URL:https://arts4mc.org/event/spongebob-the-musical-only-1-week-left/
LOCATION:Paper Wing Theatre 711 Cannery Row Suite I Monterey\, Ca. 93940\, 711 Canner Row Suite I\, Monterey\, CA\, 93940\, United States
ATTACH;FMTTYPE=image/jpeg:https://arts4mc.org/wp-content/uploads/2023/07/FB_IMG_1689394847331.jpg
GEO:36.6160924;-121.900684
X-APPLE-STRUCTURED-LOCATION;VALUE=URI;X-ADDRESS=Paper Wing Theatre 711 Cannery Row Suite I Monterey Ca. 93940 711 Canner Row Suite I Monterey CA 93940 United States;X-APPLE-RADIUS=500;X-TITLE=711 Canner Row Suite I:geo:-121.900684,36.6160924
END:VEVENT
END:VCALENDAR