BEGIN:VCALENDAR
VERSION:2.0
PRODID:-//Arts Council for Monterey County - ECPv6.15.14//NONSGML v1.0//EN
CALSCALE:GREGORIAN
METHOD:PUBLISH
X-ORIGINAL-URL:https://arts4mc.org
X-WR-CALDESC:Events for Arts Council for Monterey County
REFRESH-INTERVAL;VALUE=DURATION:PT1H
X-Robots-Tag:noindex
X-PUBLISHED-TTL:PT1H
BEGIN:VTIMEZONE
TZID:America/Los_Angeles
BEGIN:DAYLIGHT
TZOFFSETFROM:-0800
TZOFFSETTO:-0700
TZNAME:PDT
DTSTART:20240310T100000
END:DAYLIGHT
BEGIN:STANDARD
TZOFFSETFROM:-0700
TZOFFSETTO:-0800
TZNAME:PST
DTSTART:20241103T090000
END:STANDARD
BEGIN:DAYLIGHT
TZOFFSETFROM:-0800
TZOFFSETTO:-0700
TZNAME:PDT
DTSTART:20250309T100000
END:DAYLIGHT
BEGIN:STANDARD
TZOFFSETFROM:-0700
TZOFFSETTO:-0800
TZNAME:PST
DTSTART:20251102T090000
END:STANDARD
BEGIN:DAYLIGHT
TZOFFSETFROM:-0800
TZOFFSETTO:-0700
TZNAME:PDT
DTSTART:20260308T100000
END:DAYLIGHT
BEGIN:STANDARD
TZOFFSETFROM:-0700
TZOFFSETTO:-0800
TZNAME:PST
DTSTART:20261101T090000
END:STANDARD
END:VTIMEZONE
BEGIN:VEVENT
DTSTART;TZID=America/Los_Angeles:20250207T000000
DTEND;TZID=America/Los_Angeles:20250302T235959
DTSTAMP:20260420T194525
CREATED:20250227T214805Z
LAST-MODIFIED:20250227T214805Z
UID:10000537-1738886400-1740959999@arts4mc.org
SUMMARY:Finding Nemo Jr.
DESCRIPTION:Disney’s Finding Nemo JR. is a 60-minute musical adaptation of the beloved 2003 Pixar movie Finding Nemo\, with new music by award-winning songwriting team Kristen Anderson-Lopez and Robert Lopez. Marlin\, an anxious and over-protective clownfish\, lives in the Great Barrier Reef with his kid Nemo\, who longs to explore the world beyond their anemone home. But when Nemo is captured and taken to Sydney\, Marlin faces his fears and sets off on an epic adventure across the ocean. With the help of lovable characters such as optimistic Dory\, laid-back sea turtle Crush\, and the supportive Tank Gang\, Marlin and Nemo both overcome challenges on their journey to find each other and themselves. Featuring memorable songs such as “Just Keep Swimming\,” “Fish Are Friends Not Food\,” and “Go With the Flow\,” Finding Nemo JR. brings a vibrant underwater world to life on stage in a story full of family\, friendship\, and adventure.
URL:https://arts4mc.org/event/finding-nemo-jr/
LOCATION:Golden Bough Playhouse – Golden Bough Theatre\, Monte Verde St. btwn 8th and 9th Aves\, Carmel-by-the-Sea\, CA\, 93922
ATTACH;FMTTYPE=image/jpeg:https://arts4mc.org/wp-content/uploads/2025/02/nemo-jr.jpg
ORGANIZER;CN="PacRep Theatre":MAILTO:contact@pacrep.org
GEO:36.554694;-121.924643
X-APPLE-STRUCTURED-LOCATION;VALUE=URI;X-ADDRESS=Golden Bough Playhouse – Golden Bough Theatre Monte Verde St. btwn 8th and 9th Aves Carmel-by-the-Sea CA 93922;X-APPLE-RADIUS=500;X-TITLE=Monte Verde St. btwn 8th and 9th Aves:geo:-121.924643,36.554694
END:VEVENT
BEGIN:VEVENT
DTSTART;TZID=America/Los_Angeles:20250301T090000
DTEND;TZID=America/Los_Angeles:20250301T100000
DTSTAMP:20260420T194525
CREATED:20250227T214858Z
LAST-MODIFIED:20250227T214858Z
UID:10000536-1740819600-1740823200@arts4mc.org
SUMMARY:Member Saturday Morning Sound Bath: 3/1\, 9-10am
DESCRIPTION:Museum members and their friends are invited to start the weekend with a relaxing sound bath at the Museum with Abril Esparza. All members are allowed to bring one friend\, Family Memberships and above may bring two. Space is limited so be sure to sign up! About the Pacific Grove Museum of Natural History In 1883\, the Museum opened its doors among the first wave of natural history museums in America. Naturalists of this era began a national tradition of hands-on science education and nature preservation\, a tradition the Museum has continued for over 140 years. The Museum’s mission is to inspire discovery\, wonder\, and stewardship of our natural world. It envisions a community of curious minds engaged in discovering the natural heritage and cultural legacy that exist today on the Central California Coast. The Museum is a catalyst for conservation and a valued learning resource in this region\, facilitating active inquiry for all ages. For more information\, visit www.pgmuseum.org.
URL:https://arts4mc.org/event/member-saturday-morning-sound-bath-3-1-9-10am/
LOCATION:Pacific Grove Museum of Natural History\, 165 Forest Ave\, Pacific Grove\,\, CA\, 93950
ATTACH;FMTTYPE=image/jpeg:https://arts4mc.org/wp-content/uploads/2025/02/unsplash-image-loDom-q2mwA.jpg
GEO:36.621836;-121.9172775
X-APPLE-STRUCTURED-LOCATION;VALUE=URI;X-ADDRESS=Pacific Grove Museum of Natural History 165 Forest Ave Pacific Grove CA 93950;X-APPLE-RADIUS=500;X-TITLE=165 Forest Ave:geo:-121.9172775,36.621836
END:VEVENT
BEGIN:VEVENT
DTSTART;TZID=America/Los_Angeles:20250302T153000
DTEND;TZID=America/Los_Angeles:20250302T203000
DTSTAMP:20260420T194525
CREATED:20250227T214927Z
LAST-MODIFIED:20250227T214927Z
UID:10000533-1740929400-1740947400@arts4mc.org
SUMMARY:????✨ ROLL OUT THE RED CARPET! ✨????
DESCRIPTION:Hollywood glamour is coming to Monterey on March 2nd! Walk the red carpet\, sip cocktails\, and celebrate the biggest night in film at our Celebrity Awards Night Celebration! ???? Mingle with local film insiders ???? Multiple viewing screens – never miss a moment! ???? Elegant light bites & cocktails ???? $10 discounted valet parking ???? Silent auction to support LA wildfire victims ????️ Tickets: $95 – Get yours now! ???? www.filmmonterey.org or https://www.eventbrite.com/e/celebrity-awards-night-tickets-1246688582109 ???? Monterey\, CA | Dress Code: Cocktail Attire Tag your fellow movie lovers and let’s make it a night to remember! ???????? ???? Sponsored by Honest Engine Films #MontereyFilm #CelebrityAwardsNight #RedCarpetReady #FilmMonterey #HollywoodGlam #MovieLovers
URL:https://arts4mc.org/event/%f0%9f%8e%a5%e2%9c%a8-roll-out-the-red-carpet-%e2%9c%a8%f0%9f%8e%a5/
LOCATION:Marriott Monterey\, 350 Calle Principal\, Monterey\, CA\, 93940\, United States
ATTACH;FMTTYPE=image/jpeg:https://arts4mc.org/wp-content/uploads/2025/02/https___cdn.evbuc_.com_images_961219333_35689288400_1_original.jpg
GEO:36.6006122;-121.8953764
X-APPLE-STRUCTURED-LOCATION;VALUE=URI;X-ADDRESS=Marriott Monterey 350 Calle Principal Monterey CA 93940 United States;X-APPLE-RADIUS=500;X-TITLE=350 Calle Principal:geo:-121.8953764,36.6006122
END:VEVENT
BEGIN:VEVENT
DTSTART;TZID=America/Los_Angeles:20250307T170000
DTEND;TZID=America/Los_Angeles:20250307T190000
DTSTAMP:20260420T194525
CREATED:20230517T200915Z
LAST-MODIFIED:20230517T200915Z
UID:10000072-1741366800-1741374000@arts4mc.org
SUMMARY:First Friday Monterey Museum of Art
DESCRIPTION:FREE after-hours access to the Museum on the First Friday of the month. Join us for an evening of art\, music\, and community gathering!
URL:https://arts4mc.org/event/first-friday-monterey-museum-of-art/2025-03-07/
LOCATION:Monterey Museum of Art\, 559 Pacific Street\, Monterey\, CA 93940\, 559 Pacific Street\, Monterey\, 93940
ATTACH;FMTTYPE=image/png:https://arts4mc.org/wp-content/uploads/2023/05/First-Friday-MMA-1.png
ORGANIZER;CN="Monterey Museum of Art":MAILTO:info@montereyart.org
GEO:36.5974996;-121.8966197
X-APPLE-STRUCTURED-LOCATION;VALUE=URI;X-ADDRESS=Monterey Museum of Art 559 Pacific Street Monterey CA 93940 559 Pacific Street Monterey 93940;X-APPLE-RADIUS=500;X-TITLE=559 Pacific Street:geo:-121.8966197,36.5974996
END:VEVENT
BEGIN:VEVENT
DTSTART;TZID=America/Los_Angeles:20250307T170000
DTEND;TZID=America/Los_Angeles:20250307T193000
DTSTAMP:20260420T194525
CREATED:20250102T223557Z
LAST-MODIFIED:20250102T223557Z
UID:10000525-1741366800-1741375800@arts4mc.org
SUMMARY:First Friday Artist Reception: JC Gonzalez\, Jerry Takigawa\, Natalia Poehner Corazza
DESCRIPTION:Join us in closing out “Celebrating Monterey County Art Fellows” at ArtWorks @Salinas! \nThis last Artist Reception will be held on Friday\, March 7th\, at 5 PM\, during Downtown Salinas’ 1st Friday Art Walk event. This exciting exhibit showcases the incredible work of 3 California Arts Council Individual Artist Fellowship recipients\, including JC Gonzalez\, Jerry Takigawa\, and Natalia Poehner Corazza. Enjoy live music\, small bites\, and the opportunity to meet the artists and see their inspiring pieces up close. Take the chance to see the artist studios of Shagufta Khan\, Emerald McColey\, Edge Lorenzo\, Deborah Good\, Kenji Tanner\, Nate Stapleton\, and Victoria Lee plus crafts from local artisans! The exhibit run will run through March 30\, 2025. \nArtWorks @Salinas is located at 262 Main Street\, Salinas\, CA. \nGallery hours: Friday-Sunday\, 10 AM – 2 PM.
URL:https://arts4mc.org/event/first-friday-artist-reception-jc-gonzalez-jerry-takigawa-natalia-poehner-corazza-2/
LOCATION:ArtWorks @Salinas\, 262 Main Street\, Salinas\, CA\, 93901\, United States
ATTACH;FMTTYPE=image/jpeg:https://arts4mc.org/wp-content/uploads/2025/01/Celebrating-MC-Art-Fellows-3.jpg
ORGANIZER;CN="Arts Council for Monterey County":MAILTO:info@arts4mc.org
GEO:36.6740282;-121.6552064
X-APPLE-STRUCTURED-LOCATION;VALUE=URI;X-ADDRESS=ArtWorks @Salinas 262 Main Street Salinas CA 93901 United States;X-APPLE-RADIUS=500;X-TITLE=262 Main Street:geo:-121.6552064,36.6740282
END:VEVENT
BEGIN:VEVENT
DTSTART;TZID=America/Los_Angeles:20250308T140000
DTEND;TZID=America/Los_Angeles:20250308T153000
DTSTAMP:20260420T194525
CREATED:20250206T222255Z
LAST-MODIFIED:20250206T222255Z
UID:10000529-1741442400-1741447800@arts4mc.org
SUMMARY:Afternoon with the Curator: Open Archive with Cydney Payton and Eleanor Uhlinger
DESCRIPTION:Join Guest Curator Cydney Payton and Monterey Museum of Art Archivist Eleanor Uhlinger in a conversation about presenting\, preserving\, and creating new futures for the work of fine artists. Open Archive will offer a rare behind-the-scenes conversation about Monterey Museum of Art’s historical archives and the curation of the exhibition Morley Baer: Modernism in Northern California Architecture. How does the process of making exhibitions from artist’s archives work? What is included and why? See and hear about works that were not selected for the exhibition. Learn about the importance of the archive in curatorial research and the role of the artist in the creation of their legacy. Gain a deeper understanding of Morley Baer’s methodology to ensure his place in history. Advance purchase is required. Seating is limited\, so we recommend reserving your tickets early. $5 MMA Members\, Students\, Military\, Under 18\, and SNAP Participants with EBT $20 General Admission. Includes an admission pass to MMA – Pacific Street. About the Presenters Cydney Payton is an American museum director\, curator\, and writer. Payton was the Director and Chief Curator for both the Museum of Contemporary Art Denver (2009–2000) and the Boulder Museum of Contemporary Art (2000–1991). Payton has curated over fifty exhibitions\, many for individual artists including Larry Bell\, Lynda Benglis\, Stan Brakhage\, Dale Chisman\, Yu-Chen Chou\, Dorothy Dehner\, Jane Hammond\, Damien Hirst\, Ana Maria Hernando\, Brad Kalhammer\, Susanne Kühn\, Roberto Behar and Rosario Marquardt\, Wangechi Mutu\, Erwin Redl\, Rex Ray\, Stacey Steers\, and Collier Schorr. She has written on artists such as Lynda Benglis\, Dorothy Dehner\, Jasper de Biejer\, Susanne Kühn\, Susan Meyer and Jeffrey Starr\, Barbara Shark\, Ann Shostrom\, Rex Ray\, and Clark Richert. Payton holds an MA in Curatorial Practice\, from California College of the Arts. Her practice focuses on the relationship between contemporary art and architectural histories and theories. Eleanor Uhlinger is the Archivist/Librarian at the Monterey Museum of Art. In her former role as University Librarian at the Naval Postgraduate School\, she created a Special Collections and Archives department to document and preserve the history of the School\, its students and faculty\, and its location on the grounds of the former Hotel Del Monte. After retirement\, she became active in the Monterey Regional Collections Roundtable\, a local group of archivists\, historians\, librarians\, and researchers who meet monthly to facilitate cooperation and promote a better understanding of the sound administration\, preservation\, and appropriate use of historical research and museum collections in the Monterey Region.
URL:https://arts4mc.org/event/afternoon-with-the-curator-open-archive-with-cydney-payton-and-eleanor-uhlinger/
LOCATION:559 Pacific St\, Monterey\, CA\, United States\, California
ATTACH;FMTTYPE=image/jpeg:https://arts4mc.org/wp-content/uploads/2025/02/MMoA_1_17_25-7861-2100x1400-d2a8cef2-1941-47ab-b4cf-d24aaf9e1e41.jpg
ORGANIZER;CN="Monterey Museum of Art":MAILTO:info@montereyart.org
END:VEVENT
BEGIN:VEVENT
DTSTART;TZID=America/Los_Angeles:20250308T160000
DTEND;TZID=America/Los_Angeles:20250308T190000
DTSTAMP:20260420T194525
CREATED:20240318T203025Z
LAST-MODIFIED:20240318T203025Z
UID:10000355-1741449600-1741460400@arts4mc.org
SUMMARY:Carmel Art Walk
DESCRIPTION:Founded and run by local artists\, the Carmel Art Walk is a free and family-friendly event. Support our local artists and keep the HEART of Carmel beating strong! Carmel Art Walk is the second Saturday every month from 4pm-7pm and is open to the public. Tour artist-owned galleries and meet the artists who carry on the Carmel-by-the-Sea artist colony legacy. Follow the blue lanterns at each gallery.
URL:https://arts4mc.org/event/carmel-art-walk/2025-03-08/
LOCATION:Throughout Carmel by the Sea\, CA\, 93921\, United States
GEO:36.5569;-121.92269
END:VEVENT
BEGIN:VEVENT
DTSTART;TZID=America/Los_Angeles:20250313T170000
DTEND;TZID=America/Los_Angeles:20250313T190000
DTSTAMP:20260420T194525
CREATED:20250311T173454Z
LAST-MODIFIED:20250311T173454Z
UID:10000541-1741885200-1741892400@arts4mc.org
SUMMARY:Art & Food Sovereignty
DESCRIPTION:A workshop conversation where Rudy Jimenez\, visual arts and UAC organizer shares about his journey into with Green Thumb Farms. JC with facilitate the conversation and lead an art activity.
URL:https://arts4mc.org/event/art-food-sovereignty/
LOCATION:Art & Healing UAC Gallery\, 21 Soledad St. Suit C.\, Salinas\, CA\, CA\, 93905
ATTACH;FMTTYPE=image/jpeg:https://arts4mc.org/wp-content/uploads/2025/03/Copy-of-RUDY-FOODJUST_20250308_232246_0000.jpg
ORGANIZER;CN="Urban Arts Collaborative":MAILTO:Uacarts@urbanartsco.org
END:VEVENT
BEGIN:VEVENT
DTSTART;TZID=America/Los_Angeles:20250315T133000
DTEND;TZID=America/Los_Angeles:20250315T163000
DTSTAMP:20260420T194525
CREATED:20250206T222357Z
LAST-MODIFIED:20250206T222357Z
UID:10000531-1742045400-1742056200@arts4mc.org
SUMMARY:Artist Workshop: Cyanotype Portraits and Landscapes With Iris McGilloway
DESCRIPTION:Learn how to make landscape and portrait cyanotypes with Iris McGilloway of Song Dog Studios using photo negatives. Participants are encouraged to bring their own personal photo negatives\, all other supplies are included. Open to all experience levels!
URL:https://arts4mc.org/event/artist-workshop-cyanotype-portraits-and-landscapes-with-iris-mcgilloway/
LOCATION:559 Pacific St\, Monterey\, CA\, United States\, California
ATTACH;FMTTYPE=image/jpeg:https://arts4mc.org/wp-content/uploads/2025/02/Iris-McGilloway-WS-Pic-2.jpg
ORGANIZER;CN="Monterey Museum of Art":MAILTO:info@montereyart.org
END:VEVENT
BEGIN:VEVENT
DTSTART;TZID=America/Los_Angeles:20250321T190000
DTEND;TZID=America/Los_Angeles:20250321T210000
DTSTAMP:20260420T194525
CREATED:20250311T173521Z
LAST-MODIFIED:20250311T173521Z
UID:10000540-1742583600-1742590800@arts4mc.org
SUMMARY:Something Rotten!
DESCRIPTION:Welcome to the Renaissance and the outrageous\, crowd-pleasing musical farce\, Something Rotten! Set in the 1590s\, brothers Nick and Nigel Bottom are desperate to write a hit play but are stuck in the shadow of that Renaissance rock star known as “The Bard.” When a local soothsayer foretells that the future of theatre involves singing\, dancing and acting at the same time\, Nick and Nigel set out to write the world’s very first musical. But amidst the scandalous excitement of opening night\, the Bottom Brothers realize that reaching the top means being true to thine own self\, and all that jazz. Something Rotten features large song and dance numbers\, and a wacky cast of over-the-top characters\, each with their own moment to shine! Show Dates: Friday 3/21/25\, Saturday 3/22/25\, Friday 3/28/25\, & Saturday 3/29/25 at 7pm Sunday 3/23/25 and Saturday 3/29/25 at 1pm Tickets available now!
URL:https://arts4mc.org/event/something-rotten/
LOCATION:Robert Stanton Theater\, King City CA\, 720 Broadway St.\, King City\, CA\, 93930\, United States
ATTACH;FMTTYPE=image/jpeg:https://arts4mc.org/wp-content/uploads/2025/03/Something-Rotten-Facebook-Post-1-1.jpg
ORGANIZER;CN="Sol Treasures":MAILTO:celebrate@soltreasures.com
GEO:36.209556;-121.1340756
X-APPLE-STRUCTURED-LOCATION;VALUE=URI;X-ADDRESS=Robert Stanton Theater King City CA 720 Broadway St. King City CA 93930 United States;X-APPLE-RADIUS=500;X-TITLE=720 Broadway St.:geo:-121.1340756,36.209556
END:VEVENT
BEGIN:VEVENT
DTSTART;TZID=America/Los_Angeles:20250322T100000
DTEND;TZID=America/Los_Angeles:20250322T140000
DTSTAMP:20260420T194525
CREATED:20250311T173539Z
LAST-MODIFIED:20250311T173539Z
UID:10000542-1742637600-1742652000@arts4mc.org
SUMMARY:Botanical Illustration: Spring Flowers Workshop
DESCRIPTION:Botanical Illustration: Spring Flowers Join us for a day of botanical exploration on paper. Working with local wildflowers\, participants will create botanical studies in pencil and color media. We will explore the shape\, gesture\, structure\, texture\, and color of our specimens to describe each plant’s unique features on paper. Learn rendering techniques\, color matching\, and terminology and gain a better appreciation for our local ecosystem through art. Date: March 22\, 2025 Ages: 12 – Adult Hours: 10am – 2pm Location: The Lyceum Instructor: Erin Ellis Class size: Limited to 8 students Fee: $60 (includes all materials)
URL:https://arts4mc.org/event/botanical-illustration-spring-flowers-workshop/
LOCATION:The Lyceum of Monterey County\, 1073 Sixth Street\, Monterey\, CA\, 93940\, United States
ATTACH;FMTTYPE=image/jpeg:https://arts4mc.org/wp-content/uploads/2025/03/ee-class-pic-spring-flowers-mariposa-lily-1.jpg
ORGANIZER;CN="The Lyceum of Monterey County":MAILTO:general@lyceum.org
GEO:36.5957026;-121.8815965
X-APPLE-STRUCTURED-LOCATION;VALUE=URI;X-ADDRESS=The Lyceum of Monterey County 1073 Sixth Street Monterey CA 93940 United States;X-APPLE-RADIUS=500;X-TITLE=1073 Sixth Street:geo:-121.8815965,36.5957026
END:VEVENT
END:VCALENDAR