BEGIN:VCALENDAR
VERSION:2.0
PRODID:-//Arts Council for Monterey County - ECPv6.15.14//NONSGML v1.0//EN
CALSCALE:GREGORIAN
METHOD:PUBLISH
X-WR-CALNAME:Arts Council for Monterey County
X-ORIGINAL-URL:https://arts4mc.org
X-WR-CALDESC:Events for Arts Council for Monterey County
REFRESH-INTERVAL;VALUE=DURATION:PT1H
X-Robots-Tag:noindex
X-PUBLISHED-TTL:PT1H
BEGIN:VTIMEZONE
TZID:America/Los_Angeles
BEGIN:DAYLIGHT
TZOFFSETFROM:-0800
TZOFFSETTO:-0700
TZNAME:PDT
DTSTART:20240310T100000
END:DAYLIGHT
BEGIN:STANDARD
TZOFFSETFROM:-0700
TZOFFSETTO:-0800
TZNAME:PST
DTSTART:20241103T090000
END:STANDARD
BEGIN:DAYLIGHT
TZOFFSETFROM:-0800
TZOFFSETTO:-0700
TZNAME:PDT
DTSTART:20250309T100000
END:DAYLIGHT
BEGIN:STANDARD
TZOFFSETFROM:-0700
TZOFFSETTO:-0800
TZNAME:PST
DTSTART:20251102T090000
END:STANDARD
BEGIN:DAYLIGHT
TZOFFSETFROM:-0800
TZOFFSETTO:-0700
TZNAME:PDT
DTSTART:20260308T100000
END:DAYLIGHT
BEGIN:STANDARD
TZOFFSETFROM:-0700
TZOFFSETTO:-0800
TZNAME:PST
DTSTART:20261101T090000
END:STANDARD
END:VTIMEZONE
BEGIN:VEVENT
DTSTART;TZID=America/Los_Angeles:20250103T170000
DTEND;TZID=America/Los_Angeles:20250103T190000
DTSTAMP:20260425T205723
CREATED:20230517T200915Z
LAST-MODIFIED:20230517T200915Z
UID:10000070-1735923600-1735930800@arts4mc.org
SUMMARY:First Friday Monterey Museum of Art
DESCRIPTION:FREE after-hours access to the Museum on the First Friday of the month. Join us for an evening of art\, music\, and community gathering!
URL:https://arts4mc.org/event/first-friday-monterey-museum-of-art/2025-01-03/
LOCATION:Monterey Museum of Art\, 559 Pacific Street\, Monterey\, CA 93940\, 559 Pacific Street\, Monterey\, 93940
ATTACH;FMTTYPE=image/png:https://arts4mc.org/wp-content/uploads/2023/05/First-Friday-MMA-1.png
ORGANIZER;CN="Monterey Museum of Art":MAILTO:info@montereyart.org
GEO:36.5974996;-121.8966197
X-APPLE-STRUCTURED-LOCATION;VALUE=URI;X-ADDRESS=Monterey Museum of Art 559 Pacific Street Monterey CA 93940 559 Pacific Street Monterey 93940;X-APPLE-RADIUS=500;X-TITLE=559 Pacific Street:geo:-121.8966197,36.5974996
END:VEVENT
BEGIN:VEVENT
DTSTART;TZID=America/Los_Angeles:20250103T170000
DTEND;TZID=America/Los_Angeles:20250103T193000
DTSTAMP:20260425T205723
CREATED:20250102T221845Z
LAST-MODIFIED:20250102T221845Z
UID:10000523-1735923600-1735932600@arts4mc.org
SUMMARY:First Friday Artist Reception: JC Gonzalez\, Jerry Takigawa\, Natalia Poehner Corazza
DESCRIPTION:Celebrate the start of the year by “Celebrating Monterey County Art Fellows” at ArtWorks @Salinas! Join us for the Opening Artist Reception on Friday\, January 3rd\, at 5 PM\, during Downtown Salinas’ 1st Friday Art Walk event. This exciting exhibit showcases the incredible work of 3 California Arts Council Individual Artist Fellowship recipients\, including JC Gonzalez\, Jerry Takigawa\, and Natalia Poehner Corazza. Enjoy live music\, small bites\, and the opportunity to meet the artists and see their inspiring pieces up close. Take the chance to see the artist studios of Shagufta Khan\, Emerald McColey\, Edge Lorenzo\, Deborah Good\, Kenji Tanner\, Nate Stapleton\, Victoria Lee\, and special pop-up guest Gomez Multimedia Art plus crafts from local artisans!  \nThe exhibit runs January 3 – March 30\, 2025\, with additional receptions on the First Friday of each month through March. ArtWorks @Salinas is located at 262 Main Street\, Salinas\, CA. \nGallery hours: Friday-Sunday\, 10 AM – 2 PM.
URL:https://arts4mc.org/event/first-friday-artist-reception-jc-gonzalez-jerry-takigawa-natlia-poehner-corazza/
LOCATION:ArtWorks @Salinas\, 262 Main Street\, Salinas\, CA\, 93901\, United States
ATTACH;FMTTYPE=image/jpeg:https://arts4mc.org/wp-content/uploads/2025/01/January-ArtWorks-SM-2024.jpg
ORGANIZER;CN="Arts Council for Monterey County":MAILTO:info@arts4mc.org
GEO:36.6740282;-121.6552064
X-APPLE-STRUCTURED-LOCATION;VALUE=URI;X-ADDRESS=ArtWorks @Salinas 262 Main Street Salinas CA 93901 United States;X-APPLE-RADIUS=500;X-TITLE=262 Main Street:geo:-121.6552064,36.6740282
END:VEVENT
BEGIN:VEVENT
DTSTART;TZID=America/Los_Angeles:20250111T160000
DTEND;TZID=America/Los_Angeles:20250111T190000
DTSTAMP:20260425T205723
CREATED:20240318T203025Z
LAST-MODIFIED:20240318T203025Z
UID:10000353-1736611200-1736622000@arts4mc.org
SUMMARY:Carmel Art Walk
DESCRIPTION:Founded and run by local artists\, the Carmel Art Walk is a free and family-friendly event. Support our local artists and keep the HEART of Carmel beating strong! Carmel Art Walk is the second Saturday every month from 4pm-7pm and is open to the public. Tour artist-owned galleries and meet the artists who carry on the Carmel-by-the-Sea artist colony legacy. Follow the blue lanterns at each gallery.
URL:https://arts4mc.org/event/carmel-art-walk/2025-01-11/
LOCATION:Throughout Carmel by the Sea\, CA\, 93921\, United States
GEO:36.5569;-121.92269
END:VEVENT
BEGIN:VEVENT
DTSTART;TZID=America/Los_Angeles:20250111T193000
DTEND;TZID=America/Los_Angeles:20250111T213000
DTSTAMP:20260425T205723
CREATED:20240814T160814Z
LAST-MODIFIED:20240814T160814Z
UID:10000468-1736623800-1736631000@arts4mc.org
SUMMARY:Isidore Quartet
DESCRIPTION:Pre-concert lecture at 6:30 pm.\n\nThe program includes pieces by Erwin\, Felix\, Gabriella\, and Maurice.\n\nErwin Schulhoff Five Pieces for String Quartet\n\nFelix Mendelssohn String Quintet No. 5 in E-flat Major\, Op.44 No.3\n\nGabriella Smith Carrot Revolution for String Quartet\n\nMaurice Ravel String Quartet in F Major\n\n\n\nPerformers\n\nAdrian Steele\, violin\n\nPhoenix Avalon\, violin\n\nDevin Moore\, viola\n\nJoshua McClendon\, cello\n\n\n\nAbout The Ensemble\n\nThe members of the quartet are violinists Adrian Steele and Phoenix Avalon\, violist Devin Moore\, and cellist Joshua McClendon. The four began as an ensemble at the Juilliard School\, and following a break during the global pandemic reconvened at the Kneisel Hall Chamber Music Festival in the summer of 2021 under the tutelage of Joel Krosnick. In addition to Mr. Krosnick\, the ISQ has coached with Joseph Lin\, Astrid Schween\, Laurie Smukler\, Joseph Kalichstein\, Roger Tapping\, Misha Amory\, Timothy Eddy\, Donald Weilerstein\, Atar Arad\, Robert McDonald\, Christoph Richter\, Miriam Fried\, and Paul Biss.\n\nWinners of a 2023 Avery Fisher Career Grant\, and the 14th Banff International String Quartet Competition in 2022\, the New York City-based Isidore String Quartet was formed in 2019 with a vision to revisit\, rediscover\, and reinvigorate the repertory. The quartet is heavily influenced by the Juilliard String Quartet and the idea of ‘approaching the established as if it were brand new\, and the new as if it were firmly established.’\n\nThe Isidore Quartet has appeared on major series in Chicago\, Pittsburgh\, Seattle\, Durham\, Washington (JFK Center)\, San Antonio\, Toronto\, Montreal\, and Ottawa\, and has collaborated with a number of eminent performers including James Ehnes\, Jeremy Denk\, Shai Wosner\, and Jon Nakamatsu. Their 23/24 season will feature appearances in Berkeley (Cal Performances)\, Boston (Celebrity Series)\, Washington DC (Phillips Collection)\, New York (92nd St. Y)\, Chicago\, Baltimore\, Ann Arbor\, Denver\, Houston\, Indianapolis\, Tucson\, Phoenix\, Santa Fe\, La Jolla\, Aspen\, Vancouver\, Calgary\, Edmonton\, and at Dartmouth College\, and Spivey Hall in Georgia\, among many others. European highlights include Edinburgh\, Lucerne\, Brussels\, Amsterdam\, Hanover\, Frankfurt\, and Hamburg’s ElbPhilharmonie.\n\nOutside the concert hall the quartet has worked with PROJECT: MUSIC HEALS US providing encouragement\, education\, and healing to marginalized communities – including elderly\, disabled\, rehabilitating incarcerated and homeless populations – who otherwise have limited access to high-quality live music performance. They have also been the resident ensemble for the Contemporary Alexander School/Alexander Alliance International. In conjunction with those well-versed in the world of Alexander Technique\, as well as other performers\, the ISQ explores the vast landscape of body awareness\, mental preparation\, and performance practice.\n\nThe name Isidore recognizes the ensemble’s musical connection to the Juilliard Quartet: one of that group’s early members was legendary violinist Isidore Cohen. Additionally\, it acknowledges a shared affection for a certain libation – legend has it a Greek monk named Isidore concocted the first genuine vodka recipe for the Grand Duchy of Moscow!
URL:https://arts4mc.org/event/isidore-quartet/
LOCATION:Sunset Center\, San Carlos St at Ninth Ave\, Carmel by the Sea\, CA\, 93921
ATTACH;FMTTYPE=image/jpeg:https://arts4mc.org/wp-content/uploads/2024/07/Isidore-Quartet.jpg
ORGANIZER;CN="Chamber Music Monterey Bay":MAILTO:info@chambermusicmontereybay.org
GEO:36.5513147;-121.9218091
X-APPLE-STRUCTURED-LOCATION;VALUE=URI;X-ADDRESS=Sunset Center San Carlos St at Ninth Ave Carmel by the Sea CA 93921;X-APPLE-RADIUS=500;X-TITLE=San Carlos St at Ninth Ave:geo:-121.9218091,36.5513147
END:VEVENT
BEGIN:VEVENT
DTSTART;TZID=America/Los_Angeles:20250125T190000
DTEND;TZID=America/Los_Angeles:20250125T210000
DTSTAMP:20260425T205723
CREATED:20250102T220707Z
LAST-MODIFIED:20250102T220707Z
UID:10000521-1737831600-1737838800@arts4mc.org
SUMMARY:Controlled Chaos Improv at Stanton Center!
DESCRIPTION:Get ready for a night of non-stop laughter and unpredictable fun at the Monterey History & Art at Stanton Center. Controlled Chaos Improv puts their own twist on traditional improvisational theatre. Quick wit and spontaneous energy are combined with truth in comedy to bring something fresh and fun to the stage! Grab your friends and join us for an evening you won’t soon forget!
URL:https://arts4mc.org/event/controlled-chaos-improv-at-stanton-center/
LOCATION:Stanton Center\, 5 Custom Plaza\, Monterey\, CA\, 93940\, United States
ATTACH;FMTTYPE=image/jpeg:https://arts4mc.org/wp-content/uploads/2024/12/7D8CAFB1-8CF6-45CC-998D-B66FCC48A82FDSC04534.jpeg
ORGANIZER;CN="Comedy Variety Showcase":MAILTO:comedyvarietyshowcase@gmail.com
GEO:36.6024314;-121.8932914
X-APPLE-STRUCTURED-LOCATION;VALUE=URI;X-ADDRESS=Stanton Center 5 Custom Plaza Monterey CA 93940 United States;X-APPLE-RADIUS=500;X-TITLE=5 Custom Plaza:geo:-121.8932914,36.6024314
END:VEVENT
BEGIN:VEVENT
DTSTART;TZID=America/Los_Angeles:20250131T080000
DTEND;TZID=America/Los_Angeles:20250131T220000
DTSTAMP:20260425T205723
CREATED:20250113T213549Z
LAST-MODIFIED:20250113T213549Z
UID:10000526-1738310400-1738360800@arts4mc.org
SUMMARY:Clue: On Stage
DESCRIPTION:Based on the iconic 1985 Paramount movie inspired by the classic Hasbro board game\, Clue is a hilarious murder mystery. Six guests gather at a remote mansion for a dinner party that turns deadly when their host is found murdered. As the body count rises\, Wadsworth the butler\, along with Miss Scarlet\, Professor Plum\, Mrs. White\, Mr. Green\, Mrs. Peacock\, and Colonel Mustard\, race to uncover the killer. This comedy whodunit will have both cult fans and newcomers laughing as they try to solve the mystery of WHO\, WHERE\, and WITH WHAT!
URL:https://arts4mc.org/event/clue-on-stage/
LOCATION:Paper Wing Theatre 711 Cannery Row Suite I Monterey\, Ca. 93940\, 711 Canner Row Suite I\, Monterey\, CA\, 93940\, United States
ATTACH;FMTTYPE=image/png:https://arts4mc.org/wp-content/uploads/2025/01/clueposterstarter2-scaled.png
GEO:36.6160924;-121.900684
X-APPLE-STRUCTURED-LOCATION;VALUE=URI;X-ADDRESS=Paper Wing Theatre 711 Cannery Row Suite I Monterey Ca. 93940 711 Canner Row Suite I Monterey CA 93940 United States;X-APPLE-RADIUS=500;X-TITLE=711 Canner Row Suite I:geo:-121.900684,36.6160924
END:VEVENT
END:VCALENDAR