BEGIN:VCALENDAR
VERSION:2.0
PRODID:-//Arts Council for Monterey County - ECPv6.15.14//NONSGML v1.0//EN
CALSCALE:GREGORIAN
METHOD:PUBLISH
X-ORIGINAL-URL:https://arts4mc.org
X-WR-CALDESC:Events for Arts Council for Monterey County
REFRESH-INTERVAL;VALUE=DURATION:PT1H
X-Robots-Tag:noindex
X-PUBLISHED-TTL:PT1H
BEGIN:VTIMEZONE
TZID:America/Los_Angeles
BEGIN:DAYLIGHT
TZOFFSETFROM:-0800
TZOFFSETTO:-0700
TZNAME:PDT
DTSTART:20290311T100000
END:DAYLIGHT
BEGIN:STANDARD
TZOFFSETFROM:-0700
TZOFFSETTO:-0800
TZNAME:PST
DTSTART:20291104T090000
END:STANDARD
BEGIN:DAYLIGHT
TZOFFSETFROM:-0800
TZOFFSETTO:-0700
TZNAME:PDT
DTSTART:20300310T100000
END:DAYLIGHT
BEGIN:STANDARD
TZOFFSETFROM:-0700
TZOFFSETTO:-0800
TZNAME:PST
DTSTART:20301103T090000
END:STANDARD
BEGIN:DAYLIGHT
TZOFFSETFROM:-0800
TZOFFSETTO:-0700
TZNAME:PDT
DTSTART:20310309T100000
END:DAYLIGHT
BEGIN:STANDARD
TZOFFSETFROM:-0700
TZOFFSETTO:-0800
TZNAME:PST
DTSTART:20311102T090000
END:STANDARD
END:VTIMEZONE
BEGIN:VEVENT
DTSTART;TZID=America/Los_Angeles:20300301T170000
DTEND;TZID=America/Los_Angeles:20300301T190000
DTSTAMP:20260423T151653
CREATED:20230517T200915Z
LAST-MODIFIED:20230517T200915Z
UID:10000132-1898614800-1898622000@arts4mc.org
SUMMARY:First Friday Monterey Museum of Art
DESCRIPTION:FREE after-hours access to the Museum on the First Friday of the month. Join us for an evening of art\, music\, and community gathering!
URL:https://arts4mc.org/event/first-friday-monterey-museum-of-art/2030-03-01/
LOCATION:Monterey Museum of Art\, 559 Pacific Street\, Monterey\, CA 93940\, 559 Pacific Street\, Monterey\, 93940
ATTACH;FMTTYPE=image/png:https://arts4mc.org/wp-content/uploads/2023/05/First-Friday-MMA-1.png
ORGANIZER;CN="Monterey Museum of Art":MAILTO:info@montereyart.org
GEO:36.5974996;-121.8966197
X-APPLE-STRUCTURED-LOCATION;VALUE=URI;X-ADDRESS=Monterey Museum of Art 559 Pacific Street Monterey CA 93940 559 Pacific Street Monterey 93940;X-APPLE-RADIUS=500;X-TITLE=559 Pacific Street:geo:-121.8966197,36.5974996
END:VEVENT
BEGIN:VEVENT
DTSTART;TZID=America/Los_Angeles:20300301T170000
DTEND;TZID=America/Los_Angeles:20300301T210000
DTSTAMP:20260423T151653
CREATED:20250905T174628Z
LAST-MODIFIED:20250905T174628Z
UID:10002482-1898614800-1898629200@arts4mc.org
SUMMARY:Night Market 831
DESCRIPTION:Inspired by the vibrant open-air street bazaars from around the world\, Night Market 831 is a lively gathering where friends and families can sip\, savor\, socialize\, dance\, shop\, and explore. Held in the colorful Sand City Art Park\, surrounded by stunning murals\, the market creates a unique and inviting atmosphere. We are committed to fostering a safe\, fun\, and inclusive community space\, featuring a rotating lineup of local performers\, creatives\, and entrepreneurs who bring their talents to life each month.
URL:https://arts4mc.org/event/night-market-831-2/2030-03-01/
LOCATION:sand city art park\, 525 Ortiz Ave\, Sand City\, CA\, 93955\, United States
ATTACH;FMTTYPE=image/png:https://arts4mc.org/wp-content/uploads/2025/09/NightMarket-General.png
GEO:36.6124663;-121.8516949
X-APPLE-STRUCTURED-LOCATION;VALUE=URI;X-ADDRESS=sand city art park 525 Ortiz Ave Sand City CA 93955 United States;X-APPLE-RADIUS=500;X-TITLE=525 Ortiz Ave:geo:-121.8516949,36.6124663
END:VEVENT
BEGIN:VEVENT
DTSTART;TZID=America/Los_Angeles:20300309T160000
DTEND;TZID=America/Los_Angeles:20300309T190000
DTSTAMP:20260423T151653
CREATED:20240318T203025Z
LAST-MODIFIED:20240318T203025Z
UID:10000415-1899302400-1899313200@arts4mc.org
SUMMARY:Carmel Art Walk
DESCRIPTION:Founded and run by local artists\, the Carmel Art Walk is a free and family-friendly event. Support our local artists and keep the HEART of Carmel beating strong! Carmel Art Walk is the second Saturday every month from 4pm-7pm and is open to the public. Tour artist-owned galleries and meet the artists who carry on the Carmel-by-the-Sea artist colony legacy. Follow the blue lanterns at each gallery.
URL:https://arts4mc.org/event/carmel-art-walk/2030-03-09/
LOCATION:Throughout Carmel by the Sea\, CA\, 93921\, United States
GEO:36.5569;-121.92269
END:VEVENT
BEGIN:VEVENT
DTSTART;TZID=America/Los_Angeles:20300309T173000
DTEND;TZID=America/Los_Angeles:20300309T183000
DTSTAMP:20260423T151653
CREATED:20250822T183427Z
LAST-MODIFIED:20250822T183427Z
UID:10001120-1899307800-1899311400@arts4mc.org
SUMMARY:Monterey Bay Poetry Consortium
DESCRIPTION:Pacific Grove Public Library hosts a monthly reading by poets from Central California and beyond\, organized by the Monterey Bay Poetry Consortium. Enjoy all styles of poetry\, created fresh by local poets. Sept. 13: Avery Burns and Lee Knight Jr.; Oct. 11: Chrissy Hernandez and Brandi Kary.
URL:https://arts4mc.org/event/monterey-bay-poetry-consortium/2030-03-09/
LOCATION:Pacific Grove Public Library\, 550 Central Ave\, Pacific Grove\, CA\, 93950\, United States
GEO:36.6222829;-121.9163039
X-APPLE-STRUCTURED-LOCATION;VALUE=URI;X-ADDRESS=Pacific Grove Public Library 550 Central Ave Pacific Grove CA 93950 United States;X-APPLE-RADIUS=500;X-TITLE=550 Central Ave:geo:-121.9163039,36.6222829
END:VEVENT
BEGIN:VEVENT
DTSTART;TZID=America/Los_Angeles:20300405T170000
DTEND;TZID=America/Los_Angeles:20300405T190000
DTSTAMP:20260423T151653
CREATED:20230517T200915Z
LAST-MODIFIED:20230517T200915Z
UID:10000133-1901638800-1901646000@arts4mc.org
SUMMARY:First Friday Monterey Museum of Art
DESCRIPTION:FREE after-hours access to the Museum on the First Friday of the month. Join us for an evening of art\, music\, and community gathering!
URL:https://arts4mc.org/event/first-friday-monterey-museum-of-art/2030-04-05/
LOCATION:Monterey Museum of Art\, 559 Pacific Street\, Monterey\, CA 93940\, 559 Pacific Street\, Monterey\, 93940
ATTACH;FMTTYPE=image/png:https://arts4mc.org/wp-content/uploads/2023/05/First-Friday-MMA-1.png
ORGANIZER;CN="Monterey Museum of Art":MAILTO:info@montereyart.org
GEO:36.5974996;-121.8966197
X-APPLE-STRUCTURED-LOCATION;VALUE=URI;X-ADDRESS=Monterey Museum of Art 559 Pacific Street Monterey CA 93940 559 Pacific Street Monterey 93940;X-APPLE-RADIUS=500;X-TITLE=559 Pacific Street:geo:-121.8966197,36.5974996
END:VEVENT
BEGIN:VEVENT
DTSTART;TZID=America/Los_Angeles:20300405T170000
DTEND;TZID=America/Los_Angeles:20300405T210000
DTSTAMP:20260423T151653
CREATED:20250905T174628Z
LAST-MODIFIED:20250905T174628Z
UID:10002483-1901638800-1901653200@arts4mc.org
SUMMARY:Night Market 831
DESCRIPTION:Inspired by the vibrant open-air street bazaars from around the world\, Night Market 831 is a lively gathering where friends and families can sip\, savor\, socialize\, dance\, shop\, and explore. Held in the colorful Sand City Art Park\, surrounded by stunning murals\, the market creates a unique and inviting atmosphere. We are committed to fostering a safe\, fun\, and inclusive community space\, featuring a rotating lineup of local performers\, creatives\, and entrepreneurs who bring their talents to life each month.
URL:https://arts4mc.org/event/night-market-831-2/2030-04-05/
LOCATION:sand city art park\, 525 Ortiz Ave\, Sand City\, CA\, 93955\, United States
ATTACH;FMTTYPE=image/png:https://arts4mc.org/wp-content/uploads/2025/09/NightMarket-General.png
GEO:36.6124663;-121.8516949
X-APPLE-STRUCTURED-LOCATION;VALUE=URI;X-ADDRESS=sand city art park 525 Ortiz Ave Sand City CA 93955 United States;X-APPLE-RADIUS=500;X-TITLE=525 Ortiz Ave:geo:-121.8516949,36.6124663
END:VEVENT
BEGIN:VEVENT
DTSTART;TZID=America/Los_Angeles:20300413T160000
DTEND;TZID=America/Los_Angeles:20300413T190000
DTSTAMP:20260423T151653
CREATED:20240318T203025Z
LAST-MODIFIED:20240318T203025Z
UID:10000416-1902326400-1902337200@arts4mc.org
SUMMARY:Carmel Art Walk
DESCRIPTION:Founded and run by local artists\, the Carmel Art Walk is a free and family-friendly event. Support our local artists and keep the HEART of Carmel beating strong! Carmel Art Walk is the second Saturday every month from 4pm-7pm and is open to the public. Tour artist-owned galleries and meet the artists who carry on the Carmel-by-the-Sea artist colony legacy. Follow the blue lanterns at each gallery.
URL:https://arts4mc.org/event/carmel-art-walk/2030-04-13/
LOCATION:Throughout Carmel by the Sea\, CA\, 93921\, United States
GEO:36.5569;-121.92269
END:VEVENT
BEGIN:VEVENT
DTSTART;TZID=America/Los_Angeles:20300413T173000
DTEND;TZID=America/Los_Angeles:20300413T183000
DTSTAMP:20260423T151653
CREATED:20250822T183427Z
LAST-MODIFIED:20250822T183427Z
UID:10001121-1902331800-1902335400@arts4mc.org
SUMMARY:Monterey Bay Poetry Consortium
DESCRIPTION:Pacific Grove Public Library hosts a monthly reading by poets from Central California and beyond\, organized by the Monterey Bay Poetry Consortium. Enjoy all styles of poetry\, created fresh by local poets. Sept. 13: Avery Burns and Lee Knight Jr.; Oct. 11: Chrissy Hernandez and Brandi Kary.
URL:https://arts4mc.org/event/monterey-bay-poetry-consortium/2030-04-13/
LOCATION:Pacific Grove Public Library\, 550 Central Ave\, Pacific Grove\, CA\, 93950\, United States
GEO:36.6222829;-121.9163039
X-APPLE-STRUCTURED-LOCATION;VALUE=URI;X-ADDRESS=Pacific Grove Public Library 550 Central Ave Pacific Grove CA 93950 United States;X-APPLE-RADIUS=500;X-TITLE=550 Central Ave:geo:-121.9163039,36.6222829
END:VEVENT
BEGIN:VEVENT
DTSTART;TZID=America/Los_Angeles:20300503T170000
DTEND;TZID=America/Los_Angeles:20300503T190000
DTSTAMP:20260423T151653
CREATED:20230517T200915Z
LAST-MODIFIED:20230517T200915Z
UID:10000134-1904058000-1904065200@arts4mc.org
SUMMARY:First Friday Monterey Museum of Art
DESCRIPTION:FREE after-hours access to the Museum on the First Friday of the month. Join us for an evening of art\, music\, and community gathering!
URL:https://arts4mc.org/event/first-friday-monterey-museum-of-art/2030-05-03/
LOCATION:Monterey Museum of Art\, 559 Pacific Street\, Monterey\, CA 93940\, 559 Pacific Street\, Monterey\, 93940
ATTACH;FMTTYPE=image/png:https://arts4mc.org/wp-content/uploads/2023/05/First-Friday-MMA-1.png
ORGANIZER;CN="Monterey Museum of Art":MAILTO:info@montereyart.org
GEO:36.5974996;-121.8966197
X-APPLE-STRUCTURED-LOCATION;VALUE=URI;X-ADDRESS=Monterey Museum of Art 559 Pacific Street Monterey CA 93940 559 Pacific Street Monterey 93940;X-APPLE-RADIUS=500;X-TITLE=559 Pacific Street:geo:-121.8966197,36.5974996
END:VEVENT
BEGIN:VEVENT
DTSTART;TZID=America/Los_Angeles:20300503T170000
DTEND;TZID=America/Los_Angeles:20300503T210000
DTSTAMP:20260423T151653
CREATED:20250905T174628Z
LAST-MODIFIED:20250905T174628Z
UID:10002484-1904058000-1904072400@arts4mc.org
SUMMARY:Night Market 831
DESCRIPTION:Inspired by the vibrant open-air street bazaars from around the world\, Night Market 831 is a lively gathering where friends and families can sip\, savor\, socialize\, dance\, shop\, and explore. Held in the colorful Sand City Art Park\, surrounded by stunning murals\, the market creates a unique and inviting atmosphere. We are committed to fostering a safe\, fun\, and inclusive community space\, featuring a rotating lineup of local performers\, creatives\, and entrepreneurs who bring their talents to life each month.
URL:https://arts4mc.org/event/night-market-831-2/2030-05-03/
LOCATION:sand city art park\, 525 Ortiz Ave\, Sand City\, CA\, 93955\, United States
ATTACH;FMTTYPE=image/png:https://arts4mc.org/wp-content/uploads/2025/09/NightMarket-General.png
GEO:36.6124663;-121.8516949
X-APPLE-STRUCTURED-LOCATION;VALUE=URI;X-ADDRESS=sand city art park 525 Ortiz Ave Sand City CA 93955 United States;X-APPLE-RADIUS=500;X-TITLE=525 Ortiz Ave:geo:-121.8516949,36.6124663
END:VEVENT
BEGIN:VEVENT
DTSTART;TZID=America/Los_Angeles:20300511T160000
DTEND;TZID=America/Los_Angeles:20300511T190000
DTSTAMP:20260423T151653
CREATED:20240318T203025Z
LAST-MODIFIED:20240318T203025Z
UID:10000417-1904745600-1904756400@arts4mc.org
SUMMARY:Carmel Art Walk
DESCRIPTION:Founded and run by local artists\, the Carmel Art Walk is a free and family-friendly event. Support our local artists and keep the HEART of Carmel beating strong! Carmel Art Walk is the second Saturday every month from 4pm-7pm and is open to the public. Tour artist-owned galleries and meet the artists who carry on the Carmel-by-the-Sea artist colony legacy. Follow the blue lanterns at each gallery.
URL:https://arts4mc.org/event/carmel-art-walk/2030-05-11/
LOCATION:Throughout Carmel by the Sea\, CA\, 93921\, United States
GEO:36.5569;-121.92269
END:VEVENT
BEGIN:VEVENT
DTSTART;TZID=America/Los_Angeles:20300511T173000
DTEND;TZID=America/Los_Angeles:20300511T183000
DTSTAMP:20260423T151653
CREATED:20250822T183427Z
LAST-MODIFIED:20250822T183427Z
UID:10001122-1904751000-1904754600@arts4mc.org
SUMMARY:Monterey Bay Poetry Consortium
DESCRIPTION:Pacific Grove Public Library hosts a monthly reading by poets from Central California and beyond\, organized by the Monterey Bay Poetry Consortium. Enjoy all styles of poetry\, created fresh by local poets. Sept. 13: Avery Burns and Lee Knight Jr.; Oct. 11: Chrissy Hernandez and Brandi Kary.
URL:https://arts4mc.org/event/monterey-bay-poetry-consortium/2030-05-11/
LOCATION:Pacific Grove Public Library\, 550 Central Ave\, Pacific Grove\, CA\, 93950\, United States
GEO:36.6222829;-121.9163039
X-APPLE-STRUCTURED-LOCATION;VALUE=URI;X-ADDRESS=Pacific Grove Public Library 550 Central Ave Pacific Grove CA 93950 United States;X-APPLE-RADIUS=500;X-TITLE=550 Central Ave:geo:-121.9163039,36.6222829
END:VEVENT
BEGIN:VEVENT
DTSTART;TZID=America/Los_Angeles:20300607T170000
DTEND;TZID=America/Los_Angeles:20300607T190000
DTSTAMP:20260423T151653
CREATED:20230517T200915Z
LAST-MODIFIED:20230517T200915Z
UID:10000135-1907082000-1907089200@arts4mc.org
SUMMARY:First Friday Monterey Museum of Art
DESCRIPTION:FREE after-hours access to the Museum on the First Friday of the month. Join us for an evening of art\, music\, and community gathering!
URL:https://arts4mc.org/event/first-friday-monterey-museum-of-art/2030-06-07/
LOCATION:Monterey Museum of Art\, 559 Pacific Street\, Monterey\, CA 93940\, 559 Pacific Street\, Monterey\, 93940
ATTACH;FMTTYPE=image/png:https://arts4mc.org/wp-content/uploads/2023/05/First-Friday-MMA-1.png
ORGANIZER;CN="Monterey Museum of Art":MAILTO:info@montereyart.org
GEO:36.5974996;-121.8966197
X-APPLE-STRUCTURED-LOCATION;VALUE=URI;X-ADDRESS=Monterey Museum of Art 559 Pacific Street Monterey CA 93940 559 Pacific Street Monterey 93940;X-APPLE-RADIUS=500;X-TITLE=559 Pacific Street:geo:-121.8966197,36.5974996
END:VEVENT
BEGIN:VEVENT
DTSTART;TZID=America/Los_Angeles:20300607T170000
DTEND;TZID=America/Los_Angeles:20300607T210000
DTSTAMP:20260423T151653
CREATED:20250905T174628Z
LAST-MODIFIED:20250905T174628Z
UID:10002485-1907082000-1907096400@arts4mc.org
SUMMARY:Night Market 831
DESCRIPTION:Inspired by the vibrant open-air street bazaars from around the world\, Night Market 831 is a lively gathering where friends and families can sip\, savor\, socialize\, dance\, shop\, and explore. Held in the colorful Sand City Art Park\, surrounded by stunning murals\, the market creates a unique and inviting atmosphere. We are committed to fostering a safe\, fun\, and inclusive community space\, featuring a rotating lineup of local performers\, creatives\, and entrepreneurs who bring their talents to life each month.
URL:https://arts4mc.org/event/night-market-831-2/2030-06-07/
LOCATION:sand city art park\, 525 Ortiz Ave\, Sand City\, CA\, 93955\, United States
ATTACH;FMTTYPE=image/png:https://arts4mc.org/wp-content/uploads/2025/09/NightMarket-General.png
GEO:36.6124663;-121.8516949
X-APPLE-STRUCTURED-LOCATION;VALUE=URI;X-ADDRESS=sand city art park 525 Ortiz Ave Sand City CA 93955 United States;X-APPLE-RADIUS=500;X-TITLE=525 Ortiz Ave:geo:-121.8516949,36.6124663
END:VEVENT
BEGIN:VEVENT
DTSTART;TZID=America/Los_Angeles:20300608T160000
DTEND;TZID=America/Los_Angeles:20300608T190000
DTSTAMP:20260423T151653
CREATED:20240318T203025Z
LAST-MODIFIED:20240318T203025Z
UID:10000418-1907164800-1907175600@arts4mc.org
SUMMARY:Carmel Art Walk
DESCRIPTION:Founded and run by local artists\, the Carmel Art Walk is a free and family-friendly event. Support our local artists and keep the HEART of Carmel beating strong! Carmel Art Walk is the second Saturday every month from 4pm-7pm and is open to the public. Tour artist-owned galleries and meet the artists who carry on the Carmel-by-the-Sea artist colony legacy. Follow the blue lanterns at each gallery.
URL:https://arts4mc.org/event/carmel-art-walk/2030-06-08/
LOCATION:Throughout Carmel by the Sea\, CA\, 93921\, United States
GEO:36.5569;-121.92269
END:VEVENT
BEGIN:VEVENT
DTSTART;TZID=America/Los_Angeles:20300608T173000
DTEND;TZID=America/Los_Angeles:20300608T183000
DTSTAMP:20260423T151653
CREATED:20250822T183427Z
LAST-MODIFIED:20250822T183427Z
UID:10001123-1907170200-1907173800@arts4mc.org
SUMMARY:Monterey Bay Poetry Consortium
DESCRIPTION:Pacific Grove Public Library hosts a monthly reading by poets from Central California and beyond\, organized by the Monterey Bay Poetry Consortium. Enjoy all styles of poetry\, created fresh by local poets. Sept. 13: Avery Burns and Lee Knight Jr.; Oct. 11: Chrissy Hernandez and Brandi Kary.
URL:https://arts4mc.org/event/monterey-bay-poetry-consortium/2030-06-08/
LOCATION:Pacific Grove Public Library\, 550 Central Ave\, Pacific Grove\, CA\, 93950\, United States
GEO:36.6222829;-121.9163039
X-APPLE-STRUCTURED-LOCATION;VALUE=URI;X-ADDRESS=Pacific Grove Public Library 550 Central Ave Pacific Grove CA 93950 United States;X-APPLE-RADIUS=500;X-TITLE=550 Central Ave:geo:-121.9163039,36.6222829
END:VEVENT
BEGIN:VEVENT
DTSTART;TZID=America/Los_Angeles:20300705T170000
DTEND;TZID=America/Los_Angeles:20300705T210000
DTSTAMP:20260423T151653
CREATED:20250905T174628Z
LAST-MODIFIED:20250905T174628Z
UID:10002486-1909501200-1909515600@arts4mc.org
SUMMARY:Night Market 831
DESCRIPTION:Inspired by the vibrant open-air street bazaars from around the world\, Night Market 831 is a lively gathering where friends and families can sip\, savor\, socialize\, dance\, shop\, and explore. Held in the colorful Sand City Art Park\, surrounded by stunning murals\, the market creates a unique and inviting atmosphere. We are committed to fostering a safe\, fun\, and inclusive community space\, featuring a rotating lineup of local performers\, creatives\, and entrepreneurs who bring their talents to life each month.
URL:https://arts4mc.org/event/night-market-831-2/2030-07-05/
LOCATION:sand city art park\, 525 Ortiz Ave\, Sand City\, CA\, 93955\, United States
ATTACH;FMTTYPE=image/png:https://arts4mc.org/wp-content/uploads/2025/09/NightMarket-General.png
GEO:36.6124663;-121.8516949
X-APPLE-STRUCTURED-LOCATION;VALUE=URI;X-ADDRESS=sand city art park 525 Ortiz Ave Sand City CA 93955 United States;X-APPLE-RADIUS=500;X-TITLE=525 Ortiz Ave:geo:-121.8516949,36.6124663
END:VEVENT
BEGIN:VEVENT
DTSTART;TZID=America/Los_Angeles:20300713T173000
DTEND;TZID=America/Los_Angeles:20300713T183000
DTSTAMP:20260423T151653
CREATED:20250822T183427Z
LAST-MODIFIED:20250822T183427Z
UID:10001124-1910194200-1910197800@arts4mc.org
SUMMARY:Monterey Bay Poetry Consortium
DESCRIPTION:Pacific Grove Public Library hosts a monthly reading by poets from Central California and beyond\, organized by the Monterey Bay Poetry Consortium. Enjoy all styles of poetry\, created fresh by local poets. Sept. 13: Avery Burns and Lee Knight Jr.; Oct. 11: Chrissy Hernandez and Brandi Kary.
URL:https://arts4mc.org/event/monterey-bay-poetry-consortium/2030-07-13/
LOCATION:Pacific Grove Public Library\, 550 Central Ave\, Pacific Grove\, CA\, 93950\, United States
GEO:36.6222829;-121.9163039
X-APPLE-STRUCTURED-LOCATION;VALUE=URI;X-ADDRESS=Pacific Grove Public Library 550 Central Ave Pacific Grove CA 93950 United States;X-APPLE-RADIUS=500;X-TITLE=550 Central Ave:geo:-121.9163039,36.6222829
END:VEVENT
BEGIN:VEVENT
DTSTART;TZID=America/Los_Angeles:20300802T170000
DTEND;TZID=America/Los_Angeles:20300802T210000
DTSTAMP:20260423T151653
CREATED:20250905T174628Z
LAST-MODIFIED:20250905T174628Z
UID:10002487-1911920400-1911934800@arts4mc.org
SUMMARY:Night Market 831
DESCRIPTION:Inspired by the vibrant open-air street bazaars from around the world\, Night Market 831 is a lively gathering where friends and families can sip\, savor\, socialize\, dance\, shop\, and explore. Held in the colorful Sand City Art Park\, surrounded by stunning murals\, the market creates a unique and inviting atmosphere. We are committed to fostering a safe\, fun\, and inclusive community space\, featuring a rotating lineup of local performers\, creatives\, and entrepreneurs who bring their talents to life each month.
URL:https://arts4mc.org/event/night-market-831-2/2030-08-02/
LOCATION:sand city art park\, 525 Ortiz Ave\, Sand City\, CA\, 93955\, United States
ATTACH;FMTTYPE=image/png:https://arts4mc.org/wp-content/uploads/2025/09/NightMarket-General.png
GEO:36.6124663;-121.8516949
X-APPLE-STRUCTURED-LOCATION;VALUE=URI;X-ADDRESS=sand city art park 525 Ortiz Ave Sand City CA 93955 United States;X-APPLE-RADIUS=500;X-TITLE=525 Ortiz Ave:geo:-121.8516949,36.6124663
END:VEVENT
BEGIN:VEVENT
DTSTART;TZID=America/Los_Angeles:20300810T173000
DTEND;TZID=America/Los_Angeles:20300810T183000
DTSTAMP:20260423T151653
CREATED:20250822T183427Z
LAST-MODIFIED:20250822T183427Z
UID:10001125-1912613400-1912617000@arts4mc.org
SUMMARY:Monterey Bay Poetry Consortium
DESCRIPTION:Pacific Grove Public Library hosts a monthly reading by poets from Central California and beyond\, organized by the Monterey Bay Poetry Consortium. Enjoy all styles of poetry\, created fresh by local poets. Sept. 13: Avery Burns and Lee Knight Jr.; Oct. 11: Chrissy Hernandez and Brandi Kary.
URL:https://arts4mc.org/event/monterey-bay-poetry-consortium/2030-08-10/
LOCATION:Pacific Grove Public Library\, 550 Central Ave\, Pacific Grove\, CA\, 93950\, United States
GEO:36.6222829;-121.9163039
X-APPLE-STRUCTURED-LOCATION;VALUE=URI;X-ADDRESS=Pacific Grove Public Library 550 Central Ave Pacific Grove CA 93950 United States;X-APPLE-RADIUS=500;X-TITLE=550 Central Ave:geo:-121.9163039,36.6222829
END:VEVENT
END:VCALENDAR