BEGIN:VCALENDAR
VERSION:2.0
PRODID:-//Arts Council for Monterey County - ECPv6.15.14//NONSGML v1.0//EN
CALSCALE:GREGORIAN
METHOD:PUBLISH
X-ORIGINAL-URL:https://arts4mc.org
X-WR-CALDESC:Events for Arts Council for Monterey County
REFRESH-INTERVAL;VALUE=DURATION:PT1H
X-Robots-Tag:noindex
X-PUBLISHED-TTL:PT1H
BEGIN:VTIMEZONE
TZID:America/Los_Angeles
BEGIN:DAYLIGHT
TZOFFSETFROM:-0800
TZOFFSETTO:-0700
TZNAME:PDT
DTSTART:20240310T100000
END:DAYLIGHT
BEGIN:STANDARD
TZOFFSETFROM:-0700
TZOFFSETTO:-0800
TZNAME:PST
DTSTART:20241103T090000
END:STANDARD
BEGIN:DAYLIGHT
TZOFFSETFROM:-0800
TZOFFSETTO:-0700
TZNAME:PDT
DTSTART:20250309T100000
END:DAYLIGHT
BEGIN:STANDARD
TZOFFSETFROM:-0700
TZOFFSETTO:-0800
TZNAME:PST
DTSTART:20251102T090000
END:STANDARD
BEGIN:DAYLIGHT
TZOFFSETFROM:-0800
TZOFFSETTO:-0700
TZNAME:PDT
DTSTART:20260308T100000
END:DAYLIGHT
BEGIN:STANDARD
TZOFFSETFROM:-0700
TZOFFSETTO:-0800
TZNAME:PST
DTSTART:20261101T090000
END:STANDARD
END:VTIMEZONE
BEGIN:VEVENT
DTSTART;VALUE=DATE:20250906
DTEND;VALUE=DATE:20251107
DTSTAMP:20260421T103455
CREATED:20250826T232636Z
LAST-MODIFIED:20250826T232636Z
UID:10001688-1757116800-1762473599@arts4mc.org
SUMMARY:Open Studios Art Tour Special Exhibition
DESCRIPTION:Discover the vibrant creativity of Monterey County at the Open Studios Art Tour 2025! \nOpen Studios Art Tour is a free\, self-guided event over two weekends [October 11–12 & 18–19\, 2025]. This year\, we’re pleased to also include a Special Exhibition featuring OSAT participating artists at the Walter Lee Avery Gallery (inside Seaside City Hall) — a curated showcase running from Sept. 8 – Nov. 6. Experience the magic of original artwork up close\, meet the artists at the Artist Reception on Friday\, Sept. 19\, and get inspired by the incredible talent in our community. \nAlso includes Special Exhibition at the Walter Lee Avery Gallery:\nSept. 8 – Nov. 6\, 2025\, | Mon. – Fri. 8:30 AM – 4:30 PM \nAnd don’t miss your chance to meet the OSAT artists at the Artist Reception: Friday\, Sept. 19th at 7pm
URL:https://arts4mc.org/event/open-studios-art-tour-special-exhibition/
LOCATION:Walter Lee Avery Gallery at Seaside City Hall\, 440 Harcourt Avenue\, Seaside\, CA\, 93955
ATTACH;FMTTYPE=image/png:https://arts4mc.org/wp-content/uploads/2025/08/OSAT-Magazine-Cover-2025-V3-6-OSAT-Exhibition-Ad.png
ORGANIZER;CN="Arts Council for Monterey County":MAILTO:info@arts4mc.org
GEO:36.6035367;-121.8535035
X-APPLE-STRUCTURED-LOCATION;VALUE=URI;X-ADDRESS=Walter Lee Avery Gallery at Seaside City Hall 440 Harcourt Avenue Seaside CA 93955;X-APPLE-RADIUS=500;X-TITLE=440 Harcourt Avenue:geo:-121.8535035,36.6035367
END:VEVENT
BEGIN:VEVENT
DTSTART;TZID=America/Los_Angeles:20251025T130000
DTEND;TZID=America/Los_Angeles:20251025T160000
DTSTAMP:20260421T103455
CREATED:20250911T210811Z
LAST-MODIFIED:20250911T210811Z
UID:10002488-1761397200-1761408000@arts4mc.org
SUMMARY:The Ocean Arts Festival
DESCRIPTION:The 5th annual Ocean Arts Festival will feature ocean-themed visual and performing arts created by young artists under the age of 25. Local science organizations offer information tables with related art activities led by dynamic scientists. The festival brings together science and art. It provides opportunities for young artists to experience the power of creativity to expand understanding of ocean science. It will deepen artists and audiences commitment to ocean stewardship. \nThe first Ocean Arts Festival took place in 2019 at the SpectorDance Studio in Marina. The concept of the festival evolved from SpectorDance’s signature work: Ocean Trilogy\, a multidisciplinary performance inspired by a 10-year collaboration with the Monterey Bay Aquarium Research Institute. \nFrom 2022 to 2024\, SpectorDance presented the Ocean Arts Festival in partnership with the Monterey Museum of Art. In 2025\, SpectorDance is excited to partner with the YMCA of the Monterey Peninsula for the 5th annual Ocean Arts Festival. This family-friendly event celebrates the power of the arts to teach\, inspire\, and generate positive change in the world.\nThe Ocean Arts Festival celebrates the power of the arts to teach\, inspire\, and generate positive change in the world. The Ocean Arts Festival sparks original thought\, conversation\, and action\, and through artistic expression encourages participants to become aware of their social and environmental impact. \nTogether\, let’s raise our shared voices for the health of our ocean and the planet!
URL:https://arts4mc.org/event/the-ocean-arts-festival/
ATTACH;FMTTYPE=image/png:https://arts4mc.org/wp-content/uploads/2025/09/Postcard-front-sponsors-_front-5.5x4.25-scaled.png
ORGANIZER;CN="SpectorDance":MAILTO:spectordance@earthlink.net
END:VEVENT
BEGIN:VEVENT
DTSTART;TZID=America/Los_Angeles:20251025T133000
DTEND;TZID=America/Los_Angeles:20251025T163000
DTSTAMP:20260421T103455
CREATED:20250815T193459Z
LAST-MODIFIED:20250815T193459Z
UID:10001058-1761399000-1761409800@arts4mc.org
SUMMARY:Artist Workshop: Dia de los Muertos With Maria Evelin Anda Murillo
DESCRIPTION:Join local artist Maria Evelin Anda Murillo for a personalized\, hands-on workshop designing your own 3D printed ofrenda to honor loved ones for Día de los Muertos.\n\nLearn about the rich traditions behind this sacred celebration and create meaningful pieces using art\, color\, and memory. All materials are provided—just bring photos or memories to inspire your creation.\n\nOpen to all experience levels!
URL:https://arts4mc.org/event/artist-workshop-dia-de-los-muertos-with-maria-evelin-anda-murillo/
LOCATION:559 Pacific St\, Monterey\, CA\, United States\, California
ATTACH;FMTTYPE=image/jpeg:https://arts4mc.org/wp-content/uploads/2025/08/1443D579-B5DA-4632-9A9A-B2485E4BD2BC-1.jpg
ORGANIZER;CN="Monterey Museum of Art":MAILTO:info@montereyart.org
END:VEVENT
END:VCALENDAR