BEGIN:VCALENDAR
VERSION:2.0
PRODID:-//Arts Council for Monterey County - ECPv6.15.14//NONSGML v1.0//EN
CALSCALE:GREGORIAN
METHOD:PUBLISH
X-WR-CALNAME:Arts Council for Monterey County
X-ORIGINAL-URL:https://arts4mc.org
X-WR-CALDESC:Events for Arts Council for Monterey County
REFRESH-INTERVAL;VALUE=DURATION:PT1H
X-Robots-Tag:noindex
X-PUBLISHED-TTL:PT1H
BEGIN:VTIMEZONE
TZID:America/Los_Angeles
BEGIN:DAYLIGHT
TZOFFSETFROM:-0800
TZOFFSETTO:-0700
TZNAME:PDT
DTSTART:20240310T100000
END:DAYLIGHT
BEGIN:STANDARD
TZOFFSETFROM:-0700
TZOFFSETTO:-0800
TZNAME:PST
DTSTART:20241103T090000
END:STANDARD
BEGIN:DAYLIGHT
TZOFFSETFROM:-0800
TZOFFSETTO:-0700
TZNAME:PDT
DTSTART:20250309T100000
END:DAYLIGHT
BEGIN:STANDARD
TZOFFSETFROM:-0700
TZOFFSETTO:-0800
TZNAME:PST
DTSTART:20251102T090000
END:STANDARD
BEGIN:DAYLIGHT
TZOFFSETFROM:-0800
TZOFFSETTO:-0700
TZNAME:PDT
DTSTART:20260308T100000
END:DAYLIGHT
BEGIN:STANDARD
TZOFFSETFROM:-0700
TZOFFSETTO:-0800
TZNAME:PST
DTSTART:20261101T090000
END:STANDARD
END:VTIMEZONE
BEGIN:VEVENT
DTSTART;TZID=America/Los_Angeles:20250405T110000
DTEND;TZID=America/Los_Angeles:20250405T160000
DTSTAMP:20260420T143028
CREATED:20250206T221648Z
LAST-MODIFIED:20250206T221648Z
UID:10000527-1743850800-1743868800@arts4mc.org
SUMMARY:MMA's Block Party
DESCRIPTION:Get ready for the Monterey Museum of Art’s 3rd Annual Block Party! This vibrant arts festival\, free and open to all\, transforms downtown Monterey into a bustling hub of art and creativity. Discover local artisans and makers showcasing their unique crafts alongside dazzling performances and a variety of delicious food and drink options. Participate in interactive arts activities designed for all ages\, and enjoy free admission to our latest exhibitions. We invite ages 21+ to return in the evening for a Dance Party under the stars.
URL:https://arts4mc.org/event/mmas-block-party/
LOCATION:559 Pacific St\, Monterey\, CA\, United States\, California
ATTACH;FMTTYPE=image/jpeg:https://arts4mc.org/wp-content/uploads/2025/02/BP-HomeSlider-2025-copy.jpg
ORGANIZER;CN="Monterey Museum of Art":MAILTO:info@montereyart.org
END:VEVENT
BEGIN:VEVENT
DTSTART;TZID=America/Los_Angeles:20250405T150000
DTEND;TZID=America/Los_Angeles:20250405T170000
DTSTAMP:20260420T143028
CREATED:20250228T172637Z
LAST-MODIFIED:20250228T172637Z
UID:10000539-1743865200-1743872400@arts4mc.org
SUMMARY:BEAN CREEK WITH OTTER OPRY
DESCRIPTION:Starting with the basics: If you have never heard Billy Pitrone sing\, you have missed one of the most incredible and moving bluegrass voices on the planet. Not only that\, but he’s also one of the nicest people ever. OK\, enough of that: Billy and his Bean Creek band – a local favorite for a good long time – will be gracing the Otter Opry stage on Saturday\, April 5th at the United Methodist Church in Monterey. Eeeh hah! Who are these folks? Bean Creek is a bluegrass band that plays straight-ahead traditional style bluegrass. Slightly revised since the passing of original (and deeply missed) band member Pete Hicks\, the band is now joined by Henry and Ella Warde. Enthusiasm and passion\, as well as fine song choices including rousing instrumentals and heartfelt ballads\, are guaranteed to delight foot-stompin’ audiences like you. Dulcet harmonies and fun stage banter are always a solid part of the program\, so get ready for some real fun! Bean Creek was voted Best Band four times by the Northern California Bluegrass Society\, while Billy has captured Best Vocalist eight times since 2008. Rob has also picked up Best Banjo Player in previous years. Band members include Billy Pitrone on guitar and vocals\, Sarah Eblen on bass and vocals\, Rob Horgan on banjo\, Ella Warde on fiddle and vocals and Henry Warde on mandolin and vocals. This is the sweetest\, best\, most talented bunch of bluegrass stars you could ever hope to see and hear. C’mon down! 3pm. Monterey United Methodist Church\, 1 Soledad Drive\, Monterey. $25/show (CBA members $20; 15 and under free). www.otteropry.org.
URL:https://arts4mc.org/event/bean-creek-with-otter-opry-2/
LOCATION:Monterey United Methodist Church\, 1 Soledad Drive\, Monterey\, CA\, 93940\, United States
ATTACH;FMTTYPE=image/jpeg:https://arts4mc.org/wp-content/uploads/2025/02/Bean-Creek-photo-1.jpg
ORGANIZER;CN="Otter Opry":MAILTO:larry@otteropry.org
END:VEVENT
BEGIN:VEVENT
DTSTART;TZID=America/Los_Angeles:20250405T193000
DTEND;TZID=America/Los_Angeles:20250405T213000
DTSTAMP:20260420T143028
CREATED:20240814T160859Z
LAST-MODIFIED:20240814T160859Z
UID:10000470-1743881400-1743888600@arts4mc.org
SUMMARY:Viano Quartet
DESCRIPTION:Pre-concert lecture at 6:30 pm.\nThe program includes pieces by Franz H\, Astor\, Kevin\, Franz S\, and Sergei.\n\nFranz Joseph Haydn String Quartet in F Major op. 77 no. 2\n\nAstor Piazzolla Resurrección del Ángel\n\nKevin Lau String Quartet No. 5: The Train to Impossible Places\n\nFranz Schubert String Quartet No. 12 in C Minor (“Quartettsatz”)\, D. 703\n\nSergei Prokofiev String Quartet No. 2 in F Major\, op. 92\n\n\n\nPerformers\n\nLucy Wang\, violin\n\nHao Zhou\, violin\n\nAiden Kane\, viola\n\nTate Zawadiuk\, cello\n\n\n\nAbout the Performers\n\nThe Viano Quartet aims to unite the dichotomy between collaborative and soloistic music making to create a voice that speaks both distinctly and as one cohesive force. We believe in uplifting the individual through dynamic teamwork and uncovering the personal nuances of collaboration to invigorate our communities. Our hope is that through a charismatic and fiery approach\, our music can tell a unique story that speaks authentically to each audience member and empower a new generation of artists.\n\nThe quartet was named the inaugural June Goldsmith Quartet-in-Residence for the Music in the Morning series in Vancouver until 2025\, where their focus will be to commission new works and lead extensive community engagement initiatives. The quartet has also held residencies at the Curtis Institute\, Colburn Conservatory\, Northern Michigan University\, and Meadows School of the Arts at Southern Methodist University. \n\nThe quartet achieved incredible success in their formative years\, with an unbroken streak of top prizes at major competitions. In addition to their career-defining achievement at the 2019 Banff InternationalString Quartet Competition\, they also received the Grand Prize at the 2019 ENKOR International Music Competition and second prize at the 2019 Yellow Springs Chamber Music Competition. At the 2018 Wigmore Hall International String Quartet Competition they received Third Prize\, the Haydn Prize for the best performance of a Haydn quartet\, and the Sidney Griller Award for the best performance of the compulsory work\, Thomas Ades’ “The Four Quarters”. They received the Silver Medal at the 2018 Fischoff National Chamber Music Competition and Third Prize at the 9th Osaka International Chamber Music Competition in 2017.\n\nThe Viano Quartet has collaborated with world-class musicians such as pianists Emanuel Ax\, Marc-André Hamelin\, Inon Barnatan and Elisso Virsaladze\, violists Paul Coletti and Paul Neubauer\, violinist Noah Bendix-Balgley\, vocalist Hila Plitmann and clarinetist David Shifrin. Their chief mentors include faculty of the Curtis Institute and Colburn Conservatory\, as well as members of the Dover\, Guarneri\, and Tokyo string quartets. Past summers have been spent at the Ravinia Steans Chamber Music Institute\, the St. Lawrence String Quartet Seminar\, the Festival d’Aix en Provence\, the Norfolk Chamber Music Festival\,and the McGill International String Quartet Academy.\n\nThe name “Viano” was created to describe the four individual instruments in a string quartet interacting as one. Each of the four instruments begins with the letter “v”\, and like a piano\, all four string instruments together play both harmony and melody\, creating a unified instrument called the “Viano”.
URL:https://arts4mc.org/event/viano-quartet/
LOCATION:Sunset Center\, San Carlos St at Ninth Ave\, Carmel by the Sea\, CA\, 93921
ATTACH;FMTTYPE=image/jpeg:https://arts4mc.org/wp-content/uploads/2024/07/Viano-String-Quartet-.jpg
ORGANIZER;CN="Chamber Music Monterey Bay":MAILTO:info@chambermusicmontereybay.org
GEO:36.5513147;-121.9218091
X-APPLE-STRUCTURED-LOCATION;VALUE=URI;X-ADDRESS=Sunset Center San Carlos St at Ninth Ave Carmel by the Sea CA 93921;X-APPLE-RADIUS=500;X-TITLE=San Carlos St at Ninth Ave:geo:-121.9218091,36.5513147
END:VEVENT
END:VCALENDAR