BEGIN:VCALENDAR
VERSION:2.0
PRODID:-//Arts Council for Monterey County - ECPv6.15.14//NONSGML v1.0//EN
CALSCALE:GREGORIAN
METHOD:PUBLISH
X-ORIGINAL-URL:https://arts4mc.org
X-WR-CALDESC:Events for Arts Council for Monterey County
REFRESH-INTERVAL;VALUE=DURATION:PT1H
X-Robots-Tag:noindex
X-PUBLISHED-TTL:PT1H
BEGIN:VTIMEZONE
TZID:America/Los_Angeles
BEGIN:DAYLIGHT
TZOFFSETFROM:-0800
TZOFFSETTO:-0700
TZNAME:PDT
DTSTART:20240310T100000
END:DAYLIGHT
BEGIN:STANDARD
TZOFFSETFROM:-0700
TZOFFSETTO:-0800
TZNAME:PST
DTSTART:20241103T090000
END:STANDARD
BEGIN:DAYLIGHT
TZOFFSETFROM:-0800
TZOFFSETTO:-0700
TZNAME:PDT
DTSTART:20250309T100000
END:DAYLIGHT
BEGIN:STANDARD
TZOFFSETFROM:-0700
TZOFFSETTO:-0800
TZNAME:PST
DTSTART:20251102T090000
END:STANDARD
BEGIN:DAYLIGHT
TZOFFSETFROM:-0800
TZOFFSETTO:-0700
TZNAME:PDT
DTSTART:20260308T100000
END:DAYLIGHT
BEGIN:STANDARD
TZOFFSETFROM:-0700
TZOFFSETTO:-0800
TZNAME:PST
DTSTART:20261101T090000
END:STANDARD
END:VTIMEZONE
BEGIN:VEVENT
DTSTART;TZID=America/Los_Angeles:20250207T000000
DTEND;TZID=America/Los_Angeles:20250302T235959
DTSTAMP:20260421T102139
CREATED:20250227T214805Z
LAST-MODIFIED:20250227T214805Z
UID:10000537-1738886400-1740959999@arts4mc.org
SUMMARY:Finding Nemo Jr.
DESCRIPTION:Disney’s Finding Nemo JR. is a 60-minute musical adaptation of the beloved 2003 Pixar movie Finding Nemo\, with new music by award-winning songwriting team Kristen Anderson-Lopez and Robert Lopez. Marlin\, an anxious and over-protective clownfish\, lives in the Great Barrier Reef with his kid Nemo\, who longs to explore the world beyond their anemone home. But when Nemo is captured and taken to Sydney\, Marlin faces his fears and sets off on an epic adventure across the ocean. With the help of lovable characters such as optimistic Dory\, laid-back sea turtle Crush\, and the supportive Tank Gang\, Marlin and Nemo both overcome challenges on their journey to find each other and themselves. Featuring memorable songs such as “Just Keep Swimming\,” “Fish Are Friends Not Food\,” and “Go With the Flow\,” Finding Nemo JR. brings a vibrant underwater world to life on stage in a story full of family\, friendship\, and adventure.
URL:https://arts4mc.org/event/finding-nemo-jr/
LOCATION:Golden Bough Playhouse – Golden Bough Theatre\, Monte Verde St. btwn 8th and 9th Aves\, Carmel-by-the-Sea\, CA\, 93922
ATTACH;FMTTYPE=image/jpeg:https://arts4mc.org/wp-content/uploads/2025/02/nemo-jr.jpg
ORGANIZER;CN="PacRep Theatre":MAILTO:contact@pacrep.org
GEO:36.554694;-121.924643
X-APPLE-STRUCTURED-LOCATION;VALUE=URI;X-ADDRESS=Golden Bough Playhouse – Golden Bough Theatre Monte Verde St. btwn 8th and 9th Aves Carmel-by-the-Sea CA 93922;X-APPLE-RADIUS=500;X-TITLE=Monte Verde St. btwn 8th and 9th Aves:geo:-121.924643,36.554694
END:VEVENT
BEGIN:VEVENT
DTSTART;TZID=America/Los_Angeles:20250301T090000
DTEND;TZID=America/Los_Angeles:20250301T100000
DTSTAMP:20260421T102139
CREATED:20250227T214858Z
LAST-MODIFIED:20250227T214858Z
UID:10000536-1740819600-1740823200@arts4mc.org
SUMMARY:Member Saturday Morning Sound Bath: 3/1\, 9-10am
DESCRIPTION:Museum members and their friends are invited to start the weekend with a relaxing sound bath at the Museum with Abril Esparza. All members are allowed to bring one friend\, Family Memberships and above may bring two. Space is limited so be sure to sign up! About the Pacific Grove Museum of Natural History In 1883\, the Museum opened its doors among the first wave of natural history museums in America. Naturalists of this era began a national tradition of hands-on science education and nature preservation\, a tradition the Museum has continued for over 140 years. The Museum’s mission is to inspire discovery\, wonder\, and stewardship of our natural world. It envisions a community of curious minds engaged in discovering the natural heritage and cultural legacy that exist today on the Central California Coast. The Museum is a catalyst for conservation and a valued learning resource in this region\, facilitating active inquiry for all ages. For more information\, visit www.pgmuseum.org.
URL:https://arts4mc.org/event/member-saturday-morning-sound-bath-3-1-9-10am/
LOCATION:Pacific Grove Museum of Natural History\, 165 Forest Ave\, Pacific Grove\,\, CA\, 93950
ATTACH;FMTTYPE=image/jpeg:https://arts4mc.org/wp-content/uploads/2025/02/unsplash-image-loDom-q2mwA.jpg
GEO:36.621836;-121.9172775
X-APPLE-STRUCTURED-LOCATION;VALUE=URI;X-ADDRESS=Pacific Grove Museum of Natural History 165 Forest Ave Pacific Grove CA 93950;X-APPLE-RADIUS=500;X-TITLE=165 Forest Ave:geo:-121.9172775,36.621836
END:VEVENT
END:VCALENDAR