BEGIN:VCALENDAR
VERSION:2.0
PRODID:-//Arts Council for Monterey County - ECPv6.15.14//NONSGML v1.0//EN
CALSCALE:GREGORIAN
METHOD:PUBLISH
X-ORIGINAL-URL:https://arts4mc.org
X-WR-CALDESC:Events for Arts Council for Monterey County
REFRESH-INTERVAL;VALUE=DURATION:PT1H
X-Robots-Tag:noindex
X-PUBLISHED-TTL:PT1H
BEGIN:VTIMEZONE
TZID:America/Los_Angeles
BEGIN:DAYLIGHT
TZOFFSETFROM:-0800
TZOFFSETTO:-0700
TZNAME:PDT
DTSTART:20240310T100000
END:DAYLIGHT
BEGIN:STANDARD
TZOFFSETFROM:-0700
TZOFFSETTO:-0800
TZNAME:PST
DTSTART:20241103T090000
END:STANDARD
BEGIN:DAYLIGHT
TZOFFSETFROM:-0800
TZOFFSETTO:-0700
TZNAME:PDT
DTSTART:20250309T100000
END:DAYLIGHT
BEGIN:STANDARD
TZOFFSETFROM:-0700
TZOFFSETTO:-0800
TZNAME:PST
DTSTART:20251102T090000
END:STANDARD
BEGIN:DAYLIGHT
TZOFFSETFROM:-0800
TZOFFSETTO:-0700
TZNAME:PDT
DTSTART:20260308T100000
END:DAYLIGHT
BEGIN:STANDARD
TZOFFSETFROM:-0700
TZOFFSETTO:-0800
TZNAME:PST
DTSTART:20261101T090000
END:STANDARD
END:VTIMEZONE
BEGIN:VEVENT
DTSTART;TZID=America/Los_Angeles:20250207T000000
DTEND;TZID=America/Los_Angeles:20250302T235959
DTSTAMP:20260421T103505
CREATED:20250227T214805Z
LAST-MODIFIED:20250227T214805Z
UID:10000537-1738886400-1740959999@arts4mc.org
SUMMARY:Finding Nemo Jr.
DESCRIPTION:Disney’s Finding Nemo JR. is a 60-minute musical adaptation of the beloved 2003 Pixar movie Finding Nemo\, with new music by award-winning songwriting team Kristen Anderson-Lopez and Robert Lopez. Marlin\, an anxious and over-protective clownfish\, lives in the Great Barrier Reef with his kid Nemo\, who longs to explore the world beyond their anemone home. But when Nemo is captured and taken to Sydney\, Marlin faces his fears and sets off on an epic adventure across the ocean. With the help of lovable characters such as optimistic Dory\, laid-back sea turtle Crush\, and the supportive Tank Gang\, Marlin and Nemo both overcome challenges on their journey to find each other and themselves. Featuring memorable songs such as “Just Keep Swimming\,” “Fish Are Friends Not Food\,” and “Go With the Flow\,” Finding Nemo JR. brings a vibrant underwater world to life on stage in a story full of family\, friendship\, and adventure.
URL:https://arts4mc.org/event/finding-nemo-jr/
LOCATION:Golden Bough Playhouse – Golden Bough Theatre\, Monte Verde St. btwn 8th and 9th Aves\, Carmel-by-the-Sea\, CA\, 93922
ATTACH;FMTTYPE=image/jpeg:https://arts4mc.org/wp-content/uploads/2025/02/nemo-jr.jpg
ORGANIZER;CN="PacRep Theatre":MAILTO:contact@pacrep.org
GEO:36.554694;-121.924643
X-APPLE-STRUCTURED-LOCATION;VALUE=URI;X-ADDRESS=Golden Bough Playhouse – Golden Bough Theatre Monte Verde St. btwn 8th and 9th Aves Carmel-by-the-Sea CA 93922;X-APPLE-RADIUS=500;X-TITLE=Monte Verde St. btwn 8th and 9th Aves:geo:-121.924643,36.554694
END:VEVENT
BEGIN:VEVENT
DTSTART;TZID=America/Los_Angeles:20250228T000000
DTEND;TZID=America/Los_Angeles:20250228T235959
DTSTAMP:20260421T103505
CREATED:20250227T214100Z
LAST-MODIFIED:20250227T214100Z
UID:10000535-1740700800-1740787199@arts4mc.org
SUMMARY:King City Dance Week
DESCRIPTION:The 1st annual King City Dance Week will take place on February 27 and 28\, 2025 at the Stanton Theater in King City. SpectorDance and Sol Treasures will present performances and contemporary dance workshops featuring works by Tracy Kofford\, Santa Barbara City College Dance Company\, Charlotte Katherine Smith\, Fran Spector Atkins\, and SpectorDance Company. We are excited to offer this culturally enriching program for high school\, elementary\, and middle school students in King City and the surrounding areas. February 27 and 28\, 2025 For more information\, contact franspector5@gmail.com.
URL:https://arts4mc.org/event/king-city-dance-week/
LOCATION:Robert Stanton Theater\, King City CA\, 720 Broadway St.\, King City\, CA\, 93930\, United States
ATTACH;FMTTYPE=image/jpeg:https://arts4mc.org/wp-content/uploads/2025/02/Flyer-for-2025-KCDW-scaled-1.jpg
ORGANIZER;CN="SpectorDance":MAILTO:spectordance@earthlink.net
GEO:36.209556;-121.1340756
X-APPLE-STRUCTURED-LOCATION;VALUE=URI;X-ADDRESS=Robert Stanton Theater King City CA 720 Broadway St. King City CA 93930 United States;X-APPLE-RADIUS=500;X-TITLE=720 Broadway St.:geo:-121.1340756,36.209556
END:VEVENT
BEGIN:VEVENT
DTSTART;TZID=America/Los_Angeles:20250228T193000
DTEND;TZID=America/Los_Angeles:20250228T213000
DTSTAMP:20260421T103505
CREATED:20250206T221913Z
LAST-MODIFIED:20250206T221913Z
UID:10000532-1740771000-1740778200@arts4mc.org
SUMMARY:Controlled Chaos Improv!
DESCRIPTION:Get ready for a night of non-stop laughter and unpredictable fun at Wave Street Studios. Controlled Chaos Improv puts their own twist on traditional improvisational theatre. Quick wit and spontaneous energy are combined with truth in comedy to bring something fresh and fun to the stage! Grab your friends and join us for an evening you won’t soon forget! 16+
URL:https://arts4mc.org/event/controlled-chaos-improv-4/
LOCATION:Wave Street Studios\, 774 Wave Street\, Monterey\, 93940
ATTACH;FMTTYPE=image/jpeg:https://arts4mc.org/wp-content/uploads/2025/02/7D8CAFB1-8CF6-45CC-998D-B66FCC48A82FDSC04534.jpeg
ORGANIZER;CN="Comedy Variety Showcase":MAILTO:comedyvarietyshowcase@gmail.com
END:VEVENT
END:VCALENDAR