BEGIN:VCALENDAR
VERSION:2.0
PRODID:-//Arts Council for Monterey County - ECPv6.15.14//NONSGML v1.0//EN
CALSCALE:GREGORIAN
METHOD:PUBLISH
X-ORIGINAL-URL:https://arts4mc.org
X-WR-CALDESC:Events for Arts Council for Monterey County
REFRESH-INTERVAL;VALUE=DURATION:PT1H
X-Robots-Tag:noindex
X-PUBLISHED-TTL:PT1H
BEGIN:VTIMEZONE
TZID:America/Los_Angeles
BEGIN:DAYLIGHT
TZOFFSETFROM:-0800
TZOFFSETTO:-0700
TZNAME:PDT
DTSTART:20240310T100000
END:DAYLIGHT
BEGIN:STANDARD
TZOFFSETFROM:-0700
TZOFFSETTO:-0800
TZNAME:PST
DTSTART:20241103T090000
END:STANDARD
BEGIN:DAYLIGHT
TZOFFSETFROM:-0800
TZOFFSETTO:-0700
TZNAME:PDT
DTSTART:20250309T100000
END:DAYLIGHT
BEGIN:STANDARD
TZOFFSETFROM:-0700
TZOFFSETTO:-0800
TZNAME:PST
DTSTART:20251102T090000
END:STANDARD
BEGIN:DAYLIGHT
TZOFFSETFROM:-0800
TZOFFSETTO:-0700
TZNAME:PDT
DTSTART:20260308T100000
END:DAYLIGHT
BEGIN:STANDARD
TZOFFSETFROM:-0700
TZOFFSETTO:-0800
TZNAME:PST
DTSTART:20261101T090000
END:STANDARD
END:VTIMEZONE
BEGIN:VEVENT
DTSTART;TZID=America/Los_Angeles:20250131T080000
DTEND;TZID=America/Los_Angeles:20250131T220000
DTSTAMP:20260425T042929
CREATED:20250113T213549Z
LAST-MODIFIED:20250113T213549Z
UID:10000526-1738310400-1738360800@arts4mc.org
SUMMARY:Clue: On Stage
DESCRIPTION:Based on the iconic 1985 Paramount movie inspired by the classic Hasbro board game\, Clue is a hilarious murder mystery. Six guests gather at a remote mansion for a dinner party that turns deadly when their host is found murdered. As the body count rises\, Wadsworth the butler\, along with Miss Scarlet\, Professor Plum\, Mrs. White\, Mr. Green\, Mrs. Peacock\, and Colonel Mustard\, race to uncover the killer. This comedy whodunit will have both cult fans and newcomers laughing as they try to solve the mystery of WHO\, WHERE\, and WITH WHAT!
URL:https://arts4mc.org/event/clue-on-stage/
LOCATION:Paper Wing Theatre 711 Cannery Row Suite I Monterey\, Ca. 93940\, 711 Canner Row Suite I\, Monterey\, CA\, 93940\, United States
ATTACH;FMTTYPE=image/png:https://arts4mc.org/wp-content/uploads/2025/01/clueposterstarter2-scaled.png
GEO:36.6160924;-121.900684
X-APPLE-STRUCTURED-LOCATION;VALUE=URI;X-ADDRESS=Paper Wing Theatre 711 Cannery Row Suite I Monterey Ca. 93940 711 Canner Row Suite I Monterey CA 93940 United States;X-APPLE-RADIUS=500;X-TITLE=711 Canner Row Suite I:geo:-121.900684,36.6160924
END:VEVENT
END:VCALENDAR