BEGIN:VCALENDAR
VERSION:2.0
PRODID:-//Arts Council for Monterey County - ECPv6.15.14//NONSGML v1.0//EN
CALSCALE:GREGORIAN
METHOD:PUBLISH
X-WR-CALNAME:Arts Council for Monterey County
X-ORIGINAL-URL:https://arts4mc.org
X-WR-CALDESC:Events for Arts Council for Monterey County
REFRESH-INTERVAL;VALUE=DURATION:PT1H
X-Robots-Tag:noindex
X-PUBLISHED-TTL:PT1H
BEGIN:VTIMEZONE
TZID:America/Los_Angeles
BEGIN:DAYLIGHT
TZOFFSETFROM:-0800
TZOFFSETTO:-0700
TZNAME:PDT
DTSTART:20220313T100000
END:DAYLIGHT
BEGIN:STANDARD
TZOFFSETFROM:-0700
TZOFFSETTO:-0800
TZNAME:PST
DTSTART:20221106T090000
END:STANDARD
BEGIN:DAYLIGHT
TZOFFSETFROM:-0800
TZOFFSETTO:-0700
TZNAME:PDT
DTSTART:20230312T100000
END:DAYLIGHT
BEGIN:STANDARD
TZOFFSETFROM:-0700
TZOFFSETTO:-0800
TZNAME:PST
DTSTART:20231105T090000
END:STANDARD
BEGIN:DAYLIGHT
TZOFFSETFROM:-0800
TZOFFSETTO:-0700
TZNAME:PDT
DTSTART:20240310T100000
END:DAYLIGHT
BEGIN:STANDARD
TZOFFSETFROM:-0700
TZOFFSETTO:-0800
TZNAME:PST
DTSTART:20241103T090000
END:STANDARD
END:VTIMEZONE
BEGIN:VEVENT
DTSTART;TZID=America/Los_Angeles:20230928T110000
DTEND;TZID=America/Los_Angeles:20231103T170000
DTSTAMP:20260422T004625
CREATED:20230812T000139Z
LAST-MODIFIED:20230812T000139Z
UID:10000196-1695898800-1699030800@arts4mc.org
SUMMARY:Call to Artists
DESCRIPTION:Mexican Ofrenda Boxes for Community Altar and Gallery Exhibit at Sol Treasures. We invite you to participate in a meaningful and vibrant cultural celebration by contributing your small altar to the Muertos Community Altar and Gallery Show at Sol Treasures in King City.\nTheme: Dia de Los Muertos (Day of the Dead)\n3 $100 dollar prizes will be awarded for most original\, most authentic\, and public favorite.\nArtwork Type: Ofrenda or small altars (must not be larger than 18 ” x 24″\nSubmission Deadline: September 8\, 2023\nSubmit photographs with submission sheet to grantsmanager@soltreasures.com\nTo receive submission sheet\, email grantsmanager@soltreasures.com and one will be sent to you.\nArtwork to be delivered to Sol Treasures between September 12 thru the 15th\, between 12 noon and 5pm (arrangements can be made if you can’t come during those times)\nExhibition dates: September 28 thru November 3\nYour ofrenda will be in the MCArts Tour on October 7th and 8th and will be a part of Sol Treasures Social Media.
URL:https://arts4mc.org/event/call-to-artists/
LOCATION:Sol Treasures\, 519 Broadway Street\, King City\, CA\, 93930\, United States
ATTACH;FMTTYPE=image/jpeg:https://arts4mc.org/wp-content/uploads/2023/08/ofrenda.jpg
ORGANIZER;CN="Sol Treasures":MAILTO:celebrate@soltreasures.com
GEO:36.2108245;-121.1296099
X-APPLE-STRUCTURED-LOCATION;VALUE=URI;X-ADDRESS=Sol Treasures 519 Broadway Street King City CA 93930 United States;X-APPLE-RADIUS=500;X-TITLE=519 Broadway Street:geo:-121.1296099,36.2108245
END:VEVENT
END:VCALENDAR