BEGIN:VCALENDAR
VERSION:2.0
PRODID:-//Arts Council for Monterey County - ECPv6.15.14//NONSGML v1.0//EN
CALSCALE:GREGORIAN
METHOD:PUBLISH
X-WR-CALNAME:Arts Council for Monterey County
X-ORIGINAL-URL:https://arts4mc.org
X-WR-CALDESC:Events for Arts Council for Monterey County
REFRESH-INTERVAL;VALUE=DURATION:PT1H
X-Robots-Tag:noindex
X-PUBLISHED-TTL:PT1H
BEGIN:VTIMEZONE
TZID:America/Los_Angeles
BEGIN:DAYLIGHT
TZOFFSETFROM:-0800
TZOFFSETTO:-0700
TZNAME:PDT
DTSTART:20220313T100000
END:DAYLIGHT
BEGIN:STANDARD
TZOFFSETFROM:-0700
TZOFFSETTO:-0800
TZNAME:PST
DTSTART:20221106T090000
END:STANDARD
BEGIN:DAYLIGHT
TZOFFSETFROM:-0800
TZOFFSETTO:-0700
TZNAME:PDT
DTSTART:20230312T100000
END:DAYLIGHT
BEGIN:STANDARD
TZOFFSETFROM:-0700
TZOFFSETTO:-0800
TZNAME:PST
DTSTART:20231105T090000
END:STANDARD
BEGIN:DAYLIGHT
TZOFFSETFROM:-0800
TZOFFSETTO:-0700
TZNAME:PDT
DTSTART:20240310T100000
END:DAYLIGHT
BEGIN:STANDARD
TZOFFSETFROM:-0700
TZOFFSETTO:-0800
TZNAME:PST
DTSTART:20241103T090000
END:STANDARD
END:VTIMEZONE
BEGIN:VEVENT
DTSTART;TZID=America/Los_Angeles:20230928T110000
DTEND;TZID=America/Los_Angeles:20231103T170000
DTSTAMP:20260421T164506
CREATED:20230812T000139Z
LAST-MODIFIED:20230812T000139Z
UID:10000196-1695898800-1699030800@arts4mc.org
SUMMARY:Call to Artists
DESCRIPTION:Mexican Ofrenda Boxes for Community Altar and Gallery Exhibit at Sol Treasures. We invite you to participate in a meaningful and vibrant cultural celebration by contributing your small altar to the Muertos Community Altar and Gallery Show at Sol Treasures in King City.\nTheme: Dia de Los Muertos (Day of the Dead)\n3 $100 dollar prizes will be awarded for most original\, most authentic\, and public favorite.\nArtwork Type: Ofrenda or small altars (must not be larger than 18 ” x 24″\nSubmission Deadline: September 8\, 2023\nSubmit photographs with submission sheet to grantsmanager@soltreasures.com\nTo receive submission sheet\, email grantsmanager@soltreasures.com and one will be sent to you.\nArtwork to be delivered to Sol Treasures between September 12 thru the 15th\, between 12 noon and 5pm (arrangements can be made if you can’t come during those times)\nExhibition dates: September 28 thru November 3\nYour ofrenda will be in the MCArts Tour on October 7th and 8th and will be a part of Sol Treasures Social Media.
URL:https://arts4mc.org/event/call-to-artists/
LOCATION:Sol Treasures\, 519 Broadway Street\, King City\, CA\, 93930\, United States
ATTACH;FMTTYPE=image/jpeg:https://arts4mc.org/wp-content/uploads/2023/08/ofrenda.jpg
ORGANIZER;CN="Sol Treasures":MAILTO:celebrate@soltreasures.com
GEO:36.2108245;-121.1296099
X-APPLE-STRUCTURED-LOCATION;VALUE=URI;X-ADDRESS=Sol Treasures 519 Broadway Street King City CA 93930 United States;X-APPLE-RADIUS=500;X-TITLE=519 Broadway Street:geo:-121.1296099,36.2108245
END:VEVENT
BEGIN:VEVENT
DTSTART;TZID=America/Los_Angeles:20230930T110000
DTEND;TZID=America/Los_Angeles:20231001T170000
DTSTAMP:20260421T164506
CREATED:20230818T200346Z
LAST-MODIFIED:20230818T200346Z
UID:10000202-1696071600-1696179600@arts4mc.org
SUMMARY:31st Artist Studios Tour
DESCRIPTION:See 100 Fine Artists all over the County from fun places like the Carl Cherry and Sunset centers in Carmel by the sea to picturesque wineries like Odonata off River Road in Salinas. Or venture throughout East Garrison\, Marina\, Monterey\, Sand City\, Seaside\, and more to explore working artist studios for these two special weekends. Art Studios Habitat has coordinated this event.
URL:https://arts4mc.org/event/31st-artist-studios-tour/
LOCATION:Monterey County\, CA\, United States
ATTACH;FMTTYPE=image/png:https://arts4mc.org/wp-content/uploads/2023/08/image1-1.png
ORGANIZER;CN="Arts Habitat":MAILTO:staff@artshabitat.org
GEO:36.778261;-119.4179324
END:VEVENT
BEGIN:VEVENT
DTSTART;TZID=America/Los_Angeles:20231001T110000
DTEND;TZID=America/Los_Angeles:20231001T170000
DTSTAMP:20260421T164506
CREATED:20230307T063126Z
LAST-MODIFIED:20230307T063126Z
UID:10000005-1696158000-1696179600@arts4mc.org
SUMMARY:Monterey County Artists Studio Tour
DESCRIPTION:The Monterey County Artists Studio Tour is a self-guided tour of artists’ studios and exhibition spaces throughout the County\, taking place over two weekends\, September 30 & October 1 and October 7 & 8\, from 11:00 a.m. to 5:00 p.m.\, with more than 150 participating artists. The event is free and open to the public. Free catalogs and maps can be found in the Monterey County Weekly and the Carmel Pine Cone before the first weekend of the event. Digital catalogs can be found at ArtsHabitat.org and at bit.ly/mcast2023.Come see art where it starts\, meet artists\, and buy their works.
URL:https://arts4mc.org/event/monterey-county-artists-studio-tour/2023-10-01/
LOCATION:In artists studios and exhibition spaces throughout the County
ATTACH;FMTTYPE=image/jpeg:https://arts4mc.org/wp-content/uploads/2023/03/LOGO-MCAST-generic.jpg
ORGANIZER;CN="Arts Habitat":MAILTO:staff@artshabitat.org
END:VEVENT
BEGIN:VEVENT
DTSTART;TZID=America/Los_Angeles:20231001T110000
DTEND;TZID=America/Los_Angeles:20231001T170000
DTSTAMP:20260421T164506
CREATED:20230825T211326Z
LAST-MODIFIED:20230825T211326Z
UID:10000290-1696158000-1696179600@arts4mc.org
SUMMARY:Arts Habitat Artist Studio Tour
DESCRIPTION:The 31st Annual Artist’s Studio Tour will occur during the weekends of September 30 & October 1\, and October 7 & 8\nStudios will be open 11 a.m. – 5 p.m. daily\nMany studios open both weekends\n100 Artists participating!\nFREE and open to the public
URL:https://arts4mc.org/event/arts-habitat-artist-studio-tour/2023-10-01/
LOCATION:United States
ATTACH;FMTTYPE=image/jpeg:https://arts4mc.org/wp-content/uploads/2023/08/MCAST23-postcard-front-01.jpg
ORGANIZER;CN="Arts Habitat":MAILTO:staff@artshabitat.org
END:VEVENT
END:VCALENDAR