BEGIN:VCALENDAR
VERSION:2.0
PRODID:-//Arts Council for Monterey County - ECPv6.15.14//NONSGML v1.0//EN
CALSCALE:GREGORIAN
METHOD:PUBLISH
X-ORIGINAL-URL:https://arts4mc.org
X-WR-CALDESC:Events for Arts Council for Monterey County
REFRESH-INTERVAL;VALUE=DURATION:PT1H
X-Robots-Tag:noindex
X-PUBLISHED-TTL:PT1H
BEGIN:VTIMEZONE
TZID:America/Los_Angeles
BEGIN:DAYLIGHT
TZOFFSETFROM:-0800
TZOFFSETTO:-0700
TZNAME:PDT
DTSTART:20220313T100000
END:DAYLIGHT
BEGIN:STANDARD
TZOFFSETFROM:-0700
TZOFFSETTO:-0800
TZNAME:PST
DTSTART:20221106T090000
END:STANDARD
BEGIN:DAYLIGHT
TZOFFSETFROM:-0800
TZOFFSETTO:-0700
TZNAME:PDT
DTSTART:20230312T100000
END:DAYLIGHT
BEGIN:STANDARD
TZOFFSETFROM:-0700
TZOFFSETTO:-0800
TZNAME:PST
DTSTART:20231105T090000
END:STANDARD
BEGIN:DAYLIGHT
TZOFFSETFROM:-0800
TZOFFSETTO:-0700
TZNAME:PDT
DTSTART:20240310T100000
END:DAYLIGHT
BEGIN:STANDARD
TZOFFSETFROM:-0700
TZOFFSETTO:-0800
TZNAME:PST
DTSTART:20241103T090000
END:STANDARD
END:VTIMEZONE
BEGIN:VEVENT
DTSTART;TZID=America/Los_Angeles:20230818T160000
DTEND;TZID=America/Los_Angeles:20230818T170000
DTSTAMP:20260423T125706
CREATED:20230803T214439Z
LAST-MODIFIED:20230803T214439Z
UID:10000193-1692374400-1692378000@arts4mc.org
SUMMARY:Mexican Tin Heart
DESCRIPTION:Join our instructor and Artist Debra Cobb and create these beautiful Mexican Tin Hearts!  \nAfter creating these hearts\, we will invite you to display them at our next gallery exhibit show\, Dia De Los Muertos!  \nTo register please give us a call at 831-386-1381 or by email at celebrate@soltreasures.com.
URL:https://arts4mc.org/event/mexican-tin-heart/
LOCATION:Sol Treasures\, 519 Broadway Street\, King City\, CA\, 93930\, United States
ATTACH;FMTTYPE=image/jpeg:https://arts4mc.org/wp-content/uploads/2023/08/Mexican-Tin-Hearts-Eng.jpg
ORGANIZER;CN="Sol Treasures":MAILTO:celebrate@soltreasures.com
GEO:36.2108245;-121.1296099
X-APPLE-STRUCTURED-LOCATION;VALUE=URI;X-ADDRESS=Sol Treasures 519 Broadway Street King City CA 93930 United States;X-APPLE-RADIUS=500;X-TITLE=519 Broadway Street:geo:-121.1296099,36.2108245
END:VEVENT
END:VCALENDAR