BEGIN:VCALENDAR
VERSION:2.0
PRODID:-//Arts Council for Monterey County - ECPv6.15.14//NONSGML v1.0//EN
CALSCALE:GREGORIAN
METHOD:PUBLISH
X-ORIGINAL-URL:https://arts4mc.org
X-WR-CALDESC:Events for Arts Council for Monterey County
REFRESH-INTERVAL;VALUE=DURATION:PT1H
X-Robots-Tag:noindex
X-PUBLISHED-TTL:PT1H
BEGIN:VTIMEZONE
TZID:America/Los_Angeles
BEGIN:DAYLIGHT
TZOFFSETFROM:-0800
TZOFFSETTO:-0700
TZNAME:PDT
DTSTART:20220313T100000
END:DAYLIGHT
BEGIN:STANDARD
TZOFFSETFROM:-0700
TZOFFSETTO:-0800
TZNAME:PST
DTSTART:20221106T090000
END:STANDARD
BEGIN:DAYLIGHT
TZOFFSETFROM:-0800
TZOFFSETTO:-0700
TZNAME:PDT
DTSTART:20230312T100000
END:DAYLIGHT
BEGIN:STANDARD
TZOFFSETFROM:-0700
TZOFFSETTO:-0800
TZNAME:PST
DTSTART:20231105T090000
END:STANDARD
BEGIN:DAYLIGHT
TZOFFSETFROM:-0800
TZOFFSETTO:-0700
TZNAME:PDT
DTSTART:20240310T100000
END:DAYLIGHT
BEGIN:STANDARD
TZOFFSETFROM:-0700
TZOFFSETTO:-0800
TZNAME:PST
DTSTART:20241103T090000
END:STANDARD
END:VTIMEZONE
BEGIN:VEVENT
DTSTART;TZID=America/Los_Angeles:20230710T130000
DTEND;TZID=America/Los_Angeles:20230714T150000
DTSTAMP:20260425T092508
CREATED:20230531T173828Z
LAST-MODIFIED:20230531T173828Z
UID:10000144-1688994000-1689346800@arts4mc.org
SUMMARY:Flute Choir Camp
DESCRIPTION:Candiotti Flute Studio is one 5-day Flute Choir Camp session this summer\, rehearsals at 517 Hartnell Street\, Monterey & Concert Venue TBA.  \nFlute Choir Camp is a summer camp for young flutists who want to meet other flutists\, learn flute ensemble music\, or try out another instrument in the flute family. It is directed by Monterey County flute teacher\, Jennifer Candiotti. Flute Choir Camp is two hours a day and includes musical games\, community building\, group rehearsal\, some individual music instruction\, and a free Showcase Concert on the final day. \nTuition is $275\, which covers: \n– Sheet music and folders \n– Daily group instruction \n– Rehearsal space rental fees \n– Low flute rental fees \n– Flute Choir Camp T-shirt  \nNo prior flute choir experience is required\, but two years playing experience is recommended. Payment plans are available upon request and limited scholarships may be available.
URL:https://arts4mc.org/event/flute-choir-camp/
LOCATION:517 Hartnell Street\, Monterey\, 517 Hartnell Street\, Monterey\, CA\, 93940\, United States
ATTACH;FMTTYPE=image/jpeg:https://arts4mc.org/wp-content/uploads/2023/05/Flute-Choir-Camp-July-10-14-2023.jpg
ORGANIZER;CN="Jennifer Candiotti%2C Candiotti Flute Studio":MAILTO:jennifercandiottiflute@gmail.com
GEO:36.5968489;-121.8961393
X-APPLE-STRUCTURED-LOCATION;VALUE=URI;X-ADDRESS=517 Hartnell Street Monterey 517 Hartnell Street Monterey CA 93940 United States;X-APPLE-RADIUS=500;X-TITLE=517 Hartnell Street:geo:-121.8961393,36.5968489
END:VEVENT
BEGIN:VEVENT
DTSTART;TZID=America/Los_Angeles:20230714T170000
DTEND;TZID=America/Los_Angeles:20230714T190000
DTSTAMP:20260425T092508
CREATED:20230616T052330Z
LAST-MODIFIED:20230616T052330Z
UID:10000149-1689354000-1689361200@arts4mc.org
SUMMARY:Pottery Class
DESCRIPTION:Join our instructor Louie Benitez in creating and learning these simple and effective ways of hand-built pottery.\nA good way to learn the basics of clay and the pottery process. \nLearn to make simple objects such as cups\, bowls\, plates\, and more! \nThis 2-day class will be held on Friday\, July 14th\, and Friday\, July 21st from 5-7 pm. \nThis class is usually $60\, but thanks to our sponsors you can take this class for FREE! \nONLY 5 SPOTS ARE AVAILABLE! RESERVE YOURS NOW!
URL:https://arts4mc.org/event/pottery-class/
LOCATION:Sol Treasures\, 519 Broadway Street\, King City\, CA\, 93930\, United States
ATTACH;FMTTYPE=image/jpeg:https://arts4mc.org/wp-content/uploads/2023/06/Pottery-Free-Flyer-Eng.jpg
ORGANIZER;CN="Sol Treasures":MAILTO:celebrate@soltreasures.com
GEO:36.2108245;-121.1296099
X-APPLE-STRUCTURED-LOCATION;VALUE=URI;X-ADDRESS=Sol Treasures 519 Broadway Street King City CA 93930 United States;X-APPLE-RADIUS=500;X-TITLE=519 Broadway Street:geo:-121.1296099,36.2108245
END:VEVENT
BEGIN:VEVENT
DTSTART;TZID=America/Los_Angeles:20230714T180000
DTEND;TZID=America/Los_Angeles:20230714T200000
DTSTAMP:20260425T092508
CREATED:20230616T052254Z
LAST-MODIFIED:20230616T052254Z
UID:10000150-1689357600-1689364800@arts4mc.org
SUMMARY:Backyard Concert
DESCRIPTION:Join us in our backyard for some live music by Paradise Road! \nThis is a free event for all ages! \nHope to see you there! \nFriday\, July 14th from 6-8 pm
URL:https://arts4mc.org/event/backyard-concert/
LOCATION:Sol Treasures\, 519 Broadway Street\, King City\, CA\, 93930\, United States
ATTACH;FMTTYPE=image/jpeg:https://arts4mc.org/wp-content/uploads/2023/06/Paradise-Road-Eng.jpg
ORGANIZER;CN="Sol Treasures":MAILTO:celebrate@soltreasures.com
GEO:36.2108245;-121.1296099
X-APPLE-STRUCTURED-LOCATION;VALUE=URI;X-ADDRESS=Sol Treasures 519 Broadway Street King City CA 93930 United States;X-APPLE-RADIUS=500;X-TITLE=519 Broadway Street:geo:-121.1296099,36.2108245
END:VEVENT
END:VCALENDAR