BEGIN:VCALENDAR
VERSION:2.0
PRODID:-//Arts Council for Monterey County - ECPv6.15.14//NONSGML v1.0//EN
CALSCALE:GREGORIAN
METHOD:PUBLISH
X-ORIGINAL-URL:https://arts4mc.org
X-WR-CALDESC:Events for Arts Council for Monterey County
REFRESH-INTERVAL;VALUE=DURATION:PT1H
X-Robots-Tag:noindex
X-PUBLISHED-TTL:PT1H
BEGIN:VTIMEZONE
TZID:America/Los_Angeles
BEGIN:DAYLIGHT
TZOFFSETFROM:-0800
TZOFFSETTO:-0700
TZNAME:PDT
DTSTART:20220313T100000
END:DAYLIGHT
BEGIN:STANDARD
TZOFFSETFROM:-0700
TZOFFSETTO:-0800
TZNAME:PST
DTSTART:20221106T090000
END:STANDARD
BEGIN:DAYLIGHT
TZOFFSETFROM:-0800
TZOFFSETTO:-0700
TZNAME:PDT
DTSTART:20230312T100000
END:DAYLIGHT
BEGIN:STANDARD
TZOFFSETFROM:-0700
TZOFFSETTO:-0800
TZNAME:PST
DTSTART:20231105T090000
END:STANDARD
BEGIN:DAYLIGHT
TZOFFSETFROM:-0800
TZOFFSETTO:-0700
TZNAME:PDT
DTSTART:20240310T100000
END:DAYLIGHT
BEGIN:STANDARD
TZOFFSETFROM:-0700
TZOFFSETTO:-0800
TZNAME:PST
DTSTART:20241103T090000
END:STANDARD
END:VTIMEZONE
BEGIN:VEVENT
DTSTART;TZID=America/Los_Angeles:20230708T100000
DTEND;TZID=America/Los_Angeles:20230708T130000
DTSTAMP:20260425T091432
CREATED:20230616T052328Z
LAST-MODIFIED:20230616T052328Z
UID:10000148-1688810400-1688821200@arts4mc.org
SUMMARY:Mosaic Butterfly
DESCRIPTION:Join our instructor and Mosaic artist Debra Cobb\nand create a beautiful mosaic butterfly!  \nThis project is perfect for your garden\, home decor\, or gift! \nOnly 10 spots are available! Register today by calling us at 831-386-1381 or emailing us at celebrate@soltreasures.com \nFree in 23 is sponsored by Yellow Brick Road Benefit Shop\, Aera Energy\, and Monterey County Gives!
URL:https://arts4mc.org/event/mosaic-butterfly/
LOCATION:Sol Treasures\, 519 Broadway Street\, King City\, CA\, 93930\, United States
ATTACH;FMTTYPE=image/jpeg:https://arts4mc.org/wp-content/uploads/2023/06/Mosaic-Butterfly-Eng.jpg
ORGANIZER;CN="Sol Treasures":MAILTO:celebrate@soltreasures.com
GEO:36.2108245;-121.1296099
X-APPLE-STRUCTURED-LOCATION;VALUE=URI;X-ADDRESS=Sol Treasures 519 Broadway Street King City CA 93930 United States;X-APPLE-RADIUS=500;X-TITLE=519 Broadway Street:geo:-121.1296099,36.2108245
END:VEVENT
END:VCALENDAR