BEGIN:VCALENDAR
VERSION:2.0
PRODID:-//Arts Council for Monterey County - ECPv6.15.14//NONSGML v1.0//EN
CALSCALE:GREGORIAN
METHOD:PUBLISH
X-WR-CALNAME:Arts Council for Monterey County
X-ORIGINAL-URL:https://arts4mc.org
X-WR-CALDESC:Events for Arts Council for Monterey County
REFRESH-INTERVAL;VALUE=DURATION:PT1H
X-Robots-Tag:noindex
X-PUBLISHED-TTL:PT1H
BEGIN:VTIMEZONE
TZID:America/Los_Angeles
BEGIN:DAYLIGHT
TZOFFSETFROM:-0800
TZOFFSETTO:-0700
TZNAME:PDT
DTSTART:20220313T100000
END:DAYLIGHT
BEGIN:STANDARD
TZOFFSETFROM:-0700
TZOFFSETTO:-0800
TZNAME:PST
DTSTART:20221106T090000
END:STANDARD
BEGIN:DAYLIGHT
TZOFFSETFROM:-0800
TZOFFSETTO:-0700
TZNAME:PDT
DTSTART:20230312T100000
END:DAYLIGHT
BEGIN:STANDARD
TZOFFSETFROM:-0700
TZOFFSETTO:-0800
TZNAME:PST
DTSTART:20231105T090000
END:STANDARD
BEGIN:DAYLIGHT
TZOFFSETFROM:-0800
TZOFFSETTO:-0700
TZNAME:PDT
DTSTART:20240310T100000
END:DAYLIGHT
BEGIN:STANDARD
TZOFFSETFROM:-0700
TZOFFSETTO:-0800
TZNAME:PST
DTSTART:20241103T090000
END:STANDARD
END:VTIMEZONE
BEGIN:VEVENT
DTSTART;TZID=America/Los_Angeles:20230626T130000
DTEND;TZID=America/Los_Angeles:20230630T150000
DTSTAMP:20260425T074804
CREATED:20230517T201023Z
LAST-MODIFIED:20230517T201023Z
UID:10000137-1687784400-1688137200@arts4mc.org
SUMMARY:Flute Choir Camp\, Session 2
DESCRIPTION:Candiotti Flute Studio is offering two 5-day Flute Choir Camp sessions this summer\, June 12-16 and June 26-30\, 2023. Flute Choir Camp is a summer camp for young flutists who want to meet other flutists\, learn flute ensemble music\, or try out another instrument in the flute family. It is directed by Monterey County flute teacher\, Jennifer Candiotti. Flute Choir Camp is two hours a day and includes musical games\, community building\, group rehearsal\, some individual music instruction\, and a free Showcase Concert on the final day of each session.  \nThere will be new music to learn at each session\, so you can join for one week or both!  \nTuition is $275/week which covers: \n– Sheet music and folders \n– Daily group instruction \n– Rehearsal space rental fees \n– Low flute rental fees \n– Flute Choir Camp T-shirt (If participating in both sessions -$25 for Session 2) \nNo prior flute choir experience is required\, but two years playing experience is recommended. Payment plans are available upon request and limited scholarships may be available.
URL:https://arts4mc.org/event/flute-choir-camp-session-2/
LOCATION:Washington Middle School\, 560 Iverson Street\, Salinas\, CA\, 93901\, United States
ORGANIZER;CN="Jennifer Candiotti%2C Candiotti Flute Studio":MAILTO:jennifercandiottiflute@gmail.com
GEO:36.6689898;-121.6648899
X-APPLE-STRUCTURED-LOCATION;VALUE=URI;X-ADDRESS=Washington Middle School 560 Iverson Street Salinas CA 93901 United States;X-APPLE-RADIUS=500;X-TITLE=560 Iverson Street:geo:-121.6648899,36.6689898
END:VEVENT
END:VCALENDAR