BEGIN:VCALENDAR
VERSION:2.0
PRODID:-//Arts Council for Monterey County - ECPv6.15.14//NONSGML v1.0//EN
CALSCALE:GREGORIAN
METHOD:PUBLISH
X-WR-CALNAME:Arts Council for Monterey County
X-ORIGINAL-URL:https://arts4mc.org
X-WR-CALDESC:Events for Arts Council for Monterey County
REFRESH-INTERVAL;VALUE=DURATION:PT1H
X-Robots-Tag:noindex
X-PUBLISHED-TTL:PT1H
BEGIN:VTIMEZONE
TZID:America/Los_Angeles
BEGIN:DAYLIGHT
TZOFFSETFROM:-0800
TZOFFSETTO:-0700
TZNAME:PDT
DTSTART:20230312T100000
END:DAYLIGHT
BEGIN:STANDARD
TZOFFSETFROM:-0700
TZOFFSETTO:-0800
TZNAME:PST
DTSTART:20231105T090000
END:STANDARD
BEGIN:DAYLIGHT
TZOFFSETFROM:-0800
TZOFFSETTO:-0700
TZNAME:PDT
DTSTART:20240310T100000
END:DAYLIGHT
BEGIN:STANDARD
TZOFFSETFROM:-0700
TZOFFSETTO:-0800
TZNAME:PST
DTSTART:20241103T090000
END:STANDARD
BEGIN:DAYLIGHT
TZOFFSETFROM:-0800
TZOFFSETTO:-0700
TZNAME:PDT
DTSTART:20250309T100000
END:DAYLIGHT
BEGIN:STANDARD
TZOFFSETFROM:-0700
TZOFFSETTO:-0800
TZNAME:PST
DTSTART:20251102T090000
END:STANDARD
END:VTIMEZONE
BEGIN:VEVENT
DTSTART;TZID=America/Los_Angeles:20241214T110000
DTEND;TZID=America/Los_Angeles:20241214T140000
DTSTAMP:20260423T185818
CREATED:20241203T191435Z
LAST-MODIFIED:20241203T191435Z
UID:50151-1734174000-1734184800@arts4mc.org
SUMMARY:Winter Art Market
DESCRIPTION:Enjoy FREE admission to the Museum and join us for a creative and cozy shopping experience at our Winter Art Market! Held inside the wondrous Iluminado exhibition\, visitors are invited to participate in our interactive art installation\, support local artists and vendors\, and find the perfect gifts for the holiday season! Join us for a Jolly Candle-Making Experience with Johnny Wicks! Get in the holiday spirit by creating your own festive candles. Choose from our cozy $25 soy wax candle-making session\, where you can craft a long-lasting\, customized scent. Or dive into our sand wax options—priced from $5 – $20 for a quick and colorful candle to brighten your home. Perfect for families\, friends\, or solo crafters looking to add a little holiday magic to their season!
URL:https://arts4mc.org/event/winter-art-market-2/
LOCATION:559 Pacific St\, Monterey\, CA\, United States\, California
ATTACH;FMTTYPE=image/jpeg:https://arts4mc.org/wp-content/uploads/2024/11/Winter-Art-Market.jpg
ORGANIZER;CN="Monterey Museum of Art":MAILTO:info@montereyart.org
END:VEVENT
END:VCALENDAR