BEGIN:VCALENDAR
VERSION:2.0
PRODID:-//Arts Council for Monterey County - ECPv6.15.14//NONSGML v1.0//EN
CALSCALE:GREGORIAN
METHOD:PUBLISH
X-WR-CALNAME:Arts Council for Monterey County
X-ORIGINAL-URL:https://arts4mc.org
X-WR-CALDESC:Events for Arts Council for Monterey County
REFRESH-INTERVAL;VALUE=DURATION:PT1H
X-Robots-Tag:noindex
X-PUBLISHED-TTL:PT1H
BEGIN:VTIMEZONE
TZID:America/Los_Angeles
BEGIN:DAYLIGHT
TZOFFSETFROM:-0800
TZOFFSETTO:-0700
TZNAME:PDT
DTSTART:20220313T100000
END:DAYLIGHT
BEGIN:STANDARD
TZOFFSETFROM:-0700
TZOFFSETTO:-0800
TZNAME:PST
DTSTART:20221106T090000
END:STANDARD
BEGIN:DAYLIGHT
TZOFFSETFROM:-0800
TZOFFSETTO:-0700
TZNAME:PDT
DTSTART:20230312T100000
END:DAYLIGHT
BEGIN:STANDARD
TZOFFSETFROM:-0700
TZOFFSETTO:-0800
TZNAME:PST
DTSTART:20231105T090000
END:STANDARD
BEGIN:DAYLIGHT
TZOFFSETFROM:-0800
TZOFFSETTO:-0700
TZNAME:PDT
DTSTART:20240310T100000
END:DAYLIGHT
BEGIN:STANDARD
TZOFFSETFROM:-0700
TZOFFSETTO:-0800
TZNAME:PST
DTSTART:20241103T090000
END:STANDARD
END:VTIMEZONE
BEGIN:VEVENT
DTSTART;TZID=America/Los_Angeles:20230312T160000
DTEND;TZID=America/Los_Angeles:20230312T180000
DTSTAMP:20260424T021614
CREATED:20230310T215303Z
LAST-MODIFIED:20230310T215303Z
UID:10000019-1678636800-1678644000@arts4mc.org
SUMMARY:Watsonville Film Festival presents El Poder del Arte
DESCRIPTION:Tired of #OscarsSoWhite? Then join us for #CineLatino! Tonight we join forces with Palenke Arts in Seaside to present Strawberry Picker and Remover el corazón (Mending the Heart). Eugenia Rentería\, Director of Strawberry Picker\, will be in attendance. Don’t miss this special evening of film\, art and community. Free\, limited capacity.\n\nSTRAWBERRY PICKER\n\nDirected by Eugenia Rentería. Producer Maria Cano. (2023) 20 minutes  From a little boy growing up in labor camps and attending Watsonville schools\, to a world-class artist\, this documentary short looks at generations of struggle and resilience in the Chicano art community through the experiences of Juan R. Fuentes. (20 min. English. All Ages)\n\nREMOVER EL CORAZON / TO STIR THE HEART\n\nOn September 19\, 2017\, a powerful earthquake shook Mexico. The children of one of the most affected villages learn to transform their trauma through poetry and painting. In San Gregorio Atlapulco\, the creation of community through art shows us that when the earth opens\, our hearts open up too.\n\nEn el 2017 un terremoto sacude a México. Los niños de San Gregorio Atlapulco\, uno de los poblados más afectados\, aprenden a sublimar el trauma a través de su mundo poético interior y los colores de la pintura.
URL:https://arts4mc.org/event/watsonville-film-festival-presents-el-poder-del-arte/2023-03-12/2/
LOCATION:Oldemeyer Center\, 986 Hilby Ave.\, Seaside\, CA\, 93955\, United States
ATTACH;FMTTYPE=image/jpeg:https://arts4mc.org/wp-content/uploads/2023/03/El-poder-del-arte-2.jpg
GEO:36.6021248;-121.8460568
X-APPLE-STRUCTURED-LOCATION;VALUE=URI;X-ADDRESS=Oldemeyer Center 986 Hilby Ave. Seaside CA 93955 United States;X-APPLE-RADIUS=500;X-TITLE=986 Hilby Ave.:geo:-121.8460568,36.6021248
END:VEVENT
END:VCALENDAR