BEGIN:VCALENDAR
VERSION:2.0
PRODID:-//Arts Council for Monterey County - ECPv6.15.14//NONSGML v1.0//EN
CALSCALE:GREGORIAN
METHOD:PUBLISH
X-WR-CALNAME:Arts Council for Monterey County
X-ORIGINAL-URL:https://arts4mc.org
X-WR-CALDESC:Events for Arts Council for Monterey County
REFRESH-INTERVAL;VALUE=DURATION:PT1H
X-Robots-Tag:noindex
X-PUBLISHED-TTL:PT1H
BEGIN:VTIMEZONE
TZID:America/Los_Angeles
BEGIN:DAYLIGHT
TZOFFSETFROM:-0800
TZOFFSETTO:-0700
TZNAME:PDT
DTSTART:20220313T100000
END:DAYLIGHT
BEGIN:STANDARD
TZOFFSETFROM:-0700
TZOFFSETTO:-0800
TZNAME:PST
DTSTART:20221106T090000
END:STANDARD
BEGIN:DAYLIGHT
TZOFFSETFROM:-0800
TZOFFSETTO:-0700
TZNAME:PDT
DTSTART:20230312T100000
END:DAYLIGHT
BEGIN:STANDARD
TZOFFSETFROM:-0700
TZOFFSETTO:-0800
TZNAME:PST
DTSTART:20231105T090000
END:STANDARD
BEGIN:DAYLIGHT
TZOFFSETFROM:-0800
TZOFFSETTO:-0700
TZNAME:PDT
DTSTART:20240310T100000
END:DAYLIGHT
BEGIN:STANDARD
TZOFFSETFROM:-0700
TZOFFSETTO:-0800
TZNAME:PST
DTSTART:20241103T090000
END:STANDARD
END:VTIMEZONE
BEGIN:VEVENT
DTSTART;TZID=America/Los_Angeles:20230521T150000
DTEND;TZID=America/Los_Angeles:20230521T180000
DTSTAMP:20260422T161816
CREATED:20230504T022102Z
LAST-MODIFIED:20230504T022102Z
UID:21357-1684681200-1684692000@arts4mc.org
SUMMARY:Vino\, Tapas and Manouche Jazz\, a benefit for Palenke Arts
DESCRIPTION:Join us on May 21\, 2023 as we gather at the legendary Hidden Valley Music Seminars grounds in Carmel Valley for a wine\, tapas and Manouche Jazz concert to benefit Palenke Arts\, an exciting multicultural arts center in Seaside. \nO﻿ur featured artist for the evening will be Barrio Manouche\, “Founded by Spanish guitarist Javi Jiménez\, the group is honing a singular body of music that combines the instrumentation and signature rhythms of modern jazz\, flamenco and (the jazz manouche tradition)\, the enduringly popular propulsive string-band style created in 1930s Paris by Sinti guitarist Django Reinhardt and French violinist Stephan Grappelli.” – Berkeleyside \nEnjoy the delectable wines graciously provided by Sylvia and Walt Georis and Georis Winery and a wonderful array of Spanish tapas generously donated and prepared by Chef Alfonso Martínez. Our own Palenke Arts Latin Jazz Combo\, directed by Paul Contos will perform in our pre-concert reception. \nPalenke Arts is a safe\, vibrant and inclusive home for the arts in Seaside whose mission is to educate\, inspire and transform the community through the arts. We offer high-quality and culturally-rooted arts\, music and dance classes and events to youth and family who would otherwise not be able to afford them. Palenke Arts was the proud recipient of the 2019 Arts and Culture Award from the Nonprofit Alliance of Monterey County and 2022 Champion of the Arts Award from the Arts Council of Monterey County. \nThe San Francisco-based acoustic ensemble Barrio Manouche performs a repertoire of original compositions with an emotionally charged sound that is difficult to classify yet instantly recognizable. The group’s international roots shine brightly in their music with members from Spain\, Quebec\, France\, Brazil and California and is deeply influenced by a wide range of musical traditions. Barrio Manouche has been recognized for its surprise concerts\, innovative style\, complex technique\, and its passion for musical improvisations. With latest collaborations including African sacred dance Brazilian dancer Emaye Ama Mizani\, as well as Colombian singer Iván Rondón\, Barrio Manouche plays what is perhaps the truest definition of World Music. \nO﻿ur special guest performer for the evening will be fiery flamenco dancer Melissa Cruz
URL:https://arts4mc.org/event/vino-tapas-and-manouche-jazz-a-benefit-for-palenke-arts/
LOCATION:Hidden Valley Music Seminars\, 104 West Carmel Valley Road\, Carmel Valley Village\, CA\, United States
ATTACH;FMTTYPE=image/jpeg:https://arts4mc.org/wp-content/uploads/2023/05/Benefit-Concert-NEW.jpg
ORGANIZER;CN="Palenke Arts":MAILTO:info@palenkearts.org
GEO:36.4824383;-121.738648
X-APPLE-STRUCTURED-LOCATION;VALUE=URI;X-ADDRESS=Hidden Valley Music Seminars 104 West Carmel Valley Road Carmel Valley Village CA United States;X-APPLE-RADIUS=500;X-TITLE=104 West Carmel Valley Road:geo:-121.738648,36.4824383
END:VEVENT
END:VCALENDAR