BEGIN:VCALENDAR
VERSION:2.0
PRODID:-//Arts Council for Monterey County - ECPv6.15.14//NONSGML v1.0//EN
CALSCALE:GREGORIAN
METHOD:PUBLISH
X-WR-CALNAME:Arts Council for Monterey County
X-ORIGINAL-URL:https://arts4mc.org
X-WR-CALDESC:Events for Arts Council for Monterey County
REFRESH-INTERVAL;VALUE=DURATION:PT1H
X-Robots-Tag:noindex
X-PUBLISHED-TTL:PT1H
BEGIN:VTIMEZONE
TZID:America/Los_Angeles
BEGIN:DAYLIGHT
TZOFFSETFROM:-0800
TZOFFSETTO:-0700
TZNAME:PDT
DTSTART:20240310T100000
END:DAYLIGHT
BEGIN:STANDARD
TZOFFSETFROM:-0700
TZOFFSETTO:-0800
TZNAME:PST
DTSTART:20241103T090000
END:STANDARD
BEGIN:DAYLIGHT
TZOFFSETFROM:-0800
TZOFFSETTO:-0700
TZNAME:PDT
DTSTART:20250309T100000
END:DAYLIGHT
BEGIN:STANDARD
TZOFFSETFROM:-0700
TZOFFSETTO:-0800
TZNAME:PST
DTSTART:20251102T090000
END:STANDARD
BEGIN:DAYLIGHT
TZOFFSETFROM:-0800
TZOFFSETTO:-0700
TZNAME:PDT
DTSTART:20260308T100000
END:DAYLIGHT
BEGIN:STANDARD
TZOFFSETFROM:-0700
TZOFFSETTO:-0800
TZNAME:PST
DTSTART:20261101T090000
END:STANDARD
END:VTIMEZONE
BEGIN:VEVENT
DTSTART;TZID=America/Los_Angeles:20250614T170000
DTEND;TZID=America/Los_Angeles:20250614T230000
DTSTAMP:20260423T031400
CREATED:20250603T214352Z
LAST-MODIFIED:20250603T214352Z
UID:86017-1749920400-1749942000@arts4mc.org
SUMMARY:The Extra Terrestrial Ball
DESCRIPTION:THE EXTRA TERRESTRIAL BALL – SATURDAY\, JUNE 14th At the P.G. Art Center Doors at 5pm\, music at 6pm. Calling the glam\, the groovy\, and the patrons of arts! Join us for THE EXTRA TERRESTRIAL BALL hosted by Mephistopheles Music Co. This fundraiser for the Pacific Grove Art Center will support their goal of upgrading equipment and art supplies. As we are drawing inspiration from the 60’s art-pop movement\, 70’s glam\, and the New York club kid scene\, we highly encourage dressing up in costume! Rock out at the Enchantrix Stage (Gill Gallery)\, enjoy indie and acoustic sets at the Oddities Stage (Annand Gallery) and dance with DJs at the MPYRE party (Dyke Gallery)! Thank you to our sponsors – Monterey Pride\, Radimedia\, and Ikhwan Studios for making this event possible! All Ages | Beer & Wine bar Tickets at door – $15 general admission\, $10 for costumed attendees
URL:https://arts4mc.org/event/the-extra-terrestrial-ball/
LOCATION:Pacific Grove Art Center\, 568 Lighthouse Ave.\, Pacific Grove\, CA\, 93950\, United States
ATTACH;FMTTYPE=image/jpeg:https://arts4mc.org/wp-content/uploads/2025/06/ET-Poster-70s-Haze-NO-FOOD-1.jpg
ORGANIZER;CN="Pacific Grove Art Center":MAILTO:generalinfopgac@gmail.com
GEO:36.6212575;-121.9174422
X-APPLE-STRUCTURED-LOCATION;VALUE=URI;X-ADDRESS=Pacific Grove Art Center 568 Lighthouse Ave. Pacific Grove CA 93950 United States;X-APPLE-RADIUS=500;X-TITLE=568 Lighthouse Ave.:geo:-121.9174422,36.6212575
END:VEVENT
END:VCALENDAR