BEGIN:VCALENDAR
VERSION:2.0
PRODID:-//Arts Council for Monterey County - ECPv6.15.14//NONSGML v1.0//EN
CALSCALE:GREGORIAN
METHOD:PUBLISH
X-WR-CALNAME:Arts Council for Monterey County
X-ORIGINAL-URL:https://arts4mc.org
X-WR-CALDESC:Events for Arts Council for Monterey County
REFRESH-INTERVAL;VALUE=DURATION:PT1H
X-Robots-Tag:noindex
X-PUBLISHED-TTL:PT1H
BEGIN:VTIMEZONE
TZID:America/Los_Angeles
BEGIN:DAYLIGHT
TZOFFSETFROM:-0800
TZOFFSETTO:-0700
TZNAME:PDT
DTSTART:20230312T100000
END:DAYLIGHT
BEGIN:STANDARD
TZOFFSETFROM:-0700
TZOFFSETTO:-0800
TZNAME:PST
DTSTART:20231105T090000
END:STANDARD
BEGIN:DAYLIGHT
TZOFFSETFROM:-0800
TZOFFSETTO:-0700
TZNAME:PDT
DTSTART:20240310T100000
END:DAYLIGHT
BEGIN:STANDARD
TZOFFSETFROM:-0700
TZOFFSETTO:-0800
TZNAME:PST
DTSTART:20241103T090000
END:STANDARD
BEGIN:DAYLIGHT
TZOFFSETFROM:-0800
TZOFFSETTO:-0700
TZNAME:PDT
DTSTART:20250309T100000
END:DAYLIGHT
BEGIN:STANDARD
TZOFFSETFROM:-0700
TZOFFSETTO:-0800
TZNAME:PST
DTSTART:20251102T090000
END:STANDARD
END:VTIMEZONE
BEGIN:VEVENT
DTSTART;TZID=America/Los_Angeles:20240501T070000
DTEND;TZID=America/Los_Angeles:20240816T190000
DTSTAMP:20260423T005833
CREATED:20240510T203121Z
LAST-MODIFIED:20240510T203121Z
UID:26224-1714546800-1723834800@arts4mc.org
SUMMARY:The Eloquent Suri of Ethiopia: People\, Art\, Culture\, Language through August 16\, 2024
DESCRIPTION:The Suri people of Ethiopia\, who live in the country’s remote southwest corner\, are a proud and resilient people with creative and exquisite adornment traditions. They are also passionate about preserving their culture and language. The Eloquent Suri of Ethiopia exhibition\, on view already and through August 16 at the Middlebury Institute of International Studies (MIIS) in Monterey\, introduces the Peninsula community to this engaging people\, their art\, culture and language.  \nPlease join us in celebrating the Eloquent Suri and their inspiring stories\, while gaining greater understanding of the challenges they face. For more information about the exhibition or the overall Eloquent Suri project\, please contact Mark Overgaard (mark@movergaard.com). \nAvailability: now through August 16\, 2024; accessible to the public 7am – 7pm weekdays\, except on holidays observed by MIIS.
URL:https://arts4mc.org/event/the-eloquent-suri-of-ethiopia-people-art-culture-language-through-may-31-2024/
LOCATION:McCone Atrium Gallery (McCone Upper Lobby)\, 499 Pierce Street\, Monterey\, California
ATTACH;FMTTYPE=image/jpeg:https://arts4mc.org/wp-content/uploads/2024/05/Overgaard-Press-Kit-2024-3.jpg
ORGANIZER;CN="Mark Overgaard":MAILTO:mark@movergaard.com
END:VEVENT
END:VCALENDAR