BEGIN:VCALENDAR
VERSION:2.0
PRODID:-//Arts Council for Monterey County - ECPv6.15.14//NONSGML v1.0//EN
CALSCALE:GREGORIAN
METHOD:PUBLISH
X-WR-CALNAME:Arts Council for Monterey County
X-ORIGINAL-URL:https://arts4mc.org
X-WR-CALDESC:Events for Arts Council for Monterey County
REFRESH-INTERVAL;VALUE=DURATION:PT1H
X-Robots-Tag:noindex
X-PUBLISHED-TTL:PT1H
BEGIN:VTIMEZONE
TZID:America/Los_Angeles
BEGIN:DAYLIGHT
TZOFFSETFROM:-0800
TZOFFSETTO:-0700
TZNAME:PDT
DTSTART:20250309T100000
END:DAYLIGHT
BEGIN:STANDARD
TZOFFSETFROM:-0700
TZOFFSETTO:-0800
TZNAME:PST
DTSTART:20251102T090000
END:STANDARD
BEGIN:DAYLIGHT
TZOFFSETFROM:-0800
TZOFFSETTO:-0700
TZNAME:PDT
DTSTART:20260308T100000
END:DAYLIGHT
BEGIN:STANDARD
TZOFFSETFROM:-0700
TZOFFSETTO:-0800
TZNAME:PST
DTSTART:20261101T090000
END:STANDARD
BEGIN:DAYLIGHT
TZOFFSETFROM:-0800
TZOFFSETTO:-0700
TZNAME:PDT
DTSTART:20270314T100000
END:DAYLIGHT
BEGIN:STANDARD
TZOFFSETFROM:-0700
TZOFFSETTO:-0800
TZNAME:PST
DTSTART:20271107T090000
END:STANDARD
END:VTIMEZONE
BEGIN:VEVENT
DTSTART;TZID=America/Los_Angeles:20260425T120000
DTEND;TZID=America/Los_Angeles:20260425T180000
DTSTAMP:20260423T062800
CREATED:20260413T164601Z
LAST-MODIFIED:20260413T164601Z
UID:98653-1777118400-1777140000@arts4mc.org
SUMMARY:The Decades
DESCRIPTION:Exhibition Announcement: The Decades (2026 Collection) \nStep into The Decades\, a contemporary art experience that transforms time into space. This immersive exhibition invites you to move through dynamic\, dimensional environments where history\, memory\, and expression collide. Blending environmental installation with eclectic charcoal works\, each piece reflects the essence of past decades through layered textures\, cultural sayings\, and visual storytelling. \nThese spaces are not just viewed—they are felt. Viewers are encouraged to engage\, reflect\, and navigate through shifting atmospheres that blur the line between past and present. The charcoal paintings anchor the experience with raw\, expressive interpretations of historical phrases\, while the surrounding environments expand them into full sensory encounters. \nJoin us for the 2026 debut of The Decades Collection: \n📍 271 Portola Plaza\, Monterey\, California\n📅 April 25\, 2026\n🕛 12:00 PM – 6:00 PM\n🎤 Artist Presentation: 12:00 PM – 2:00 PM \nOpen to the public. Experience an exhibit that doesn’t just show history—it surrounds you.
URL:https://arts4mc.org/event/the-decades/
ATTACH;FMTTYPE=image/jpeg:https://arts4mc.org/wp-content/uploads/2026/04/cardscomplete.jpg
END:VEVENT
END:VCALENDAR