BEGIN:VCALENDAR
VERSION:2.0
PRODID:-//Arts Council for Monterey County - ECPv6.15.14//NONSGML v1.0//EN
CALSCALE:GREGORIAN
METHOD:PUBLISH
X-WR-CALNAME:Arts Council for Monterey County
X-ORIGINAL-URL:https://arts4mc.org
X-WR-CALDESC:Events for Arts Council for Monterey County
REFRESH-INTERVAL;VALUE=DURATION:PT1H
X-Robots-Tag:noindex
X-PUBLISHED-TTL:PT1H
BEGIN:VTIMEZONE
TZID:America/Los_Angeles
BEGIN:DAYLIGHT
TZOFFSETFROM:-0800
TZOFFSETTO:-0700
TZNAME:PDT
DTSTART:20230312T100000
END:DAYLIGHT
BEGIN:STANDARD
TZOFFSETFROM:-0700
TZOFFSETTO:-0800
TZNAME:PST
DTSTART:20231105T090000
END:STANDARD
BEGIN:DAYLIGHT
TZOFFSETFROM:-0800
TZOFFSETTO:-0700
TZNAME:PDT
DTSTART:20240310T100000
END:DAYLIGHT
BEGIN:STANDARD
TZOFFSETFROM:-0700
TZOFFSETTO:-0800
TZNAME:PST
DTSTART:20241103T090000
END:STANDARD
BEGIN:DAYLIGHT
TZOFFSETFROM:-0800
TZOFFSETTO:-0700
TZNAME:PDT
DTSTART:20250309T100000
END:DAYLIGHT
BEGIN:STANDARD
TZOFFSETFROM:-0700
TZOFFSETTO:-0800
TZNAME:PST
DTSTART:20251102T090000
END:STANDARD
END:VTIMEZONE
BEGIN:VEVENT
DTSTART;TZID=America/Los_Angeles:20241130T100000
DTEND;TZID=America/Los_Angeles:20241130T160000
DTSTAMP:20260423T113751
CREATED:20241122T230123Z
LAST-MODIFIED:20241122T230123Z
UID:51176-1732960800-1732982400@arts4mc.org
SUMMARY:Small Business Saturday at ArtWorks @Salinas!
DESCRIPTION:Join us for Shop Small Saturday on November 30th\, 10 AM – 4 PM at #ArtWorksSalinas! ???? Discover unique\, one-of-a-kind gifts from talented local artists and artisans like David J. Gubernick\, Kenji Tanner\, Shagufta Khan\, Johnny Wicks Candles\, and more! ☕ Also\, don’t miss a special pop-up by Obsessive Coffee for your favorite coffee and treats while you shop! Support local\, find special holiday treasures\, and enjoy a great day out. See you there!
URL:https://arts4mc.org/event/small-business-saturday-at-artworks-salinas/
LOCATION:ArtWorks @Salinas\, 262 Main Street\, Salinas\, CA\, 93901\, United States
ATTACH;FMTTYPE=image/jpeg:https://arts4mc.org/wp-content/uploads/2024/11/Small-Business-Saturday-SM-Gfx-1.jpg
ORGANIZER;CN="Arts Council for Monterey County":MAILTO:info@arts4mc.org
GEO:36.6740282;-121.6552064
X-APPLE-STRUCTURED-LOCATION;VALUE=URI;X-ADDRESS=ArtWorks @Salinas 262 Main Street Salinas CA 93901 United States;X-APPLE-RADIUS=500;X-TITLE=262 Main Street:geo:-121.6552064,36.6740282
END:VEVENT
END:VCALENDAR