BEGIN:VCALENDAR
VERSION:2.0
PRODID:-//Arts Council for Monterey County - ECPv6.15.14//NONSGML v1.0//EN
CALSCALE:GREGORIAN
METHOD:PUBLISH
X-WR-CALNAME:Arts Council for Monterey County
X-ORIGINAL-URL:https://arts4mc.org
X-WR-CALDESC:Events for Arts Council for Monterey County
REFRESH-INTERVAL;VALUE=DURATION:PT1H
X-Robots-Tag:noindex
X-PUBLISHED-TTL:PT1H
BEGIN:VTIMEZONE
TZID:America/Los_Angeles
BEGIN:DAYLIGHT
TZOFFSETFROM:-0800
TZOFFSETTO:-0700
TZNAME:PDT
DTSTART:20240310T100000
END:DAYLIGHT
BEGIN:STANDARD
TZOFFSETFROM:-0700
TZOFFSETTO:-0800
TZNAME:PST
DTSTART:20241103T090000
END:STANDARD
BEGIN:DAYLIGHT
TZOFFSETFROM:-0800
TZOFFSETTO:-0700
TZNAME:PDT
DTSTART:20250309T100000
END:DAYLIGHT
BEGIN:STANDARD
TZOFFSETFROM:-0700
TZOFFSETTO:-0800
TZNAME:PST
DTSTART:20251102T090000
END:STANDARD
BEGIN:DAYLIGHT
TZOFFSETFROM:-0800
TZOFFSETTO:-0700
TZNAME:PDT
DTSTART:20260308T100000
END:DAYLIGHT
BEGIN:STANDARD
TZOFFSETFROM:-0700
TZOFFSETTO:-0800
TZNAME:PST
DTSTART:20261101T090000
END:STANDARD
END:VTIMEZONE
BEGIN:VEVENT
DTSTART;TZID=America/Los_Angeles:20251115T100000
DTEND;TZID=America/Los_Angeles:20251115T120000
DTSTAMP:20260421T133751
CREATED:20251029T162456Z
LAST-MODIFIED:20251029T162638Z
UID:95145-1763200800-1763208000@arts4mc.org
SUMMARY:Pathways for Arts Educators – Salinas Community Session
DESCRIPTION:Artists\, educators\, and community members — your voice can help shape the future of arts education! \nJoin us in Salinas on Saturday\, November 15\, from 10:00 AM to 12:00 PM at United Way Monterey County (232 Monterey St) for a Pathways for Arts Educators Community Session\, hosted by Arts4MC\, the San Benito County Arts Council\, and the Arts Council of Santa Cruz County. \nThis regional initiative is building pathways for visual and performing arts teachers so that every student can benefit from the new Prop 28 arts education funding. \nOther sessions are happening in Hollister on November 13 and Watsonville on November 14. \nCome share your ideas\, connect with fellow creatives\, and help strengthen the arts teacher pipeline in our region!
URL:https://arts4mc.org/event/pathways-for-arts-educators-salinas-community-session/
LOCATION:United Way Monterey County\, 232 Monterey St. Ste. 200\, Salinas\, 93901
ATTACH;FMTTYPE=image/png:https://arts4mc.org/wp-content/uploads/2025/10/Pathways-2025.png
ORGANIZER;CN="Arts Council for Monterey County":MAILTO:info@arts4mc.org
GEO:36.6747026;-121.6540071
X-APPLE-STRUCTURED-LOCATION;VALUE=URI;X-ADDRESS=United Way Monterey County 232 Monterey St. Ste. 200 Salinas 93901;X-APPLE-RADIUS=500;X-TITLE=232 Monterey St. Ste. 200:geo:-121.6540071,36.6747026
END:VEVENT
END:VCALENDAR