BEGIN:VCALENDAR
VERSION:2.0
PRODID:-//Arts Council for Monterey County - ECPv6.15.14//NONSGML v1.0//EN
CALSCALE:GREGORIAN
METHOD:PUBLISH
X-WR-CALNAME:Arts Council for Monterey County
X-ORIGINAL-URL:https://arts4mc.org
X-WR-CALDESC:Events for Arts Council for Monterey County
REFRESH-INTERVAL;VALUE=DURATION:PT1H
X-Robots-Tag:noindex
X-PUBLISHED-TTL:PT1H
BEGIN:VTIMEZONE
TZID:America/Los_Angeles
BEGIN:DAYLIGHT
TZOFFSETFROM:-0800
TZOFFSETTO:-0700
TZNAME:PDT
DTSTART:20240310T100000
END:DAYLIGHT
BEGIN:STANDARD
TZOFFSETFROM:-0700
TZOFFSETTO:-0800
TZNAME:PST
DTSTART:20241103T090000
END:STANDARD
BEGIN:DAYLIGHT
TZOFFSETFROM:-0800
TZOFFSETTO:-0700
TZNAME:PDT
DTSTART:20250309T100000
END:DAYLIGHT
BEGIN:STANDARD
TZOFFSETFROM:-0700
TZOFFSETTO:-0800
TZNAME:PST
DTSTART:20251102T090000
END:STANDARD
BEGIN:DAYLIGHT
TZOFFSETFROM:-0800
TZOFFSETTO:-0700
TZNAME:PDT
DTSTART:20260308T100000
END:DAYLIGHT
BEGIN:STANDARD
TZOFFSETFROM:-0700
TZOFFSETTO:-0800
TZNAME:PST
DTSTART:20261101T090000
END:STANDARD
END:VTIMEZONE
BEGIN:VEVENT
DTSTART;TZID=America/Los_Angeles:20250906T100000
DTEND;TZID=America/Los_Angeles:20250906T180000
DTSTAMP:20260424T061500
CREATED:20250826T165508Z
LAST-MODIFIED:20250826T165508Z
UID:10001130-1757152800-1757181600@arts4mc.org
SUMMARY:Palace Art & Office Supply 76th Anniversary Fall Celebration Weekend
DESCRIPTION:Get inspired to create more when you spend the day (or two!) at Palace to celebrate our 76th anniversary! Each day\, the store will be filled with local artists and top manufacturers demonstrating products and techniques across a range of mediums: from acrylic and watercolor paints to screen printing to mixed media and collage and beyond. Plus\, chances to win prizes and walk away with art that you create throughout the event.
URL:https://arts4mc.org/event/palace-art-office-supply-76th-anniversary-fall-celebration-weekend/2025-09-06/
LOCATION:Palace Art & Office Supply\, 1501-K 41st Ave\, Capitola\, 95010
ATTACH;FMTTYPE=image/jpeg:https://arts4mc.org/wp-content/uploads/2025/08/Palace-Art-Office-Supply-76th-Anniversary-Fall-Celebration-Weekend.jpg
ORGANIZER;CN="Palace Art &amp%3B Office Supply":MAILTO:info@palaceartsupply.com
GEO:36.9723394;-121.966899
X-APPLE-STRUCTURED-LOCATION;VALUE=URI;X-ADDRESS=Palace Art & Office Supply 1501-K 41st Ave Capitola 95010;X-APPLE-RADIUS=500;X-TITLE=1501-K 41st Ave:geo:-121.966899,36.9723394
END:VEVENT
END:VCALENDAR