BEGIN:VCALENDAR
VERSION:2.0
PRODID:-//Arts Council for Monterey County - ECPv6.15.14//NONSGML v1.0//EN
CALSCALE:GREGORIAN
METHOD:PUBLISH
X-WR-CALNAME:Arts Council for Monterey County
X-ORIGINAL-URL:https://arts4mc.org
X-WR-CALDESC:Events for Arts Council for Monterey County
REFRESH-INTERVAL;VALUE=DURATION:PT1H
X-Robots-Tag:noindex
X-PUBLISHED-TTL:PT1H
BEGIN:VTIMEZONE
TZID:America/Los_Angeles
BEGIN:DAYLIGHT
TZOFFSETFROM:-0800
TZOFFSETTO:-0700
TZNAME:PDT
DTSTART:20250309T100000
END:DAYLIGHT
BEGIN:STANDARD
TZOFFSETFROM:-0700
TZOFFSETTO:-0800
TZNAME:PST
DTSTART:20251102T090000
END:STANDARD
BEGIN:DAYLIGHT
TZOFFSETFROM:-0800
TZOFFSETTO:-0700
TZNAME:PDT
DTSTART:20260308T100000
END:DAYLIGHT
BEGIN:STANDARD
TZOFFSETFROM:-0700
TZOFFSETTO:-0800
TZNAME:PST
DTSTART:20261101T090000
END:STANDARD
BEGIN:DAYLIGHT
TZOFFSETFROM:-0800
TZOFFSETTO:-0700
TZNAME:PDT
DTSTART:20270314T100000
END:DAYLIGHT
BEGIN:STANDARD
TZOFFSETFROM:-0700
TZOFFSETTO:-0800
TZNAME:PST
DTSTART:20271107T090000
END:STANDARD
END:VTIMEZONE
BEGIN:VEVENT
DTSTART;TZID=America/Los_Angeles:20260117T100000
DTEND;TZID=America/Los_Angeles:20260117T164500
DTSTAMP:20260424T051053
CREATED:20260105T202835Z
LAST-MODIFIED:20260105T202835Z
UID:96387-1768644000-1768668300@arts4mc.org
SUMMARY:Pacific Grove Museum Opens 2026 with Major Slate of Exhibits and Events - LiMPETS RIM teacher training
DESCRIPTION:The Pacific Grove Museum of Natural History has an ambitious plan for its 2026 exhibits and events schedule\, with the first six months of the year encapsulating everything from driftwood sculpture to great white sharks. Under the leadership of Executive Director Dr. Rachel M. Miller\, the Museum has seen unprecedented growth in exhibits\, outreach\, and programming\, which will be on full display in the coming year. \nJanuary will begin with current exhibitions Wings of Wood and Beyond Illustrating Nature with Lindsay Newey and Iffat Karim cycling out to introduce two new exhibits: Tethered Light by LA-based artist Raphaele Cohen-Bacry on January 21 and Beyond Illustrating Nature with Calene Luzco on January 7. A special virtual meet-and-greet with Raphaele will be held on February 22 at the Museum for anyone interested in meeting her and discussing her work. \nJanuary will also see a number of exciting events\, including a screening of a new documentary Western Monarch Butterflies: Preserving Our Pollinators with filmmaker Ian Nelson\, a bird walk with local guide Amanda Preece\, and a special Science Saturday celebrating Sandy the Whale and animal migrations. \nFeaturing a reptile and amphibians theme\, February will host a special book talk about the amphibians of California with Dr. Emily Taylor of Cal Poly San Louis Obispo\, a herpetological painting party with Nicholas Ta\, artist and founder of Reef Renders. That month’s Science on Tap will take a deviation into the world of fish with a night about great white sharks with Hopkins Marine lab scientists led by Dr. Barbara Block before circling back to the theme with a Reptile Revelry Free Science Saturday. \nMarch will be the Museum’s Member Month and will introduce a new rotating exhibit by artist Lynn Butler\, with a meet and greet taking place that First Friday\, 3/6. The night before\, 3/5\, the Museum will host a History on Tap about the Women who Saved Pacific Grove featuring local scientist and author Steve Palumbi (The Death & Life of Monterey Bay\, The Extreme Life of the Sea). That week will end with a Women in Science Tea on Saturday\, 3/7\, which will feature a special panel of local women scientists discussing their work and paths in their careers. There will also be a variety of special member-only events including brown bag lectures\, special science walks\, and more. The month will close with a special Science Saturday celebrating the Museum’s founder Mary B. Norton on 3/28. \nApril will feature more science walks and brown bag lunches\, and close out with the Museum’s annual Student Research Symposium\, a special event open to the public showcasing the work and accomplishments of studies conducted by students working with the Museum’s LiMPETS and Watershed Guardians programs. \nMay’s First Friday will bring with it the opening of Illustrating Nature\, the Museum’s most popular annual exhibit. A long-standing partnership with CSU Monterey Bay’s Science Illustration program\, Illustrating Nature features the work of graduating artists and will hang for six weeks\, during which time there will be several associated events including paint and sips with program graduates\, field workshops\, and demo days. There will also be a special market with featured artists on June 5 for those interested in purchasing art prints or originals. The following weekend will feature the Walk of Remembrance in Pacific Grove\, celebrating the history and contributions of the fishing village community and their descendants\, as well as AAPI community members. \nJune at the Museum will feature a special Science on Tap around creatures of the land\, sea\, and air\, and continue with brown bag lunches\, science walks\, and artist workshops. The departure of Illustrating Nature will see the introduction of a photo exhibit by local photographer Jason Bradley\, with a special event to celebrate its opening tentatively scheduled for July 10. \nListed Events: \nJanuary: \nDocumentary Screening: Western Monarch Butterflies: Preserving Our Pollinators\, 1/16\, 5:30-7:30pm \nLiMPETS RIM teacher training: 1/17 \nBird Walk with Amanda Preece: 1/30\, 9am-12pm \nScience Saturday: Migration Celebration! 1/31\, 10am-3pm \nFebruary: \nBook Talk: Amphibians of California\, 2/6\, 5:30-7pm \nAnimal Painting Party\, 2/7\, 10:30am01:30pm \nScience on Tap: Great White Sharks\, 2/12\, 5:30-7:30pm \nVirtual Meet and Greet with Raphaele Cohen-Bacry\, 2/22\, time TBD \nScience Saturday: Reptile Revelry\, 2/28\, 10am-3pm \nMarch is Member Month! \nHistory on Tap: The Women Who Saved Pacific Grove\, 3/5\, 5:30-7:30pm \nFirst Friday: Lynn Butler Exhibit Opening\, 3/6\, 5:30-7:30pm \nWomen in Science Tea\, 3/7\, 2-3:30pm \nMember Brown Bag\, 3/20\, 12:15-12:45 \nScience Saturday: Mary B. Norton & Women in Science\, 3/28\, 10am-3pm \nApril: \nSpecial Member Walk: 4/1 Time TBD \nMember Brown Bag Talk: 4/24\, 12:15-12:45pm \nStudent Research Symposium: 4/25\, 10am-3pm \nMay: \nFirst Friday: Illustrating Nature Opening-5/1\, 6-8pm \nWalk of Remembrance: 5/9\, Events start at 11am \nIllustrating Nature Workshop: 5/22 \nFree Science Saturday: 5/30\, 10am-3pm \nJune: \nIllustrating Nature Workshop: 6/2 \nIllustrating Nature Artist Market: 6/5\, 5:30-7:30pm \nScience on Tap: Creatures of the Land\, Sea\, & Air\, 6/11\, 5:30-7:30pm \nMember Walk: 6/19 \nAbout the Pacific Grove Museum of Natural History \nIn 1883\, the Museum opened its doors among the first wave of natural history museums in America. Naturalists of this era began a national tradition of hands-on science education and nature preservation\, a tradition the Museum has continued for over 140 years. The Museum’s mission is to inspire discovery\, wonder\, and stewardship of our cultural and natural world. The Museum supports conservation\, scientific literacy\, co-curation\, and deep learning towards a resilient community and sustainable future. Their work is made possible\, in part\, by the following generous donors: American Water Charitable Foundation\, City of Pacific Grove\, Community Foundation for Monterey County\, Harden Foundation\, Helen Johnson Endowment Funds\, Monterey Peninsula Foundation\, and Shelby Cullom Davis Charitable Fund. The Museum is open to the public Wednesday-Sunday\, 10am-4pm. For more information visit www.pgmuseum.org.
URL:https://arts4mc.org/event/pacific-grove-museum-opens-2026-with-major-slate-of-exhibits-and-events-limpets-rim-teacher-training/
LOCATION:Pacific Grove Museum of Natural History\, 165 Forest Ave\, Pacific Grove\,\, CA\, 93950
ATTACH;FMTTYPE=image/png:https://arts4mc.org/wp-content/uploads/2026/01/thumbnail-5.png
GEO:36.621836;-121.9172775
X-APPLE-STRUCTURED-LOCATION;VALUE=URI;X-ADDRESS=Pacific Grove Museum of Natural History 165 Forest Ave Pacific Grove CA 93950;X-APPLE-RADIUS=500;X-TITLE=165 Forest Ave:geo:-121.9172775,36.621836
END:VEVENT
END:VCALENDAR