BEGIN:VCALENDAR
VERSION:2.0
PRODID:-//Arts Council for Monterey County - ECPv6.15.14//NONSGML v1.0//EN
CALSCALE:GREGORIAN
METHOD:PUBLISH
X-WR-CALNAME:Arts Council for Monterey County
X-ORIGINAL-URL:https://arts4mc.org
X-WR-CALDESC:Events for Arts Council for Monterey County
REFRESH-INTERVAL;VALUE=DURATION:PT1H
X-Robots-Tag:noindex
X-PUBLISHED-TTL:PT1H
BEGIN:VTIMEZONE
TZID:America/Los_Angeles
BEGIN:DAYLIGHT
TZOFFSETFROM:-0800
TZOFFSETTO:-0700
TZNAME:PDT
DTSTART:20240310T100000
END:DAYLIGHT
BEGIN:STANDARD
TZOFFSETFROM:-0700
TZOFFSETTO:-0800
TZNAME:PST
DTSTART:20241103T090000
END:STANDARD
BEGIN:DAYLIGHT
TZOFFSETFROM:-0800
TZOFFSETTO:-0700
TZNAME:PDT
DTSTART:20250309T100000
END:DAYLIGHT
BEGIN:STANDARD
TZOFFSETFROM:-0700
TZOFFSETTO:-0800
TZNAME:PST
DTSTART:20251102T090000
END:STANDARD
BEGIN:DAYLIGHT
TZOFFSETFROM:-0800
TZOFFSETTO:-0700
TZNAME:PDT
DTSTART:20260308T100000
END:DAYLIGHT
BEGIN:STANDARD
TZOFFSETFROM:-0700
TZOFFSETTO:-0800
TZNAME:PST
DTSTART:20261101T090000
END:STANDARD
END:VTIMEZONE
BEGIN:VEVENT
DTSTART;TZID=America/Los_Angeles:20250919T190000
DTEND;TZID=America/Los_Angeles:20250919T203000
DTSTAMP:20260421T235855
CREATED:20250826T233313Z
LAST-MODIFIED:20250826T233313Z
UID:92527-1758308400-1758313800@arts4mc.org
SUMMARY:Open Studios Art Tour Artist Reception
DESCRIPTION:Join us for a special opportunity to meet the artists of the 2025 Open Studios Art Tour at a special Artist Reception on Friday\, September 19th\, at 7 PM.  \nOpen Studios Art Tour is a free\, self-guided event over two weekends [October 11–12 & 18–19\, 2025]. This year\, we’re pleased to also include a Special Exhibition featuring OSAT participating artists at the Walter Lee Avery Gallery (inside Seaside City Hall) — a curated showcase running from Sept. 8 – Nov. 6 and this Artist Reception.  \nSpecial Exhibition at the Walter Lee Avery Gallery:\nSept. 8 – Nov. 6\, 2025\, | Mon. – Fri. 8:30 AM – 4:30 PM \nArtist Reception: Friday\, Sept. 19th at 7pm
URL:https://arts4mc.org/event/open-studios-art-tour-artist-reception/
LOCATION:Walter Lee Avery Gallery at Seaside City Hall\, 440 Harcourt Avenue\, Seaside\, CA\, 93955
ATTACH;FMTTYPE=image/png:https://arts4mc.org/wp-content/uploads/2025/08/Avery-Gallery-Artist-Reception-1.png
ORGANIZER;CN="Arts Council for Monterey County":MAILTO:info@arts4mc.org
GEO:36.6035367;-121.8535035
X-APPLE-STRUCTURED-LOCATION;VALUE=URI;X-ADDRESS=Walter Lee Avery Gallery at Seaside City Hall 440 Harcourt Avenue Seaside CA 93955;X-APPLE-RADIUS=500;X-TITLE=440 Harcourt Avenue:geo:-121.8535035,36.6035367
END:VEVENT
END:VCALENDAR