BEGIN:VCALENDAR
VERSION:2.0
PRODID:-//Arts Council for Monterey County - ECPv6.15.14//NONSGML v1.0//EN
CALSCALE:GREGORIAN
METHOD:PUBLISH
X-WR-CALNAME:Arts Council for Monterey County
X-ORIGINAL-URL:https://arts4mc.org
X-WR-CALDESC:Events for Arts Council for Monterey County
REFRESH-INTERVAL;VALUE=DURATION:PT1H
X-Robots-Tag:noindex
X-PUBLISHED-TTL:PT1H
BEGIN:VTIMEZONE
TZID:America/Los_Angeles
BEGIN:DAYLIGHT
TZOFFSETFROM:-0800
TZOFFSETTO:-0700
TZNAME:PDT
DTSTART:20250309T100000
END:DAYLIGHT
BEGIN:STANDARD
TZOFFSETFROM:-0700
TZOFFSETTO:-0800
TZNAME:PST
DTSTART:20251102T090000
END:STANDARD
BEGIN:DAYLIGHT
TZOFFSETFROM:-0800
TZOFFSETTO:-0700
TZNAME:PDT
DTSTART:20260308T100000
END:DAYLIGHT
BEGIN:STANDARD
TZOFFSETFROM:-0700
TZOFFSETTO:-0800
TZNAME:PST
DTSTART:20261101T090000
END:STANDARD
BEGIN:DAYLIGHT
TZOFFSETFROM:-0800
TZOFFSETTO:-0700
TZNAME:PDT
DTSTART:20270314T100000
END:DAYLIGHT
BEGIN:STANDARD
TZOFFSETFROM:-0700
TZOFFSETTO:-0800
TZNAME:PST
DTSTART:20271107T090000
END:STANDARD
END:VTIMEZONE
BEGIN:VEVENT
DTSTART;TZID=America/Los_Angeles:20260116T173000
DTEND;TZID=America/Los_Angeles:20260116T193000
DTSTAMP:20260425T202123
CREATED:20260105T202818Z
LAST-MODIFIED:20260105T202818Z
UID:96338-1768584600-1768591800@arts4mc.org
SUMMARY:New Monarch Butterfly Documentary to Screen at Pacific Grove Museum
DESCRIPTION:The Pacific Grove Museum of Natural History has been studying numbers of Western monarch butterflies since 1997\, and that work\, along with work of other organizations\, is featured in a new full-length documentary by filmmaker Ian A. Nelson. Screening at the Museum on January 16 the film\, titled Western Monarch Butterflies: Protecting Our Pollinators\, follows the work of conservation organizations attempting to save this beloved and beleaguered invertebrate who scientists say have lost over 95% of their historic populations. \n“The main takeaway from this film is that small actions can have a large impact\, especially when we choose to act together.” says Nelson\, “I hope viewers feel encouraged to create habitat for monarchs and other pollinators in their backyards and to get involved in conservation efforts working to protect these spaces on a larger scale.” \nThe film follows monarchs over the course of a year\, interweaving their life cycle with the human efforts supporting them along their migratory journey. The result is a layered portrayal of the interconnectedness of humans and monarchs that demonstrates our reliance on each other and ways in which humans can help the ecosystems they are part of. \nThe screening will take place Friday\, January 16\, from 5:30-7:30pm and will feature a Q&A with Ian after the 70-minute film has completed. All purchases from tickets sold will benefit monarch conservation\, and Museum Members of all levels will receive a discounted admission price. Tickets can be purchased at the Museum website at: www.pgmuseum.org/events \nUpcoming Events at the Museum: \nJanuary: \nDocumentary Screening: Western Monarch Butterflies: Preserving Our Pollinators\, 1/16\, 5:30-7:30pm \nLiMPETS RIM teacher training: 1/17 \nBird Walk with Amanda Preece: 1/30\, 9am-12pm \nScience Saturday: Migration Celebration! 1/31\, 10am-3pm \nFebruary: \nBook Talk: Amphibians of California\, 2/6\, 5:30-7pm \nAnimal Painting Party\, 2/7\, 10:30am01:30pm \nScience on Tap: Great White Sharks\, 2/12\, 5:30-7:30pm \nScience Saturday: Reptile Revelry\, 2/28\, 10am-3pm \nAbout the Pacific Grove Museum of Natural History \nIn 1883\, the Museum opened its doors among the first wave of natural history museums in America. Naturalists of this era began a national tradition of hands-on science education and nature preservation\, a tradition the Museum has continued for over 140 years. The Museum’s mission is to inspire discovery\, wonder\, and stewardship of our cultural and natural world. The Museum supports conservation\, scientific literacy\, co-curation\, and deep learning towards a resilient community and sustainable future. Their work is made possible\, in part\, by the following generous donors: American Water Charitable Foundation\, City of Pacific Grove\, Community Foundation for Monterey County\, Harden Foundation\, Helen Johnson Endowment Funds\, Monterey Peninsula Foundation\, and Shelby Cullom Davis Charitable Fund. The Museum is open to the public Wednesday-Sunday\, 10am-4pm. For more information visit www.pgmuseum.org.
URL:https://arts4mc.org/event/new-monarch-butterfly-documentary-to-screen-at-pacific-grove-museum/
LOCATION:Pacific Grove Museum of Natural History\, 165 Forest Ave\, Pacific Grove\,\, CA\, 93950
ATTACH;FMTTYPE=image/png:https://arts4mc.org/wp-content/uploads/2026/01/image001-24.png
GEO:36.621836;-121.9172775
X-APPLE-STRUCTURED-LOCATION;VALUE=URI;X-ADDRESS=Pacific Grove Museum of Natural History 165 Forest Ave Pacific Grove CA 93950;X-APPLE-RADIUS=500;X-TITLE=165 Forest Ave:geo:-121.9172775,36.621836
END:VEVENT
END:VCALENDAR