BEGIN:VCALENDAR
VERSION:2.0
PRODID:-//Arts Council for Monterey County - ECPv6.15.14//NONSGML v1.0//EN
CALSCALE:GREGORIAN
METHOD:PUBLISH
X-WR-CALNAME:Arts Council for Monterey County
X-ORIGINAL-URL:https://arts4mc.org
X-WR-CALDESC:Events for Arts Council for Monterey County
REFRESH-INTERVAL;VALUE=DURATION:PT1H
X-Robots-Tag:noindex
X-PUBLISHED-TTL:PT1H
BEGIN:VTIMEZONE
TZID:America/Los_Angeles
BEGIN:DAYLIGHT
TZOFFSETFROM:-0800
TZOFFSETTO:-0700
TZNAME:PDT
DTSTART:20240310T100000
END:DAYLIGHT
BEGIN:STANDARD
TZOFFSETFROM:-0700
TZOFFSETTO:-0800
TZNAME:PST
DTSTART:20241103T090000
END:STANDARD
BEGIN:DAYLIGHT
TZOFFSETFROM:-0800
TZOFFSETTO:-0700
TZNAME:PDT
DTSTART:20250309T100000
END:DAYLIGHT
BEGIN:STANDARD
TZOFFSETFROM:-0700
TZOFFSETTO:-0800
TZNAME:PST
DTSTART:20251102T090000
END:STANDARD
BEGIN:DAYLIGHT
TZOFFSETFROM:-0800
TZOFFSETTO:-0700
TZNAME:PDT
DTSTART:20260308T100000
END:DAYLIGHT
BEGIN:STANDARD
TZOFFSETFROM:-0700
TZOFFSETTO:-0800
TZNAME:PST
DTSTART:20261101T090000
END:STANDARD
END:VTIMEZONE
BEGIN:VEVENT
DTSTART;TZID=America/Los_Angeles:20250917T183000
DTEND;TZID=America/Los_Angeles:20250917T213000
DTSTAMP:20260424T022638
CREATED:20250822T182723Z
LAST-MODIFIED:20250822T182723Z
UID:10001064-1758133800-1758144600@arts4mc.org
SUMMARY:Monterey Symphony presents Love Letter to Paris
DESCRIPTION:Performances at Forest Theater\, Carmel\, Mountain View and Santa Rita Ave. \nThe Monterey Symphony presents Love Letter to Paris September 16 and 17 at 6:30 PM at the outdoor Forest Theater in Carmel. Take a moonlit walk through the music of Paris—past\, present\, and cinematic. \nJoin the Monterey Symphony for our fifth Love Letter concert\, a sparkling celebration of Paris and the unforgettable music it has inspired. From Offenbach’s high-spirited Can Can to Fauré’s lush Pavane and Gershwin’s jazzy An American in Paris\, the evening brims with beauty. \nWe’re thrilled to feature three phenomenal vocalists: Love Letter favorite Malinda DeRouen returns to bring the timeless Édith Piaf classics La Foule and La Vie en rose to life; Bernard Holcomb joins Leberta Lorál for a showstopping Phantom of the Opera duet; and Lorál dazzles in Bizet’s Habanera and Michel Legrand’s I Will Wait for You.  \nYou’ll also hear music from beloved films including Beauty and the Beast\, Ratatouille\, Amélie\, and more! This is your passport to a Parisian dreamscape—romantic\, nostalgic\, and utterly enchanting. Join the Monterey Symphony for a passionate homage to the city that continues to inspire the world’s greatest music and films. \nTICKETS: montereysymphony.org or (831) 646-8511\, $57\, $12 for students\, teachers and military – (general admission) \nAbout the Monterey Symphony: The Monterey Symphony was founded in 1946 and incorporated in 1947. The Symphony’s mission is to entertain and engage our community through musical performance and education. \nwww.montereysymphony.org
URL:https://arts4mc.org/event/monterey-symphony-presents-love-letter-to-paris/2025-09-17/
LOCATION:Outdoor Forest Theater\, Mountain View and Santa Rita\, Carmel-by-the-Sea\, CA\, 93922\, United States
ATTACH;FMTTYPE=image/jpeg:https://arts4mc.org/wp-content/uploads/2025/08/image002-8.jpg
ORGANIZER;CN="Monterey Symphony":MAILTO:info@montereysymphony.org
GEO:36.553094;-121.9173516
X-APPLE-STRUCTURED-LOCATION;VALUE=URI;X-ADDRESS=Outdoor Forest Theater Mountain View and Santa Rita Carmel-by-the-Sea CA 93922 United States;X-APPLE-RADIUS=500;X-TITLE=Mountain View and Santa Rita:geo:-121.9173516,36.553094
END:VEVENT
END:VCALENDAR