BEGIN:VCALENDAR
VERSION:2.0
PRODID:-//Arts Council for Monterey County - ECPv6.15.14//NONSGML v1.0//EN
CALSCALE:GREGORIAN
METHOD:PUBLISH
X-WR-CALNAME:Arts Council for Monterey County
X-ORIGINAL-URL:https://arts4mc.org
X-WR-CALDESC:Events for Arts Council for Monterey County
REFRESH-INTERVAL;VALUE=DURATION:PT1H
X-Robots-Tag:noindex
X-PUBLISHED-TTL:PT1H
BEGIN:VTIMEZONE
TZID:America/Los_Angeles
BEGIN:DAYLIGHT
TZOFFSETFROM:-0800
TZOFFSETTO:-0700
TZNAME:PDT
DTSTART:20240310T100000
END:DAYLIGHT
BEGIN:STANDARD
TZOFFSETFROM:-0700
TZOFFSETTO:-0800
TZNAME:PST
DTSTART:20241103T090000
END:STANDARD
BEGIN:DAYLIGHT
TZOFFSETFROM:-0800
TZOFFSETTO:-0700
TZNAME:PDT
DTSTART:20250309T100000
END:DAYLIGHT
BEGIN:STANDARD
TZOFFSETFROM:-0700
TZOFFSETTO:-0800
TZNAME:PST
DTSTART:20251102T090000
END:STANDARD
BEGIN:DAYLIGHT
TZOFFSETFROM:-0800
TZOFFSETTO:-0700
TZNAME:PDT
DTSTART:20260308T100000
END:DAYLIGHT
BEGIN:STANDARD
TZOFFSETFROM:-0700
TZOFFSETTO:-0800
TZNAME:PST
DTSTART:20261101T090000
END:STANDARD
END:VTIMEZONE
BEGIN:VEVENT
DTSTART;TZID=America/Los_Angeles:20251018T190000
DTEND;TZID=America/Los_Angeles:20251018T213000
DTSTAMP:20260424T160127
CREATED:20250929T162732Z
LAST-MODIFIED:20250929T162732Z
UID:10002497-1760814000-1760823000@arts4mc.org
SUMMARY:Monterey Symphony Opens 80th Season with world premiere of Steven Mackey’s Saxophone concerto featuring Timothy McAllister
DESCRIPTION:Carmel/Monterey CA – Come celebrate the Monterey Symphony’s 80th Anniversary season opening concerts on Saturday\, October 18\, 2025\, at 7:30 PM and Sunday\, October 19\, 2025\, at 3:00 PM with Music Director and conductor Jayce Ogren. \n“We begin our 80th anniversary season with the world premiere of Anemology\, a Monterey Symphony co-commission with the Seattle and Utah symphonies. This brilliant\, colorful\, and intoxicating new work pairs one of the greatest composers of our time\, Steven Mackey\, with one of the most dynamic soloists working today\, saxophonist Timothy McAllister. It’s not to be missed\, nor is Rachmaninoff’s dramatic and tuneful Symphony No. 2\, one of my favorite pieces in the repertoire\,” says Jayce Ogren. \n“McAllister possesses a rare and special virtuosity which I’ve become familiar with through various collaborations over the past 20 years. His playing howls\, grooves\, flutters\, and flows like the wind\,” says Mackey. Mackey worked closely with McAllister during the composition process to explore the saxophone’s range of sounds\, textures\, and extended techniques\, shaping the wind-inspired sound world the composer envisioned. “In Anemology\, the saxophone soloist is the wind\, and the orchestra is the landscape\, topography\, scenery\, etc. that is stirred and animated by its movement\,” says Mackey. \nSATURDAY: \nAll Saturday night patrons are invited to an opening night pre-concert party in the Sunset Center lobby. Guests will be treated to live music\, one complimentary glass of champagne\, and a photobooth. The event is 6:00-7:30 PM and is included with all concert tickets. Additionally\, a pre-concert lecture by Musicologist Christopher Anderson-Bazzoli with guest composer Steve Mackey will be held on Saturday\, 6:30-7:00 PM in the Sunset Center auditorium. \nSUNDAY:\nThe Symphony Lobby Sessions return this season with live music in the lobby from 1:30-1:50 PM. The October Lobby Session features Symphony principal bassoonist Anne Ranzani. Additionally\, a pre-concert lecture by Music Director Jayce Ogren with guest composer Steve Mackey will be held on Sunday\, 2:00-2:30 PM\, in the Sunset Center auditorium. \nTickets are $50 for Tier 3\, $70 for Tier 2\, and $90 for Tier 1 seats. Students\, teachers\, and military tickets are $12. \nAbout the Monterey Symphony: The Monterey Symphony was founded in 1946 and presents double weekend performances during the academic calendar\, opening the season at Forest Theater\, followed by six more programs at the Sunset Center in Carmel-by-the-Sea. For each program\, the Symphony orchestra is comprised of 80 professional musicians from throughout California. The Symphony is committed to bringing people together through orchestral classical music and using the healing powers of music to transform lives. The Symphony actively engages patrons of all ages through a variety of partnerships and initiatives\, including performances for thousands of local school children. Jayce Ogren\, the Symphony’s 12th Music Director\, recently renewed his contract through 2030. The Symphony’s stated mission is to entertain and engage our community through musical performance and education. Monterey Symphony regularly receives national attention for the strength of its audience support\, robust subscription renewals and audience retention. \nPerformances at Sunset Center\, Carmel\, San Carlos and 9th Ave.\nwww.montereysymphony.org \n# # #
URL:https://arts4mc.org/event/monterey-symphony-opens-80th-season-with-world-premiere-of-steven-mackeys-saxophone-concerto-featuring-timothy-mcallister/2025-10-18/
LOCATION:Sunset Center\, San Carlos St at Ninth Ave\, Carmel by the Sea\, CA\, 93921
ATTACH;FMTTYPE=image/jpeg:https://arts4mc.org/wp-content/uploads/2025/09/image001-8.jpg
ORGANIZER;CN="Monterey Symphony":MAILTO:info@montereysymphony.org
GEO:36.5513147;-121.9218091
X-APPLE-STRUCTURED-LOCATION;VALUE=URI;X-ADDRESS=Sunset Center San Carlos St at Ninth Ave Carmel by the Sea CA 93921;X-APPLE-RADIUS=500;X-TITLE=San Carlos St at Ninth Ave:geo:-121.9218091,36.5513147
END:VEVENT
END:VCALENDAR