BEGIN:VCALENDAR
VERSION:2.0
PRODID:-//Arts Council for Monterey County - ECPv6.15.14//NONSGML v1.0//EN
CALSCALE:GREGORIAN
METHOD:PUBLISH
X-WR-CALNAME:Arts Council for Monterey County
X-ORIGINAL-URL:https://arts4mc.org
X-WR-CALDESC:Events for Arts Council for Monterey County
REFRESH-INTERVAL;VALUE=DURATION:PT1H
X-Robots-Tag:noindex
X-PUBLISHED-TTL:PT1H
BEGIN:VTIMEZONE
TZID:America/Los_Angeles
BEGIN:DAYLIGHT
TZOFFSETFROM:-0800
TZOFFSETTO:-0700
TZNAME:PDT
DTSTART:20230312T100000
END:DAYLIGHT
BEGIN:STANDARD
TZOFFSETFROM:-0700
TZOFFSETTO:-0800
TZNAME:PST
DTSTART:20231105T090000
END:STANDARD
BEGIN:DAYLIGHT
TZOFFSETFROM:-0800
TZOFFSETTO:-0700
TZNAME:PDT
DTSTART:20240310T100000
END:DAYLIGHT
BEGIN:STANDARD
TZOFFSETFROM:-0700
TZOFFSETTO:-0800
TZNAME:PST
DTSTART:20241103T090000
END:STANDARD
BEGIN:DAYLIGHT
TZOFFSETFROM:-0800
TZOFFSETTO:-0700
TZNAME:PDT
DTSTART:20250309T100000
END:DAYLIGHT
BEGIN:STANDARD
TZOFFSETFROM:-0700
TZOFFSETTO:-0800
TZNAME:PST
DTSTART:20251102T090000
END:STANDARD
END:VTIMEZONE
BEGIN:VEVENT
DTSTART;TZID=America/Los_Angeles:20240421T150000
DTEND;TZID=America/Los_Angeles:20240421T170000
DTSTAMP:20260421T101716
CREATED:20230701T054946Z
LAST-MODIFIED:20230701T054946Z
UID:10000170-1713711600-1713718800@arts4mc.org
SUMMARY:Monterey Symphony LOMA PRIETA Concert
DESCRIPTION:Jayce Ogren\, Music Director and Conductor \nSean Panikkar\, tenor\nDan Nebel\, horn \n*********TICKETS ON SALE AUGUST 1\, 2023********* \nTICKETS: $45-$88\nSTUDENTS\, TEACHERS\, ACTIVE DUTY MILITARY: $12 \nPROGRAM:\nAdolphus HAILSTORK Epitaph to a Man Who Dreamed [Running Time 7′] \nBRITTEN Serenade for Tenor\, Horn and Strings [25′]\nSean Panikkar\, tenor\nDan Nebel\, horn \n—intermission [20′]— \nArvo PÄRT Cantus in Memory of Benjamin Britten [6′] \nVAUGHAN WILLIAMS Symphony No. 3\, Pastoral [34′]
URL:https://arts4mc.org/event/monterey-symphony-loma-prieta-concert/2024-04-21/
LOCATION:Sunset Center\, San Carlos St at Ninth Ave\, Carmel by the Sea\, CA\, 93921
ATTACH;FMTTYPE=image/jpeg:https://arts4mc.org/wp-content/uploads/2023/06/MSO-2023_24-SEASON-800X800-APR.jpg
ORGANIZER;CN="Monterey Symphony":MAILTO:info@montereysymphony.org
GEO:36.5513147;-121.9218091
X-APPLE-STRUCTURED-LOCATION;VALUE=URI;X-ADDRESS=Sunset Center San Carlos St at Ninth Ave Carmel by the Sea CA 93921;X-APPLE-RADIUS=500;X-TITLE=San Carlos St at Ninth Ave:geo:-121.9218091,36.5513147
END:VEVENT
END:VCALENDAR