BEGIN:VCALENDAR
VERSION:2.0
PRODID:-//Arts Council for Monterey County - ECPv6.15.14//NONSGML v1.0//EN
CALSCALE:GREGORIAN
METHOD:PUBLISH
X-WR-CALNAME:Arts Council for Monterey County
X-ORIGINAL-URL:https://arts4mc.org
X-WR-CALDESC:Events for Arts Council for Monterey County
REFRESH-INTERVAL;VALUE=DURATION:PT1H
X-Robots-Tag:noindex
X-PUBLISHED-TTL:PT1H
BEGIN:VTIMEZONE
TZID:America/Los_Angeles
BEGIN:DAYLIGHT
TZOFFSETFROM:-0800
TZOFFSETTO:-0700
TZNAME:PDT
DTSTART:20220313T100000
END:DAYLIGHT
BEGIN:STANDARD
TZOFFSETFROM:-0700
TZOFFSETTO:-0800
TZNAME:PST
DTSTART:20221106T090000
END:STANDARD
BEGIN:DAYLIGHT
TZOFFSETFROM:-0800
TZOFFSETTO:-0700
TZNAME:PDT
DTSTART:20230312T100000
END:DAYLIGHT
BEGIN:STANDARD
TZOFFSETFROM:-0700
TZOFFSETTO:-0800
TZNAME:PST
DTSTART:20231105T090000
END:STANDARD
BEGIN:DAYLIGHT
TZOFFSETFROM:-0800
TZOFFSETTO:-0700
TZNAME:PDT
DTSTART:20240310T100000
END:DAYLIGHT
BEGIN:STANDARD
TZOFFSETFROM:-0700
TZOFFSETTO:-0800
TZNAME:PST
DTSTART:20241103T090000
END:STANDARD
END:VTIMEZONE
BEGIN:VEVENT
DTSTART;TZID=America/Los_Angeles:20230415T190000
DTEND;TZID=America/Los_Angeles:20230415T210000
DTSTAMP:20260424T033746
CREATED:20230313T192925Z
LAST-MODIFIED:20230313T192925Z
UID:20924-1681585200-1681592400@arts4mc.org
SUMMARY:Monterey Museum of Art's Dance Party
DESCRIPTION:Join us for a night of music\, dance\, art themed activities\, museum tours\, and local art/food/beverage vendors! An evening continuation of MMA’s Block Party arts festival\, the Dance Party will take over the outdoor sculpture garden amidst an art installation transformed by light.
URL:https://arts4mc.org/event/monterey-museum-of-arts-dance-party/
LOCATION:Monterey Museum of Art\, 559 Pacific Street\, Monterey\, CA 93940\, 559 Pacific Street\, Monterey\, 93940
ATTACH;FMTTYPE=image/jpeg:https://arts4mc.org/wp-content/uploads/2023/03/MMA-Dance-Party-1.jpg
ORGANIZER;CN="Monterey Museum of Art":MAILTO:info@montereyart.org
GEO:36.5974996;-121.8966197
X-APPLE-STRUCTURED-LOCATION;VALUE=URI;X-ADDRESS=Monterey Museum of Art 559 Pacific Street Monterey CA 93940 559 Pacific Street Monterey 93940;X-APPLE-RADIUS=500;X-TITLE=559 Pacific Street:geo:-121.8966197,36.5974996
END:VEVENT
END:VCALENDAR