BEGIN:VCALENDAR
VERSION:2.0
PRODID:-//Arts Council for Monterey County - ECPv6.15.14//NONSGML v1.0//EN
CALSCALE:GREGORIAN
METHOD:PUBLISH
X-WR-CALNAME:Arts Council for Monterey County
X-ORIGINAL-URL:https://arts4mc.org
X-WR-CALDESC:Events for Arts Council for Monterey County
REFRESH-INTERVAL;VALUE=DURATION:PT1H
X-Robots-Tag:noindex
X-PUBLISHED-TTL:PT1H
BEGIN:VTIMEZONE
TZID:America/Los_Angeles
BEGIN:DAYLIGHT
TZOFFSETFROM:-0800
TZOFFSETTO:-0700
TZNAME:PDT
DTSTART:20220313T100000
END:DAYLIGHT
BEGIN:STANDARD
TZOFFSETFROM:-0700
TZOFFSETTO:-0800
TZNAME:PST
DTSTART:20221106T090000
END:STANDARD
BEGIN:DAYLIGHT
TZOFFSETFROM:-0800
TZOFFSETTO:-0700
TZNAME:PDT
DTSTART:20230312T100000
END:DAYLIGHT
BEGIN:STANDARD
TZOFFSETFROM:-0700
TZOFFSETTO:-0800
TZNAME:PST
DTSTART:20231105T090000
END:STANDARD
BEGIN:DAYLIGHT
TZOFFSETFROM:-0800
TZOFFSETTO:-0700
TZNAME:PDT
DTSTART:20240310T100000
END:DAYLIGHT
BEGIN:STANDARD
TZOFFSETFROM:-0700
TZOFFSETTO:-0800
TZNAME:PST
DTSTART:20241103T090000
END:STANDARD
END:VTIMEZONE
BEGIN:VEVENT
DTSTART;TZID=America/Los_Angeles:20230407T170000
DTEND;TZID=America/Los_Angeles:20230407T190000
DTSTAMP:20260424T091102
CREATED:20230307T213013Z
LAST-MODIFIED:20230307T213013Z
UID:20764-1680886800-1680894000@arts4mc.org
SUMMARY:Monterey Museum of Art - First Friday
DESCRIPTION:Enjoy FREE after-hours access to the Museum on the First Friday of the month. Our galleries will be open late for an evening of art\, music\, and community gathering!
URL:https://arts4mc.org/event/monterey-museum-of-art-first-friday/
LOCATION:Monterey Museum of Art\, 559 Pacific Street\, Monterey\, CA\, 93940\, United States
ATTACH;FMTTYPE=image/png:https://arts4mc.org/wp-content/uploads/2023/03/First-Friday-MMA.png
GEO:36.5975044;-121.8965937
X-APPLE-STRUCTURED-LOCATION;VALUE=URI;X-ADDRESS=Monterey Museum of Art 559 Pacific Street Monterey CA 93940 United States;X-APPLE-RADIUS=500;X-TITLE=559 Pacific Street:geo:-121.8965937,36.5975044
END:VEVENT
END:VCALENDAR