BEGIN:VCALENDAR
VERSION:2.0
PRODID:-//Arts Council for Monterey County - ECPv6.15.14//NONSGML v1.0//EN
CALSCALE:GREGORIAN
METHOD:PUBLISH
X-WR-CALNAME:Arts Council for Monterey County
X-ORIGINAL-URL:https://arts4mc.org
X-WR-CALDESC:Events for Arts Council for Monterey County
REFRESH-INTERVAL;VALUE=DURATION:PT1H
X-Robots-Tag:noindex
X-PUBLISHED-TTL:PT1H
BEGIN:VTIMEZONE
TZID:America/Los_Angeles
BEGIN:DAYLIGHT
TZOFFSETFROM:-0800
TZOFFSETTO:-0700
TZNAME:PDT
DTSTART:20220313T100000
END:DAYLIGHT
BEGIN:STANDARD
TZOFFSETFROM:-0700
TZOFFSETTO:-0800
TZNAME:PST
DTSTART:20221106T090000
END:STANDARD
BEGIN:DAYLIGHT
TZOFFSETFROM:-0800
TZOFFSETTO:-0700
TZNAME:PDT
DTSTART:20230312T100000
END:DAYLIGHT
BEGIN:STANDARD
TZOFFSETFROM:-0700
TZOFFSETTO:-0800
TZNAME:PST
DTSTART:20231105T090000
END:STANDARD
BEGIN:DAYLIGHT
TZOFFSETFROM:-0800
TZOFFSETTO:-0700
TZNAME:PDT
DTSTART:20240310T100000
END:DAYLIGHT
BEGIN:STANDARD
TZOFFSETFROM:-0700
TZOFFSETTO:-0800
TZNAME:PST
DTSTART:20241103T090000
END:STANDARD
END:VTIMEZONE
BEGIN:VEVENT
DTSTART;TZID=America/Los_Angeles:20231111T183000
DTEND;TZID=America/Los_Angeles:20231111T210000
DTSTAMP:20260422T053012
CREATED:20230719T162253Z
LAST-MODIFIED:20230719T162253Z
UID:22247-1699727400-1699736400@arts4mc.org
SUMMARY:Manhattan Chamber Players
DESCRIPTION:Pre-concert talk at 6:30 pm. The program features works by Mozart\, Shostakovich and a world-premiere composition by Andrea Casarrubios. \nFULL DESCRIPTION \nProgram: \nWolfgang Amadeus Mozart Piano Quartet No. 1 in G Minor\, K.478\nAndrea Casarrubios Piano Quintet (CMMB commission)\nDmitri Shostakovich Piano Quintet in G Minor\, op. 57 \nArtistic Director and violist Luke Fleming formed Manhattan Chamber Players. This collective of players came together to share their love of chamber music. All the members have their own impressive careers – as soloists\, members of professional string quartets\, piano trios\, or other chamber groups\, and even two world-renowned composers. This group brings the flexibility to perform practically anything in the rich string/wind/piano chamber repertoire. \n As a guest soloist at the Auditorio Nacional in Madrid\, Ms. Casarrubios performed her Concerto for Cello and Orchestra\, MIRAGE (2019).  SEVEN (2020) for solo cello\, “a searching\, intense\, and elegiac tribute to the essential workers during the pandemic” (The New York Times)\, was commissioned by cellist Thomas Mesa and has been performed worldwide. Ms. Casarrubios’ compositions have been presented by organizations such as the Philadelphia Orchestra\, the Chicago Symphony Orchestra\, the Indianapolis Symphony Orchestra\, Carnegie Hall\, Washington Performing Arts\, World Heritage Festival\, Sphinx Organization\, Trio Appassionata\, the Manhattan Chamber Players\, Decoda\, Ensemble Connect\, Astral Artists\, NPR\, Canada’s CKIA\, and the Spanish National Radio RNE. \nTickets are available on our website using the link below or by calling our friendly office at 831-625-2212. Discounts are available for military\, students\, and families.
URL:https://arts4mc.org/event/manhattan-chamber-players/
LOCATION:Sunset Center\, San Carlos St at Ninth Ave\, Carmel by the Sea\, CA\, 93921
ATTACH;FMTTYPE=image/jpeg:https://arts4mc.org/wp-content/uploads/2023/07/MCP-walking-pic.jpeg
ORGANIZER;CN="Chamber Music Monterey Bay":MAILTO:info@chambermusicmontereybay.org
GEO:36.5513147;-121.9218091
X-APPLE-STRUCTURED-LOCATION;VALUE=URI;X-ADDRESS=Sunset Center San Carlos St at Ninth Ave Carmel by the Sea CA 93921;X-APPLE-RADIUS=500;X-TITLE=San Carlos St at Ninth Ave:geo:-121.9218091,36.5513147
END:VEVENT
END:VCALENDAR