BEGIN:VCALENDAR
VERSION:2.0
PRODID:-//Arts Council for Monterey County - ECPv6.15.14//NONSGML v1.0//EN
CALSCALE:GREGORIAN
METHOD:PUBLISH
X-WR-CALNAME:Arts Council for Monterey County
X-ORIGINAL-URL:https://arts4mc.org
X-WR-CALDESC:Events for Arts Council for Monterey County
REFRESH-INTERVAL;VALUE=DURATION:PT1H
X-Robots-Tag:noindex
X-PUBLISHED-TTL:PT1H
BEGIN:VTIMEZONE
TZID:America/Los_Angeles
BEGIN:DAYLIGHT
TZOFFSETFROM:-0800
TZOFFSETTO:-0700
TZNAME:PDT
DTSTART:20220313T100000
END:DAYLIGHT
BEGIN:STANDARD
TZOFFSETFROM:-0700
TZOFFSETTO:-0800
TZNAME:PST
DTSTART:20221106T090000
END:STANDARD
BEGIN:DAYLIGHT
TZOFFSETFROM:-0800
TZOFFSETTO:-0700
TZNAME:PDT
DTSTART:20230312T100000
END:DAYLIGHT
BEGIN:STANDARD
TZOFFSETFROM:-0700
TZOFFSETTO:-0800
TZNAME:PST
DTSTART:20231105T090000
END:STANDARD
BEGIN:DAYLIGHT
TZOFFSETFROM:-0800
TZOFFSETTO:-0700
TZNAME:PDT
DTSTART:20240310T100000
END:DAYLIGHT
BEGIN:STANDARD
TZOFFSETFROM:-0700
TZOFFSETTO:-0800
TZNAME:PST
DTSTART:20241103T090000
END:STANDARD
END:VTIMEZONE
BEGIN:VEVENT
DTSTART;TZID=America/Los_Angeles:20231026T080000
DTEND;TZID=America/Los_Angeles:20231026T170000
DTSTAMP:20260421T115843
CREATED:20231026T230815Z
LAST-MODIFIED:20231026T230815Z
UID:10000320-1698307200-1698339600@arts4mc.org
SUMMARY:Man of La Mancha
DESCRIPTION:Come and hear the glorious adventures of a dauntless knight known as Don Quixote de La Mancha! \nNov 9\, 10\, 11\, 16\, 17\, 18 @ 7pm\nSand City Art Park \nVisit enchantrix.net/lamancha for tickets \nThurs night “pay what you can”\nFri/Sat tix $20
URL:https://arts4mc.org/event/man-of-la-mancha/2023-10-26/
LOCATION:sand city art park\, 525 Ortiz Ave\, Sand City\, CA\, 93955\, United States
ATTACH;FMTTYPE=image/png:https://arts4mc.org/wp-content/uploads/2023/10/image0.png
GEO:36.6124663;-121.8516949
X-APPLE-STRUCTURED-LOCATION;VALUE=URI;X-ADDRESS=sand city art park 525 Ortiz Ave Sand City CA 93955 United States;X-APPLE-RADIUS=500;X-TITLE=525 Ortiz Ave:geo:-121.8516949,36.6124663
END:VEVENT
END:VCALENDAR