BEGIN:VCALENDAR
VERSION:2.0
PRODID:-//Arts Council for Monterey County - ECPv6.15.14//NONSGML v1.0//EN
CALSCALE:GREGORIAN
METHOD:PUBLISH
X-WR-CALNAME:Arts Council for Monterey County
X-ORIGINAL-URL:https://arts4mc.org
X-WR-CALDESC:Events for Arts Council for Monterey County
REFRESH-INTERVAL;VALUE=DURATION:PT1H
X-Robots-Tag:noindex
X-PUBLISHED-TTL:PT1H
BEGIN:VTIMEZONE
TZID:America/Los_Angeles
BEGIN:DAYLIGHT
TZOFFSETFROM:-0800
TZOFFSETTO:-0700
TZNAME:PDT
DTSTART:20220313T100000
END:DAYLIGHT
BEGIN:STANDARD
TZOFFSETFROM:-0700
TZOFFSETTO:-0800
TZNAME:PST
DTSTART:20221106T090000
END:STANDARD
BEGIN:DAYLIGHT
TZOFFSETFROM:-0800
TZOFFSETTO:-0700
TZNAME:PDT
DTSTART:20230312T100000
END:DAYLIGHT
BEGIN:STANDARD
TZOFFSETFROM:-0700
TZOFFSETTO:-0800
TZNAME:PST
DTSTART:20231105T090000
END:STANDARD
BEGIN:DAYLIGHT
TZOFFSETFROM:-0800
TZOFFSETTO:-0700
TZNAME:PDT
DTSTART:20240310T100000
END:DAYLIGHT
BEGIN:STANDARD
TZOFFSETFROM:-0700
TZOFFSETTO:-0800
TZNAME:PST
DTSTART:20241103T090000
END:STANDARD
END:VTIMEZONE
BEGIN:VEVENT
DTSTART;TZID=America/Los_Angeles:20231205T130000
DTEND;TZID=America/Los_Angeles:20231205T150000
DTSTAMP:20260425T101643
CREATED:20230323T191814Z
LAST-MODIFIED:20230323T191814Z
UID:10000035-1701781200-1701788400@arts4mc.org
SUMMARY:Jazz Uplifts! Concert
DESCRIPTION:Concert with Sammy Miller at Sherwood Hall\, Salinas.
URL:https://arts4mc.org/event/jazz-uplifts-concert/2023-12-05/2/
LOCATION:Sherwood Hall\, Salinas\, 940 N. Main St.\, Salinas\, 93906
GEO:36.6915929;-121.6513043
X-APPLE-STRUCTURED-LOCATION;VALUE=URI;X-ADDRESS=Sherwood Hall Salinas 940 N. Main St. Salinas 93906;X-APPLE-RADIUS=500;X-TITLE=940 N. Main St.:geo:-121.6513043,36.6915929
END:VEVENT
END:VCALENDAR