BEGIN:VCALENDAR
VERSION:2.0
PRODID:-//Arts Council for Monterey County - ECPv6.15.14//NONSGML v1.0//EN
CALSCALE:GREGORIAN
METHOD:PUBLISH
X-WR-CALNAME:Arts Council for Monterey County
X-ORIGINAL-URL:https://arts4mc.org
X-WR-CALDESC:Events for Arts Council for Monterey County
REFRESH-INTERVAL;VALUE=DURATION:PT1H
X-Robots-Tag:noindex
X-PUBLISHED-TTL:PT1H
BEGIN:VTIMEZONE
TZID:America/Los_Angeles
BEGIN:DAYLIGHT
TZOFFSETFROM:-0800
TZOFFSETTO:-0700
TZNAME:PDT
DTSTART:20220313T100000
END:DAYLIGHT
BEGIN:STANDARD
TZOFFSETFROM:-0700
TZOFFSETTO:-0800
TZNAME:PST
DTSTART:20221106T090000
END:STANDARD
BEGIN:DAYLIGHT
TZOFFSETFROM:-0800
TZOFFSETTO:-0700
TZNAME:PDT
DTSTART:20230312T100000
END:DAYLIGHT
BEGIN:STANDARD
TZOFFSETFROM:-0700
TZOFFSETTO:-0800
TZNAME:PST
DTSTART:20231105T090000
END:STANDARD
BEGIN:DAYLIGHT
TZOFFSETFROM:-0800
TZOFFSETTO:-0700
TZNAME:PDT
DTSTART:20240310T100000
END:DAYLIGHT
BEGIN:STANDARD
TZOFFSETFROM:-0700
TZOFFSETTO:-0800
TZNAME:PST
DTSTART:20241103T090000
END:STANDARD
END:VTIMEZONE
BEGIN:VEVENT
DTSTART;TZID=America/Los_Angeles:20231210T100000
DTEND;TZID=America/Los_Angeles:20231210T140000
DTSTAMP:20260424T163742
CREATED:20231025T172657Z
LAST-MODIFIED:20231025T172657Z
UID:23202-1702202400-1702216800@arts4mc.org
SUMMARY:Illustrating Insects-Butterflies\, Moths\, & some Creepy Crawlers!
DESCRIPTION:Butterflies\, moths\, and other insects are incredibly important pollinators for our ecosystems. Using real-life insect specimens\, students will use science illustration techniques to create accurate illustrations of butterflies\, moths\, and other insects!  \n We will focus on scientific accuracy\, attention to detail\, and color matching. We will use graphite\, ink\, colored pencils\, and watercolor to create our insect illustrations. \n Each student will take home several sketches and illustrations of their own making!  \n For all skill levels.
URL:https://arts4mc.org/event/illustrating-insects-butterflies-moths-some-creepy-crawlers/
LOCATION:Lyceum of Monterey County\, 1073 Sixth Street\, Monterey\, CA\, 93940\, United States
ATTACH;FMTTYPE=image/jpeg:https://arts4mc.org/wp-content/uploads/2023/10/Rosy_Maple_Moth_KBurroughs.jpg
ORGANIZER;CN="Lyceum of Monterey County":MAILTO:info@lyceum.org
GEO:36.5957003;-121.8815682
X-APPLE-STRUCTURED-LOCATION;VALUE=URI;X-ADDRESS=Lyceum of Monterey County 1073 Sixth Street Monterey CA 93940 United States;X-APPLE-RADIUS=500;X-TITLE=1073 Sixth Street:geo:-121.8815682,36.5957003
END:VEVENT
END:VCALENDAR