BEGIN:VCALENDAR
VERSION:2.0
PRODID:-//Arts Council for Monterey County - ECPv6.15.14//NONSGML v1.0//EN
CALSCALE:GREGORIAN
METHOD:PUBLISH
X-WR-CALNAME:Arts Council for Monterey County
X-ORIGINAL-URL:https://arts4mc.org
X-WR-CALDESC:Events for Arts Council for Monterey County
REFRESH-INTERVAL;VALUE=DURATION:PT1H
X-Robots-Tag:noindex
X-PUBLISHED-TTL:PT1H
BEGIN:VTIMEZONE
TZID:America/Los_Angeles
BEGIN:DAYLIGHT
TZOFFSETFROM:-0800
TZOFFSETTO:-0700
TZNAME:PDT
DTSTART:20230312T100000
END:DAYLIGHT
BEGIN:STANDARD
TZOFFSETFROM:-0700
TZOFFSETTO:-0800
TZNAME:PST
DTSTART:20231105T090000
END:STANDARD
BEGIN:DAYLIGHT
TZOFFSETFROM:-0800
TZOFFSETTO:-0700
TZNAME:PDT
DTSTART:20240310T100000
END:DAYLIGHT
BEGIN:STANDARD
TZOFFSETFROM:-0700
TZOFFSETTO:-0800
TZNAME:PST
DTSTART:20241103T090000
END:STANDARD
BEGIN:DAYLIGHT
TZOFFSETFROM:-0800
TZOFFSETTO:-0700
TZNAME:PDT
DTSTART:20250309T100000
END:DAYLIGHT
BEGIN:STANDARD
TZOFFSETFROM:-0700
TZOFFSETTO:-0800
TZNAME:PST
DTSTART:20251102T090000
END:STANDARD
END:VTIMEZONE
BEGIN:VEVENT
DTSTART;TZID=America/Los_Angeles:20241214T100000
DTEND;TZID=America/Los_Angeles:20241214T140000
DTSTAMP:20260423T042808
CREATED:20241105T185356Z
LAST-MODIFIED:20241105T185356Z
UID:45197-1734170400-1734184800@arts4mc.org
SUMMARY:Holiday Hand Lettering and Botanicals
DESCRIPTION:In this workshop you will learn to create beautiful and legible letters and words with a botanical twist. Learn typographic fundamentals while experimenting with a variety of different lettering styles and media\, incorporating seasonal botanical elements to illustrate and decorate. Participants will create a project of their choosing: personalized cards\, gift tags\, or artwork to frame and gift for the holiday season or anytime.
URL:https://arts4mc.org/event/holiday-hand-lettering-and-botanicals/
LOCATION:Lyceum of Monterey County\, 1073 Sixth Street\, Monterey\, CA\, 93940\, United States
ATTACH;FMTTYPE=image/jpeg:https://arts4mc.org/wp-content/uploads/2024/11/Brown-and-Cream-Modern-Collective-Instagram-Post.jpg
ORGANIZER;CN="Lyceum of Monterey County":MAILTO:info@lyceum.org
GEO:36.5957003;-121.8815682
X-APPLE-STRUCTURED-LOCATION;VALUE=URI;X-ADDRESS=Lyceum of Monterey County 1073 Sixth Street Monterey CA 93940 United States;X-APPLE-RADIUS=500;X-TITLE=1073 Sixth Street:geo:-121.8815682,36.5957003
END:VEVENT
END:VCALENDAR