BEGIN:VCALENDAR
VERSION:2.0
PRODID:-//Arts Council for Monterey County - ECPv6.15.14//NONSGML v1.0//EN
CALSCALE:GREGORIAN
METHOD:PUBLISH
X-WR-CALNAME:Arts Council for Monterey County
X-ORIGINAL-URL:https://arts4mc.org
X-WR-CALDESC:Events for Arts Council for Monterey County
REFRESH-INTERVAL;VALUE=DURATION:PT1H
X-Robots-Tag:noindex
X-PUBLISHED-TTL:PT1H
BEGIN:VTIMEZONE
TZID:America/Los_Angeles
BEGIN:DAYLIGHT
TZOFFSETFROM:-0800
TZOFFSETTO:-0700
TZNAME:PDT
DTSTART:20230312T100000
END:DAYLIGHT
BEGIN:STANDARD
TZOFFSETFROM:-0700
TZOFFSETTO:-0800
TZNAME:PST
DTSTART:20231105T090000
END:STANDARD
BEGIN:DAYLIGHT
TZOFFSETFROM:-0800
TZOFFSETTO:-0700
TZNAME:PDT
DTSTART:20240310T100000
END:DAYLIGHT
BEGIN:STANDARD
TZOFFSETFROM:-0700
TZOFFSETTO:-0800
TZNAME:PST
DTSTART:20241103T090000
END:STANDARD
BEGIN:DAYLIGHT
TZOFFSETFROM:-0800
TZOFFSETTO:-0700
TZNAME:PDT
DTSTART:20250309T100000
END:DAYLIGHT
BEGIN:STANDARD
TZOFFSETFROM:-0700
TZOFFSETTO:-0800
TZNAME:PST
DTSTART:20251102T090000
END:STANDARD
END:VTIMEZONE
BEGIN:VEVENT
DTSTART;TZID=America/Los_Angeles:20241005T100000
DTEND;TZID=America/Los_Angeles:20241006T170000
DTSTAMP:20260421T120740
CREATED:20240828T210613Z
LAST-MODIFIED:20240828T210613Z
UID:37065-1728122400-1728234000@arts4mc.org
SUMMARY:Harvest Festival Discover San Juan Bautista
DESCRIPTION:Join us on October 5-6 from 10 AM to 5 PM each day for the Harvest Festival hosted by Discover San Juan Bautista! Immerse yourself in the vibrant celebration of the harvest season in the charming town of San Juan Bautista\, California.\n\nExperience live music performances\, traditional dance showcases\, artisanal craft vendors\, delicious food and drinks\, interactive workshops\, guided tours of historical sites\, and much more throughout the weekend. Be sure to visit the farmers’ market to sample fresh local produce and artisanal goods.\n\nSponsored by Discover San Juan Bautista\, this event is a celebration of the town’s cultural and historical heritage. Don’t miss the opportunity to join us for a weekend filled with fun and entertainment for the whole family!\n\nMark your calendars and get ready to celebrate the harvest season at the Harvest Festival Discover San Juan Bautista. Stay tuned for more details and updates on our website and social media channels. We can’t wait to see you there!
URL:https://arts4mc.org/event/harvest-festival-discover-san-juan-bautista/
LOCATION:Downtown San Juan Bautista\, 3rd St\, San Juan Bautista\,\, 95045
ATTACH;FMTTYPE=image/jpeg:https://arts4mc.org/wp-content/uploads/2024/08/Harvest-Festival-Discover-San-Juan-Bautista.jpg
END:VEVENT
END:VCALENDAR