BEGIN:VCALENDAR
VERSION:2.0
PRODID:-//Arts Council for Monterey County - ECPv6.15.14//NONSGML v1.0//EN
CALSCALE:GREGORIAN
METHOD:PUBLISH
X-WR-CALNAME:Arts Council for Monterey County
X-ORIGINAL-URL:https://arts4mc.org
X-WR-CALDESC:Events for Arts Council for Monterey County
REFRESH-INTERVAL;VALUE=DURATION:PT1H
X-Robots-Tag:noindex
X-PUBLISHED-TTL:PT1H
BEGIN:VTIMEZONE
TZID:America/Los_Angeles
BEGIN:DAYLIGHT
TZOFFSETFROM:-0800
TZOFFSETTO:-0700
TZNAME:PDT
DTSTART:20220313T100000
END:DAYLIGHT
BEGIN:STANDARD
TZOFFSETFROM:-0700
TZOFFSETTO:-0800
TZNAME:PST
DTSTART:20221106T090000
END:STANDARD
BEGIN:DAYLIGHT
TZOFFSETFROM:-0800
TZOFFSETTO:-0700
TZNAME:PDT
DTSTART:20230312T100000
END:DAYLIGHT
BEGIN:STANDARD
TZOFFSETFROM:-0700
TZOFFSETTO:-0800
TZNAME:PST
DTSTART:20231105T090000
END:STANDARD
BEGIN:DAYLIGHT
TZOFFSETFROM:-0800
TZOFFSETTO:-0700
TZNAME:PDT
DTSTART:20240310T100000
END:DAYLIGHT
BEGIN:STANDARD
TZOFFSETFROM:-0700
TZOFFSETTO:-0800
TZNAME:PST
DTSTART:20241103T090000
END:STANDARD
END:VTIMEZONE
BEGIN:VEVENT
DTSTART;TZID=America/Los_Angeles:20230707T150000
DTEND;TZID=America/Los_Angeles:20230707T170000
DTSTAMP:20260425T044537
CREATED:20230623T044641Z
LAST-MODIFIED:20230623T044641Z
UID:21944-1688742000-1688749200@arts4mc.org
SUMMARY:Guitar Lessons
DESCRIPTION:Join our guitar instructor\, Felix Miranda and learn or expand your guitar-playing skills!  \nThis class is 8 weeks long for both beginners and intermediate levels.  \nEvery Friday\, starting July 7th from 3-5 pm.  \nThe class registration fee is $60/ participant.
URL:https://arts4mc.org/event/guitar-lessons/
LOCATION:Sol Treasures\, 519 Broadway Street\, King City\, CA\, 93930\, United States
ATTACH;FMTTYPE=image/jpeg:https://arts4mc.org/wp-content/uploads/2023/06/Guitar-Lessons-Eng.jpg
ORGANIZER;CN="Sol Treasures":MAILTO:celebrate@soltreasures.com
GEO:36.2108245;-121.1296099
X-APPLE-STRUCTURED-LOCATION;VALUE=URI;X-ADDRESS=Sol Treasures 519 Broadway Street King City CA 93930 United States;X-APPLE-RADIUS=500;X-TITLE=519 Broadway Street:geo:-121.1296099,36.2108245
END:VEVENT
END:VCALENDAR